<VRTDataset rasterXSize="7505" rasterYSize="4700">
  <SRS dataAxisToSRSAxisMapping="1,2">PROJCS["ETRS89 / UTM zone 30N",GEOGCS["ETRS89",DATUM["European_Terrestrial_Reference_System_1989",SPHEROID["GRS 1980",6378137,298.257222101,AUTHORITY["EPSG","7019"]],AUTHORITY["EPSG","6258"]],PRIMEM["Greenwich",0,AUTHORITY["EPSG","8901"]],UNIT["degree",0.0174532925199433,AUTHORITY["EPSG","9122"]],AUTHORITY["EPSG","4258"]],PROJECTION["Transverse_Mercator"],PARAMETER["latitude_of_origin",0],PARAMETER["central_meridian",-3],PARAMETER["scale_factor",0.9996],PARAMETER["false_easting",500000],PARAMETER["false_northing",0],UNIT["metre",1,AUTHORITY["EPSG","9001"]],AXIS["Easting",EAST],AXIS["Northing",NORTH],AUTHORITY["EPSG","25830"]]</SRS>
  <GeoTransform>  4.6833000000000000e+05,  2.0000000000000000e+00,  0.0000000000000000e+00,  4.0765000000000000e+06,  0.0000000000000000e+00, -2.0000000000000000e+00</GeoTransform>
  <Metadata>
    <MDI key="AREA_OR_POINT">Point</MDI>
  </Metadata>
  <Metadata domain="IMAGE_STRUCTURE">
    <MDI key="COMPRESSION">DEFLATE</MDI>
    <MDI key="INTERLEAVE">BAND</MDI>
  </Metadata>
  <VRTRasterBand dataType="Byte" band="1" blockXSize="512" blockYSize="512">
    <NoDataValue>0</NoDataValue>
    <ColorInterp>Gray</ColorInterp>
    <ComplexSource>
      <SourceFilename relativeToVRT="0">/mnt/data/srv/carto_private/08_TEST/rod/cartoRod/MDT02-ETRS89-HU30-1056-2-COB2.tif</SourceFilename>
      <SourceBand>1</SourceBand>
      <SourceProperties RasterXSize="7505" RasterYSize="4700" DataType="Float32" BlockXSize="512" BlockYSize="512" />
      <SrcRect xOff="0" yOff="0" xSize="7505" ySize="4700" />
      <DstRect xOff="0" yOff="0" xSize="7505" ySize="4700" />
      <NODATA>-32767</NODATA>
      <ScaleOffset>0</ScaleOffset>
      <ScaleRatio>0.1658</ScaleRatio>
    </ComplexSource>
  </VRTRasterBand>
</VRTDataset>
