<VRTDataset rasterXSize="16863" rasterYSize="16887">
  <SRS dataAxisToSRSAxisMapping="1,2">PROJCS["WGS 84 / Pseudo-Mercator",GEOGCS["WGS 84",DATUM["WGS_1984",SPHEROID["WGS 84",6378137,298.257223563,AUTHORITY["EPSG","7030"]],AUTHORITY["EPSG","6326"]],PRIMEM["Greenwich",0,AUTHORITY["EPSG","8901"]],UNIT["degree",0.0174532925199433,AUTHORITY["EPSG","9122"]],AUTHORITY["EPSG","4326"]],PROJECTION["Mercator_1SP"],PARAMETER["central_meridian",0],PARAMETER["scale_factor",1],PARAMETER["false_easting",0],PARAMETER["false_northing",0],UNIT["metre",1,AUTHORITY["EPSG","9001"]],AXIS["Easting",EAST],AXIS["Northing",NORTH],EXTENSION["PROJ4","+proj=merc +a=6378137 +b=6378137 +lat_ts=0 +lon_0=0 +x_0=0 +y_0=0 +k=1 +units=m +nadgrids=@null +wktext +no_defs"],AUTHORITY["EPSG","3857"]]</SRS>
  <GeoTransform>  6.9452266809548484e+05,  2.1562400223517701e+00,  0.0000000000000000e+00,  8.9950017458528224e+06,  0.0000000000000000e+00, -2.1562400223517701e+00</GeoTransform>
  <Metadata>
    <MDI key="AREA_OR_POINT">Area</MDI>
  </Metadata>
  <Metadata domain="IMAGE_STRUCTURE">
    <MDI key="COMPRESSION">LZW</MDI>
    <MDI key="INTERLEAVE">PIXEL</MDI>
  </Metadata>
  <VRTRasterBand dataType="Byte" band="1" blockYSize="1">
    <NoDataValue>0</NoDataValue>
    <ColorInterp>Red</ColorInterp>
    <SimpleSource>
      <SourceFilename relativeToVRT="0">/home/08_TEST/pythonClassTest/03_alesund_dtm_rgb/33-110-135_3857_bt_rgb.tif</SourceFilename>
      <SourceBand>1</SourceBand>
      <SourceProperties RasterXSize="16863" RasterYSize="16887" DataType="Byte" BlockXSize="16863" BlockYSize="1" />
      <SrcRect xOff="0" yOff="0" xSize="16863" ySize="16887" />
      <DstRect xOff="0" yOff="0" xSize="16863" ySize="16887" />
    </SimpleSource>
  </VRTRasterBand>
  <VRTRasterBand dataType="Byte" band="2" blockYSize="1">
    <NoDataValue>0</NoDataValue>
    <ColorInterp>Green</ColorInterp>
    <SimpleSource>
      <SourceFilename relativeToVRT="0">/home/08_TEST/pythonClassTest/03_alesund_dtm_rgb/33-110-135_3857_bt_rgb.tif</SourceFilename>
      <SourceBand>2</SourceBand>
      <SourceProperties RasterXSize="16863" RasterYSize="16887" DataType="Byte" BlockXSize="16863" BlockYSize="1" />
      <SrcRect xOff="0" yOff="0" xSize="16863" ySize="16887" />
      <DstRect xOff="0" yOff="0" xSize="16863" ySize="16887" />
    </SimpleSource>
  </VRTRasterBand>
  <VRTRasterBand dataType="Byte" band="3" blockYSize="1">
    <NoDataValue>0</NoDataValue>
    <ColorInterp>Blue</ColorInterp>
    <SimpleSource>
      <SourceFilename relativeToVRT="0">/home/08_TEST/pythonClassTest/03_alesund_dtm_rgb/33-110-135_3857_bt_rgb.tif</SourceFilename>
      <SourceBand>3</SourceBand>
      <SourceProperties RasterXSize="16863" RasterYSize="16887" DataType="Byte" BlockXSize="16863" BlockYSize="1" />
      <SrcRect xOff="0" yOff="0" xSize="16863" ySize="16887" />
      <DstRect xOff="0" yOff="0" xSize="16863" ySize="16887" />
    </SimpleSource>
  </VRTRasterBand>
</VRTDataset>
