<VRTDataset rasterXSize="16920" rasterYSize="16944">
  <SRS dataAxisToSRSAxisMapping="1,2">PROJCS["WGS 84 / Pseudo-Mercator",GEOGCS["WGS 84",DATUM["WGS_1984",SPHEROID["WGS 84",6378137,298.257223563,AUTHORITY["EPSG","7030"]],AUTHORITY["EPSG","6326"]],PRIMEM["Greenwich",0,AUTHORITY["EPSG","8901"]],UNIT["degree",0.0174532925199433,AUTHORITY["EPSG","9122"]],AUTHORITY["EPSG","4326"]],PROJECTION["Mercator_1SP"],PARAMETER["central_meridian",0],PARAMETER["scale_factor",1],PARAMETER["false_easting",0],PARAMETER["false_northing",0],UNIT["metre",1,AUTHORITY["EPSG","9001"]],AXIS["Easting",EAST],AXIS["Northing",NORTH],EXTENSION["PROJ4","+proj=merc +a=6378137 +b=6378137 +lat_ts=0 +lon_0=0 +x_0=0 +y_0=0 +k=1 +units=m +nadgrids=@null +wktext +no_defs"],AUTHORITY["EPSG","3857"]]</SRS>
  <GeoTransform>  6.6245752850681974e+05,  2.1545638798825770e+00,  0.0000000000000000e+00,  8.9906773597449362e+06,  0.0000000000000000e+00, -2.1545638798825770e+00</GeoTransform>
  <Metadata>
    <MDI key="AREA_OR_POINT">Area</MDI>
    <MDI key="DataType">Elevation</MDI>
  </Metadata>
  <VRTRasterBand dataType="Float32" band="1" blockXSize="512">
    <Metadata>
      <MDI key="SourceBandIndex">0</MDI>
    </Metadata>
    <NoDataValue>-32767</NoDataValue>
    <UnitType>metre</UnitType>
    <ColorInterp>Gray</ColorInterp>
    <SimpleSource>
      <SourceFilename relativeToVRT="1">33-109-135_3857.vrt</SourceFilename>
      <SourceBand>1</SourceBand>
      <SourceProperties RasterXSize="16920" RasterYSize="16944" DataType="Float32" BlockXSize="512" BlockYSize="128" />
      <SrcRect xOff="0" yOff="0" xSize="16920" ySize="16944" />
      <DstRect xOff="0" yOff="0" xSize="16920" ySize="16944" />
    </SimpleSource>
  </VRTRasterBand>
</VRTDataset>
