<VRTDataset rasterXSize="16920" rasterYSize="16944" subClass="VRTWarpedDataset">
  <SRS dataAxisToSRSAxisMapping="1,2">PROJCS["WGS 84 / Pseudo-Mercator",GEOGCS["WGS 84",DATUM["WGS_1984",SPHEROID["WGS 84",6378137,298.257223563,AUTHORITY["EPSG","7030"]],AUTHORITY["EPSG","6326"]],PRIMEM["Greenwich",0,AUTHORITY["EPSG","8901"]],UNIT["degree",0.0174532925199433,AUTHORITY["EPSG","9122"]],AUTHORITY["EPSG","4326"]],PROJECTION["Mercator_1SP"],PARAMETER["central_meridian",0],PARAMETER["scale_factor",1],PARAMETER["false_easting",0],PARAMETER["false_northing",0],UNIT["metre",1,AUTHORITY["EPSG","9001"]],AXIS["Easting",EAST],AXIS["Northing",NORTH],EXTENSION["PROJ4","+proj=merc +a=6378137 +b=6378137 +lat_ts=0 +lon_0=0 +x_0=0 +y_0=0 +k=1 +units=m +nadgrids=@null +wktext +no_defs"],AUTHORITY["EPSG","3857"]]</SRS>
  <GeoTransform>  6.6245752850681974e+05,  2.1545638798825770e+00,  0.0000000000000000e+00,  8.9906773597449362e+06,  0.0000000000000000e+00, -2.1545638798825770e+00</GeoTransform>
  <Metadata>
    <MDI key="AREA_OR_POINT">Area</MDI>
    <MDI key="DataType">Elevation</MDI>
  </Metadata>
  <VRTRasterBand dataType="Float32" band="1" subClass="VRTWarpedRasterBand">
    <Metadata>
      <MDI key="SourceBandIndex">0</MDI>
    </Metadata>
    <NoDataValue>-32767</NoDataValue>
    <UnitType>metre</UnitType>
    <ColorInterp>Gray</ColorInterp>
  </VRTRasterBand>
  <BlockXSize>512</BlockXSize>
  <BlockYSize>128</BlockYSize>
  <GDALWarpOptions>
    <WarpMemoryLimit>6.71089e+07</WarpMemoryLimit>
    <ResampleAlg>NearestNeighbour</ResampleAlg>
    <WorkingDataType>Float32</WorkingDataType>
    <Option name="INIT_DEST">NO_DATA</Option>
    <Option name="ERROR_OUT_IF_EMPTY_SOURCE_WINDOW">FALSE</Option>
    <SourceDataset relativeToVRT="1">33-109-135.tif</SourceDataset>
    <Transformer>
      <ApproxTransformer>
        <MaxError>0.125</MaxError>
        <BaseTransformer>
          <GenImgProjTransformer>
            <SrcGeoTransform>35425,1,0,6966005,0,-1</SrcGeoTransform>
            <SrcInvGeoTransform>-35425,1,0,6966005,0,-1</SrcInvGeoTransform>
            <DstGeoTransform>662457.528506819741,2.15456387988257703,0,8990677.35974493623,0,-2.15456387988257703</DstGeoTransform>
            <DstInvGeoTransform>-307467.109558581957,0.46413105192058618,0,4172852.54045701586,0,-0.46413105192058618</DstInvGeoTransform>
            <ReprojectTransformer>
              <ReprojectionTransformer>
                <SourceSRS>PROJCS["ETRS_1989_UTM_Zone_33N",GEOGCS["ETRS89",DATUM["European_Terrestrial_Reference_System_1989",SPHEROID["GRS 1980",6378137,298.257222101004,AUTHORITY["EPSG","7019"]],AUTHORITY["EPSG","6258"]],PRIMEM["Greenwich",0],UNIT["degree",0.0174532925199433,AUTHORITY["EPSG","9122"]],AUTHORITY["EPSG","4258"]],PROJECTION["Transverse_Mercator"],PARAMETER["latitude_of_origin",0],PARAMETER["central_meridian",15],PARAMETER["scale_factor",0.9996],PARAMETER["false_easting",500000],PARAMETER["false_northing",0],UNIT["metre",1,AUTHORITY["EPSG","9001"]],AXIS["Easting",EAST],AXIS["Northing",NORTH],AUTHORITY["EPSG","25833"]]</SourceSRS>
                <TargetSRS>PROJCS["WGS 84 / Pseudo-Mercator",GEOGCS["WGS 84",DATUM["WGS_1984",SPHEROID["WGS 84",6378137,298.257223563,AUTHORITY["EPSG","7030"]],AUTHORITY["EPSG","6326"]],PRIMEM["Greenwich",0,AUTHORITY["EPSG","8901"]],UNIT["degree",0.0174532925199433,AUTHORITY["EPSG","9122"]],AUTHORITY["EPSG","4326"]],PROJECTION["Mercator_1SP"],PARAMETER["central_meridian",0],PARAMETER["scale_factor",1],PARAMETER["false_easting",0],PARAMETER["false_northing",0],UNIT["metre",1,AUTHORITY["EPSG","9001"]],AXIS["Easting",EAST],AXIS["Northing",NORTH],EXTENSION["PROJ4","+proj=merc +a=6378137 +b=6378137 +lat_ts=0 +lon_0=0 +x_0=0 +y_0=0 +k=1 +units=m +nadgrids=@null +wktext +no_defs"],AUTHORITY["EPSG","3857"]]</TargetSRS>
                <Options>
                  <Option key="AREA_OF_INTEREST">5.950957229377198,62.3981316117284,6.278442849693258,62.54969688132211</Option>
                </Options>
              </ReprojectionTransformer>
            </ReprojectTransformer>
          </GenImgProjTransformer>
        </BaseTransformer>
      </ApproxTransformer>
    </Transformer>
    <BandList>
      <BandMapping src="1" dst="1">
        <SrcNoDataReal>-32767</SrcNoDataReal>
        <SrcNoDataImag>0</SrcNoDataImag>
        <DstNoDataReal>-32767</DstNoDataReal>
        <DstNoDataImag>0</DstNoDataImag>
      </BandMapping>
    </BandList>
  </GDALWarpOptions>
</VRTDataset>
