<VRTDataset rasterXSize="137147" rasterYSize="81863">
  <SRS dataAxisToSRSAxisMapping="1,2">PROJCS["WGS 84 / Pseudo-Mercator",GEOGCS["WGS 84",DATUM["WGS_1984",SPHEROID["WGS 84",6378137,298.257223563,AUTHORITY["EPSG","7030"]],AUTHORITY["EPSG","6326"]],PRIMEM["Greenwich",0,AUTHORITY["EPSG","8901"]],UNIT["degree",0.0174532925199433,AUTHORITY["EPSG","9122"]],AUTHORITY["EPSG","4326"]],PROJECTION["Mercator_1SP"],PARAMETER["central_meridian",0],PARAMETER["scale_factor",1],PARAMETER["false_easting",0],PARAMETER["false_northing",0],UNIT["metre",1,AUTHORITY["EPSG","9001"]],AXIS["Easting",EAST],AXIS["Northing",NORTH],EXTENSION["PROJ4","+proj=merc +a=6378137 +b=6378137 +lat_ts=0 +lon_0=0 +x_0=0 +y_0=0 +k=1 +units=m +nadgrids=@null +wktext +no_defs"],AUTHORITY["EPSG","3857"]]</SRS>
  <GeoTransform>  6.2574778501636814e+05,  1.0000000000000000e+00,  0.0000000000000000e+00,  9.0314759408107549e+06,  0.0000000000000000e+00, -1.0000000000000000e+00</GeoTransform>
  <VRTRasterBand dataType="Float32" band="1">
    <NoDataValue>-32767</NoDataValue>
    <ColorInterp>Gray</ColorInterp>
    <ComplexSource>
      <SourceFilename relativeToVRT="1">01_originals/33-108-136_3857_.tif</SourceFilename>
      <SourceBand>1</SourceBand>
      <SourceProperties RasterXSize="36733" RasterYSize="36787" DataType="Float32" BlockXSize="36733" BlockYSize="1" />
      <SrcRect xOff="0" yOff="0" xSize="36733" ySize="36787" />
      <DstRect xOff="0" yOff="13104.8764257431" xSize="36733" ySize="36787" />
      <NODATA>-32767</NODATA>
    </ComplexSource>
    <ComplexSource>
      <SourceFilename relativeToVRT="1">01_originals/33-108-135_3857_.tif</SourceFilename>
      <SourceBand>1</SourceBand>
      <SourceProperties RasterXSize="36549" RasterYSize="36600" DataType="Float32" BlockXSize="36549" BlockYSize="1" />
      <SrcRect xOff="0" yOff="0" xSize="36549" ySize="36599.9736761376" />
      <DstRect xOff="4690.43061282532" yOff="45263.0263238624" xSize="36549" ySize="36599.9736761376" />
      <NODATA>-32767</NODATA>
    </ComplexSource>
    <ComplexSource>
      <SourceFilename relativeToVRT="1">01_originals/33-109-135_3857_.tif</SourceFilename>
      <SourceBand>1</SourceBand>
      <SourceProperties RasterXSize="36455" RasterYSize="36507" DataType="Float32" BlockXSize="36455" BlockYSize="1" />
      <SrcRect xOff="0" yOff="0" xSize="36455" ySize="36507" />
      <DstRect xOff="36709.7434904516" yOff="40798.5810658187" xSize="36455" ySize="36507" />
      <NODATA>-32767</NODATA>
    </ComplexSource>
    <ComplexSource>
      <SourceFilename relativeToVRT="1">01_originals/33-111-136_3857_.tif</SourceFilename>
      <SourceBand>1</SourceBand>
      <SourceProperties RasterXSize="36447" RasterYSize="36499" DataType="Float32" BlockXSize="36447" BlockYSize="1" />
      <SrcRect xOff="0" yOff="0" xSize="36447" ySize="36499" />
      <DstRect xOff="96614.6754528425" yOff="0" xSize="36447" ySize="36499" />
      <NODATA>-32767</NODATA>
    </ComplexSource>
    <ComplexSource>
      <SourceFilename relativeToVRT="1">01_originals/33-111-135_3857_.tif</SourceFilename>
      <SourceBand>1</SourceBand>
      <SourceProperties RasterXSize="36263" RasterYSize="36315" DataType="Float32" BlockXSize="36263" BlockYSize="1" />
      <SrcRect xOff="0" yOff="0" xSize="36262.5011372633" ySize="36315" />
      <DstRect xOff="100884.498862737" yOff="32290.4970933106" xSize="36262.5011372633" ySize="36315" />
      <NODATA>-32767</NODATA>
    </ComplexSource>
    <ComplexSource>
      <SourceFilename relativeToVRT="1">01_originals/33-110-135_3857_.tif</SourceFilename>
      <SourceBand>1</SourceBand>
      <SourceProperties RasterXSize="36361" RasterYSize="36412" DataType="Float32" BlockXSize="36361" BlockYSize="1" />
      <SrcRect xOff="0" yOff="0" xSize="36361" ySize="36412" />
      <DstRect xOff="68774.8830791167" yOff="36474.1949579325" xSize="36361" ySize="36412" />
      <NODATA>-32767</NODATA>
    </ComplexSource>
    <ComplexSource>
      <SourceFilename relativeToVRT="1">01_originals/33-109-136_3857_.tif</SourceFilename>
      <SourceBand>1</SourceBand>
      <SourceProperties RasterXSize="36640" RasterYSize="36692" DataType="Float32" BlockXSize="36640" BlockYSize="1" />
      <SrcRect xOff="0" yOff="0" xSize="36640" ySize="36692" />
      <DstRect xOff="32158.8588799167" yOff="8594.94529192336" xSize="36640" ySize="36692" />
      <NODATA>-32767</NODATA>
    </ComplexSource>
    <ComplexSource>
      <SourceFilename relativeToVRT="1">01_originals/33-110-136_3857_.tif</SourceFilename>
      <SourceBand>1</SourceBand>
      <SourceProperties RasterXSize="36545" RasterYSize="36597" DataType="Float32" BlockXSize="36545" BlockYSize="1" />
      <SrcRect xOff="0" yOff="0" xSize="36545" ySize="36597" />
      <DstRect xOff="64364.2069484059" yOff="4226.43939400464" xSize="36545" ySize="36597" />
      <NODATA>-32767</NODATA>
    </ComplexSource>
  </VRTRasterBand>
</VRTDataset>
