<VRTDataset rasterXSize="626179" rasterYSize="1049972">
  <SRS dataAxisToSRSAxisMapping="1,2">PROJCS["WGS 84 / Pseudo-Mercator",GEOGCS["WGS 84",DATUM["WGS_1984",SPHEROID["WGS 84",6378137,298.257223563,AUTHORITY["EPSG","7030"]],AUTHORITY["EPSG","6326"]],PRIMEM["Greenwich",0,AUTHORITY["EPSG","8901"]],UNIT["degree",0.0174532925199433,AUTHORITY["EPSG","9122"]],AUTHORITY["EPSG","4326"]],PROJECTION["Mercator_1SP"],PARAMETER["central_meridian",0],PARAMETER["scale_factor",1],PARAMETER["false_easting",0],PARAMETER["false_northing",0],UNIT["metre",1,AUTHORITY["EPSG","9001"]],AXIS["Easting",EAST],AXIS["Northing",NORTH],EXTENSION["PROJ4","+proj=merc +a=6378137 +b=6378137 +lat_ts=0 +lon_0=0 +x_0=0 +y_0=0 +k=1 +units=m +nadgrids=@null +wktext +no_defs"],AUTHORITY["EPSG","3857"]]</SRS>
  <GeoTransform> -1.5461040387954663e+01,  8.0000000000000000e+00,  0.0000000000000000e+00,  8.3997688119640537e+06,  0.0000000000000000e+00, -8.0000000000000000e+00</GeoTransform>
  <VRTRasterBand dataType="Int16" band="1">
    <NoDataValue>0</NoDataValue>
    <ColorInterp>Gray</ColorInterp>
    <ComplexSource>
      <SourceFilename relativeToVRT="1">V2/dtm_i16.vrt</SourceFilename>
      <SourceBand>1</SourceBand>
      <SourceProperties RasterXSize="4713" RasterYSize="3600" DataType="Int16" BlockXSize="512" BlockYSize="512" />
      <SrcRect xOff="0" yOff="0" xSize="4713" ySize="3600" />
      <DstRect xOff="231870.176204197" yOff="419882.723513545" xSize="4713" ySize="3600" />
      <NODATA>0</NODATA>
    </ComplexSource>
    <ComplexSource>
      <SourceFilename relativeToVRT="0">/mnt/data/srv/carto_public/03_FINAL/world/SRTM/zones/Z3X4Y4_COG.tif</SourceFilename>
      <SourceBand>1</SourceBand>
      <SourceProperties RasterXSize="166981" RasterYSize="167079" DataType="Int16" BlockXSize="512" BlockYSize="512" />
      <SrcRect xOff="0" yOff="0" xSize="166981" ySize="167078.977932815" />
      <DstRect xOff="0" yOff="423425.832751943" xSize="626178.75" ySize="626546.167248057" />
      <NODATA>0</NODATA>
    </ComplexSource>
    <ComplexSource>
      <SourceFilename relativeToVRT="0">/mnt/data/srv/carto_public/03_FINAL/world/SRTM/zones/Z3X4Y5_COG.tif</SourceFilename>
      <SourceBand>1</SourceBand>
      <SourceProperties RasterXSize="166981" RasterYSize="112915" DataType="Int16" BlockXSize="512" BlockYSize="512" />
      <SrcRect xOff="0" yOff="0" xSize="166981" ySize="112915" />
      <DstRect xOff="0" yOff="0" xSize="626178.75" ySize="423431.25" />
      <NODATA>0</NODATA>
    </ComplexSource>
  </VRTRasterBand>
</VRTDataset>
