<VRTDataset rasterXSize="1165146" rasterYSize="643722">
  <SRS dataAxisToSRSAxisMapping="1,2">PROJCS["WGS 84 / Pseudo-Mercator",GEOGCS["WGS 84",DATUM["WGS_1984",SPHEROID["WGS 84",6378137,298.257223563,AUTHORITY["EPSG","7030"]],AUTHORITY["EPSG","6326"]],PRIMEM["Greenwich",0,AUTHORITY["EPSG","8901"]],UNIT["degree",0.0174532925199433,AUTHORITY["EPSG","9122"]],AUTHORITY["EPSG","4326"]],PROJECTION["Mercator_1SP"],PARAMETER["central_meridian",0],PARAMETER["scale_factor",1],PARAMETER["false_easting",0],PARAMETER["false_northing",0],UNIT["metre",1,AUTHORITY["EPSG","9001"]],AXIS["Easting",EAST],AXIS["Northing",NORTH],EXTENSION["PROJ4","+proj=merc +a=6378137 +b=6378137 +lat_ts=0 +lon_0=0 +x_0=0 +y_0=0 +k=1 +units=m +nadgrids=@null +wktext +no_defs"],AUTHORITY["EPSG","3857"]]</SRS>
  <GeoTransform> -1.9926204313036360e+07,  3.0000000000000000e+01,  0.0000000000000000e+00,  1.1753234648502791e+07,  0.0000000000000000e+00, -3.0000000000000000e+01</GeoTransform>
  <VRTRasterBand dataType="Int16" band="1">
    <NoDataValue>0</NoDataValue>
    <ColorInterp>Gray</ColorInterp>
    <ComplexSource>
      <SourceFilename relativeToVRT="0">/mnt/data/srv/carto_public/03_FINAL/world/SRTM/zones/scandinavia_COG_SAVED.tif</SourceFilename>
      <SourceBand>1</SourceBand>
      <SrcRect xOff="0" yOff="0" xSize="103901" ySize="119095" />
      <DstRect xOff="679048.893838969" yOff="0" xSize="103901" ySize="119095" />
      <NODATA>0</NODATA>
    </ComplexSource>
    <ComplexSource>
      <SourceFilename relativeToVRT="0">/mnt/data/srv/carto_public/03_FINAL/world/SRTM/zones/Z3X0Y2_COG.tif</SourceFilename>
      <SourceBand>1</SourceBand>
      <SrcRect xOff="0" yOff="0" xSize="7423" ySize="10320" />
      <DstRect xOff="7421.29938621831" yOff="568839.511838902" xSize="7423" ySize="10320" />
      <NODATA>0</NODATA>
    </ComplexSource>
    <ComplexSource>
      <SourceFilename relativeToVRT="0">/mnt/data/srv/carto_public/03_FINAL/world/SRTM/zones/Z3X0Y4_COG.tif</SourceFilename>
      <SourceBand>1</SourceBand>
      <SrcRect xOff="0" yOff="0" xSize="92768" ySize="112523" />
      <DstRect xOff="0" yOff="279252.364537606" xSize="92768" ySize="112523" />
      <NODATA>0</NODATA>
    </ComplexSource>
    <ComplexSource>
      <SourceFilename relativeToVRT="0">/mnt/data/srv/carto_public/03_FINAL/world/SRTM/zones/Z3X1Y4_COG.tif</SourceFilename>
      <SourceBand>1</SourceBand>
      <SrcRect xOff="0" yOff="0" xSize="129874" ySize="167079" />
      <DstRect xOff="200375.083427893" yOff="224695.74995181" xSize="129874" ySize="167079" />
      <NODATA>0</NODATA>
    </ComplexSource>
    <ComplexSource>
      <SourceFilename relativeToVRT="0">/mnt/data/srv/carto_public/03_FINAL/world/SRTM/zones/Z3X1Y5_COG.tif</SourceFilename>
      <SourceBand>1</SourceBand>
      <SrcRect xOff="0" yOff="0" xSize="166981" ySize="112915" />
      <DstRect xOff="163268.586496801" yOff="111782.194551291" xSize="166981" ySize="112915" />
      <NODATA>0</NODATA>
    </ComplexSource>
    <ComplexSource>
      <SourceFilename relativeToVRT="0">/mnt/data/srv/carto_public/03_FINAL/world/SRTM/zones/Z3X2Y2_COG.tif</SourceFilename>
      <SourceBand>1</SourceBand>
      <SrcRect xOff="0" yOff="0" xSize="70503" ySize="84870" />
      <DstRect xOff="382196.918390239" yOff="558851.860876416" xSize="70503" ySize="84870" />
    </ComplexSource>
    <ComplexSource>
      <SourceFilename relativeToVRT="0">/mnt/data/srv/carto_public/03_FINAL/world/SRTM/zones/Z3X2Y3_COG.tif</SourceFilename>
      <SourceBand>1</SourceBand>
      <SrcRect xOff="0" yOff="0" xSize="166981" ySize="167080" />
      <DstRect xOff="330247.822686712" yOff="391773.972915413" xSize="166981" ySize="167080" />
      <NODATA>0</NODATA>
    </ComplexSource>
    <ComplexSource>
      <SourceFilename relativeToVRT="0">/mnt/data/srv/carto_public/03_FINAL/world/SRTM/zones/Z3X2Y4_COG.tif</SourceFilename>
      <SourceBand>1</SourceBand>
      <SrcRect xOff="0" yOff="0" xSize="152138" ySize="167079" />
      <DstRect xOff="330247.822686712" yOff="224695.74995181" xSize="152138" ySize="167079" />
      <NODATA>0</NODATA>
    </ComplexSource>
    <ComplexSource>
      <SourceFilename relativeToVRT="0">/mnt/data/srv/carto_public/03_FINAL/world/SRTM/zones/Z3X2Y5_COG.tif</SourceFilename>
      <SourceBand>1</SourceBand>
      <SrcRect xOff="0" yOff="0" xSize="166981" ySize="112915" />
      <DstRect xOff="330247.822686712" yOff="111782.194551291" xSize="166981" ySize="112915" />
      <NODATA>0</NODATA>
    </ComplexSource>
    <ComplexSource>
      <SourceFilename relativeToVRT="0">/mnt/data/srv/carto_public/03_FINAL/world/SRTM/zones/Z3X3Y2_COG.tif</SourceFilename>
      <SourceBand>1</SourceBand>
      <SrcRect xOff="0" yOff="0" xSize="18555" ySize="19181.7707250478" />
      <DstRect xOff="519490.957035277" yOff="624540.229274952" xSize="18555" ySize="19181.7707250478" />
      <NODATA>0</NODATA>
    </ComplexSource>
    <ComplexSource>
      <SourceFilename relativeToVRT="0">/mnt/data/srv/carto_public/03_FINAL/world/SRTM/zones/Z3X3Y3_COG.tif</SourceFilename>
      <SourceBand>1</SourceBand>
      <SrcRect xOff="0" yOff="0" xSize="148427" ySize="163369" />
      <DstRect xOff="497227.058876622" yOff="395484.810932466" xSize="148427" ySize="163369" />
      <NODATA>0</NODATA>
    </ComplexSource>
    <ComplexSource>
      <SourceFilename relativeToVRT="0">/mnt/data/srv/carto_public/03_FINAL/world/SRTM/zones/Z3X3Y4_COG.tif</SourceFilename>
      <SourceBand>1</SourceBand>
      <SrcRect xOff="0" yOff="0" xSize="118742" ySize="152225" />
      <DstRect xOff="545465.504887041" yOff="224695.74995181" xSize="118742" ySize="152225" />
      <NODATA>0</NODATA>
    </ComplexSource>
    <ComplexSource>
      <SourceFilename relativeToVRT="0">/mnt/data/srv/carto_public/03_FINAL/world/SRTM/zones/Z3X3Y5_COG.tif</SourceFilename>
      <SourceBand>1</SourceBand>
      <SrcRect xOff="0" yOff="0" xSize="166981" ySize="112915" />
      <DstRect xOff="497227.058876622" yOff="111782.194551291" xSize="166981" ySize="112915" />
      <NODATA>0</NODATA>
    </ComplexSource>
    <ComplexSource>
      <SourceFilename relativeToVRT="0">/mnt/data/srv/carto_public/03_FINAL/world/SRTM/zones/Z3X4Y2_COG.tif</SourceFilename>
      <SourceBand>1</SourceBand>
      <SrcRect xOff="0" yOff="0" xSize="133584" ySize="52719" />
      <DstRect xOff="675338.24414586" yOff="584452.053724843" xSize="133584" ySize="52719" />
      <NODATA>0</NODATA>
    </ComplexSource>
    <ComplexSource>
      <SourceFilename relativeToVRT="0">/mnt/data/srv/carto_public/03_FINAL/world/SRTM/zones/Z3X4Y3_COG.tif</SourceFilename>
      <SourceBand>1</SourceBand>
      <SrcRect xOff="0" yOff="0" xSize="148427" ySize="138797" />
      <DstRect xOff="682759.543532078" yOff="391773.972915413" xSize="148427" ySize="138797" />
      <NODATA>0</NODATA>
    </ComplexSource>
    <ComplexSource>
      <SourceFilename relativeToVRT="0">/mnt/data/srv/carto_public/03_FINAL/world/SRTM/zones/Z3X4Y4_COG.tif</SourceFilename>
      <SourceBand>1</SourceBand>
      <SrcRect xOff="0" yOff="0" xSize="166981" ySize="167079" />
      <DstRect xOff="664206.295066532" yOff="224695.74995181" xSize="166981" ySize="167079" />
      <NODATA>0</NODATA>
    </ComplexSource>
    <ComplexSource>
      <SourceFilename relativeToVRT="0">/mnt/data/srv/carto_public/03_FINAL/world/SRTM/zones/Z3X4Y5_COG.tif</SourceFilename>
      <SourceBand>1</SourceBand>
      <SrcRect xOff="0" yOff="0" xSize="166981" ySize="112915" />
      <DstRect xOff="664206.295066532" yOff="111782.194551291" xSize="166981" ySize="112915" />
      <NODATA>0</NODATA>
    </ComplexSource>
    <ComplexSource>
      <SourceFilename relativeToVRT="0">/mnt/data/srv/carto_public/03_FINAL/world/SRTM/zones/Z3X5Y2_COG.tif</SourceFilename>
      <SourceBand>1</SourceBand>
      <SrcRect xOff="0" yOff="0" xSize="89057" ySize="51623" />
      <DstRect xOff="849738.779721988" yOff="579157.808983612" xSize="89057" ySize="51623" />
      <NODATA>0</NODATA>
    </ComplexSource>
    <ComplexSource>
      <SourceFilename relativeToVRT="0">/mnt/data/srv/carto_public/03_FINAL/world/SRTM/zones/Z3X5Y3_COG.tif</SourceFilename>
      <SourceBand>1</SourceBand>
      <SrcRect xOff="0" yOff="0" xSize="122453" ySize="157389" />
      <DstRect xOff="831185.531256443" yOff="391773.972915413" xSize="122453" ySize="157389" />
      <NODATA>0</NODATA>
    </ComplexSource>
    <ComplexSource>
      <SourceFilename relativeToVRT="0">/mnt/data/srv/carto_public/03_FINAL/world/SRTM/zones/Z3X5Y5_COG.tif</SourceFilename>
      <SourceBand>1</SourceBand>
      <SrcRect xOff="0" yOff="0" xSize="166981" ySize="112915" />
      <DstRect xOff="831185.531256443" yOff="111782.194551291" xSize="166981" ySize="112915" />
      <NODATA>0</NODATA>
    </ComplexSource>
    <ComplexSource>
      <SourceFilename relativeToVRT="0">/mnt/data/srv/carto_public/03_FINAL/world/SRTM/zones/Z3X6Y3_COG.tif</SourceFilename>
      <SourceBand>1</SourceBand>
      <SrcRect xOff="0" yOff="0" xSize="144717" ySize="143355" />
      <DstRect xOff="1020428.66560501" yOff="391773.972915413" xSize="144717" ySize="143355" />
      <NODATA>0</NODATA>
    </ComplexSource>
    <ComplexSource>
      <SourceFilename relativeToVRT="0">/mnt/data/srv/carto_public/03_FINAL/world/SRTM/zones/Z3X6Y4_COG.tif</SourceFilename>
      <SourceBand>1</SourceBand>
      <SrcRect xOff="0" yOff="0" xSize="166981" ySize="167079" />
      <DstRect xOff="998164.767446353" yOff="224695.74995181" xSize="166981" ySize="167079" />
      <NODATA>0</NODATA>
    </ComplexSource>
    <ComplexSource>
      <SourceFilename relativeToVRT="0">/mnt/data/srv/carto_public/03_FINAL/world/SRTM/zones/Z3X6Y5_COG.tif</SourceFilename>
      <SourceBand>1</SourceBand>
      <SrcRect xOff="0" yOff="0" xSize="166981" ySize="112915" />
      <DstRect xOff="998164.767446353" yOff="111782.194551291" xSize="166981" ySize="112915" />
      <NODATA>0</NODATA>
    </ComplexSource>
  </VRTRasterBand>
  <OverviewList resampling="nearest">2 4 8 16 32</OverviewList>
</VRTDataset>
