<VRTDataset rasterXSize="7514" rasterYSize="3917">
  <SRS dataAxisToSRSAxisMapping="1,2">PROJCS["WGS 84 / Pseudo-Mercator",GEOGCS["WGS 84",DATUM["WGS_1984",SPHEROID["WGS 84",6378137,298.257223563,AUTHORITY["EPSG","7030"]],AUTHORITY["EPSG","6326"]],PRIMEM["Greenwich",0,AUTHORITY["EPSG","8901"]],UNIT["degree",0.0174532925199433,AUTHORITY["EPSG","9122"]],AUTHORITY["EPSG","4326"]],PROJECTION["Mercator_1SP"],PARAMETER["central_meridian",0],PARAMETER["scale_factor",1],PARAMETER["false_easting",0],PARAMETER["false_northing",0],UNIT["metre",1,AUTHORITY["EPSG","9001"]],AXIS["Easting",EAST],AXIS["Northing",NORTH],EXTENSION["PROJ4","+proj=merc +a=6378137 +b=6378137 +lat_ts=0 +lon_0=0 +x_0=0 +y_0=0 +k=1 +units=m +nadgrids=@null +wktext +no_defs"],AUTHORITY["EPSG","3857"]]</SRS>
  <GeoTransform>  1.1737391418322551e+06,  1.0000000000000000e+00,  0.0000000000000000e+00,  7.9095016931812791e+06,  0.0000000000000000e+00, -1.0000000000000000e+00</GeoTransform>
  <VRTRasterBand dataType="Float32" band="1">
    <NoDataValue>-9999</NoDataValue>
    <ColorInterp>Gray</ColorInterp>
    <ComplexSource>
      <SourceFilename relativeToVRT="1">Z10X542Y714/DTM_1km_6397_592.tif</SourceFilename>
      <SourceBand>1</SourceBand>
      <SourceProperties RasterXSize="1910" RasterYSize="1914" DataType="Float32" BlockXSize="512" BlockYSize="512" />
      <SrcRect xOff="0" yOff="0" xSize="1910" ySize="1914" />
      <DstRect xOff="0" yOff="1871.59244330786" xSize="1910" ySize="1914" />
      <NODATA>-9999</NODATA>
    </ComplexSource>
    <ComplexSource>
      <SourceFilename relativeToVRT="1">Z10X542Y714/DTM_1km_6398_592.tif</SourceFilename>
      <SourceBand>1</SourceBand>
      <SourceProperties RasterXSize="1911" RasterYSize="1914" DataType="Float32" BlockXSize="512" BlockYSize="512" />
      <SrcRect xOff="0" yOff="0" xSize="1911" ySize="1914" />
      <DstRect xOff="42.5558848418295" yOff="0" xSize="1911" ySize="1914" />
      <NODATA>-9999</NODATA>
    </ComplexSource>
    <ComplexSource>
      <SourceFilename relativeToVRT="1">Z10X542Y714/DTM_1km_6398_594.tif</SourceFilename>
      <SourceBand>1</SourceBand>
      <SourceProperties RasterXSize="1911" RasterYSize="1915" DataType="Float32" BlockXSize="512" BlockYSize="512" />
      <SrcRect xOff="0" yOff="0" xSize="1911" ySize="1915" />
      <DstRect xOff="3778.04594221385" yOff="86.2777972994372" xSize="1911" ySize="1915" />
      <NODATA>-9999</NODATA>
    </ComplexSource>
    <ComplexSource>
      <SourceFilename relativeToVRT="1">Z10X542Y714/DTM_1km_6397_593.tif</SourceFilename>
      <SourceBand>1</SourceBand>
      <SourceProperties RasterXSize="1911" RasterYSize="1915" DataType="Float32" BlockXSize="512" BlockYSize="512" />
      <SrcRect xOff="0" yOff="0" xSize="1911" ySize="1915" />
      <DstRect xOff="1867.29589815345" yOff="1914.47429233696" xSize="1911" ySize="1915" />
      <NODATA>-9999</NODATA>
    </ComplexSource>
    <ComplexSource>
      <SourceFilename relativeToVRT="1">Z10X542Y714/DTM_1km_6397_595.tif</SourceFilename>
      <SourceBand>1</SourceBand>
      <SourceProperties RasterXSize="1912" RasterYSize="1915" DataType="Float32" BlockXSize="512" BlockYSize="512" />
      <SrcRect xOff="0" yOff="0" xSize="1912" ySize="1915" />
      <DstRect xOff="5601.81078512804" yOff="2001.62675774843" xSize="1912" ySize="1915" />
      <NODATA>-9999</NODATA>
    </ComplexSource>
    <ComplexSource>
      <SourceFilename relativeToVRT="1">Z10X542Y714/DTM_1km_6398_593.tif</SourceFilename>
      <SourceBand>1</SourceBand>
      <SourceProperties RasterXSize="1911" RasterYSize="1915" DataType="Float32" BlockXSize="512" BlockYSize="512" />
      <SrcRect xOff="0" yOff="0" xSize="1911" ySize="1915" />
      <DstRect xOff="1910.31369662983" yOff="42.9072966976091" xSize="1911" ySize="1915" />
      <NODATA>-9999</NODATA>
    </ComplexSource>
    <ComplexSource>
      <SourceFilename relativeToVRT="1">Z10X542Y714/DTM_1km_6397_594.tif</SourceFilename>
      <SourceBand>1</SourceBand>
      <SourceProperties RasterXSize="1911" RasterYSize="1915" DataType="Float32" BlockXSize="512" BlockYSize="512" />
      <SrcRect xOff="0" yOff="0" xSize="1911" ySize="1915" />
      <DstRect xOff="3734.56625117618" yOff="1957.81907088496" xSize="1911" ySize="1915" />
      <NODATA>-9999</NODATA>
    </ComplexSource>
  </VRTRasterBand>
  <OverviewList resampling="nearest">2 4</OverviewList>
</VRTDataset>
