<VRTDataset rasterXSize="15017" rasterYSize="5898">
  <SRS dataAxisToSRSAxisMapping="1,2">PROJCS["WGS 84 / Pseudo-Mercator",GEOGCS["WGS 84",DATUM["WGS_1984",SPHEROID["WGS 84",6378137,298.257223563,AUTHORITY["EPSG","7030"]],AUTHORITY["EPSG","6326"]],PRIMEM["Greenwich",0,AUTHORITY["EPSG","8901"]],UNIT["degree",0.0174532925199433,AUTHORITY["EPSG","9122"]],AUTHORITY["EPSG","4326"]],PROJECTION["Mercator_1SP"],PARAMETER["central_meridian",0],PARAMETER["scale_factor",1],PARAMETER["false_easting",0],PARAMETER["false_northing",0],UNIT["metre",1,AUTHORITY["EPSG","9001"]],AXIS["Easting",EAST],AXIS["Northing",NORTH],EXTENSION["PROJ4","+proj=merc +a=6378137 +b=6378137 +lat_ts=0 +lon_0=0 +x_0=0 +y_0=0 +k=1 +units=m +nadgrids=@null +wktext +no_defs"],AUTHORITY["EPSG","3857"]]</SRS>
  <GeoTransform>  1.1587222374311325e+06,  1.0000000000000000e+00,  0.0000000000000000e+00,  7.9060460083364258e+06,  0.0000000000000000e+00, -1.0000000000000000e+00</GeoTransform>
  <VRTRasterBand dataType="Float32" band="1">
    <NoDataValue>-9999</NoDataValue>
    <ColorInterp>Gray</ColorInterp>
    <ComplexSource>
      <SourceFilename relativeToVRT="1">Z10X541Y713/DTM_1km_6396_587.tif</SourceFilename>
      <SourceBand>1</SourceBand>
      <SourceProperties RasterXSize="1908" RasterYSize="1911" DataType="Float32" BlockXSize="512" BlockYSize="512" />
      <SrcRect xOff="0" yOff="0" xSize="1908" ySize="1911" />
      <DstRect xOff="5639.82921542693" yOff="79.69731836766" xSize="1908" ySize="1911" />
      <NODATA>-9999</NODATA>
    </ComplexSource>
    <ComplexSource>
      <SourceFilename relativeToVRT="1">Z10X541Y713/DTM_1km_6395_589.tif</SourceFilename>
      <SourceBand>1</SourceBand>
      <SourceProperties RasterXSize="1908" RasterYSize="1912" DataType="Float32" BlockXSize="512" BlockYSize="512" />
      <SrcRect xOff="0" yOff="0" xSize="1908" ySize="1912" />
      <DstRect xOff="9332.59946338879" yOff="2031.99070220254" xSize="1908" ySize="1912" />
      <NODATA>-9999</NODATA>
    </ComplexSource>
    <ComplexSource>
      <SourceFilename relativeToVRT="1">Z10X541Y713/DTM_1km_6396_585.tif</SourceFilename>
      <SourceBand>1</SourceBand>
      <SourceProperties RasterXSize="1907" RasterYSize="1911" DataType="Float32" BlockXSize="512" BlockYSize="512" />
      <SrcRect xOff="0" yOff="0" xSize="1907" ySize="1911" />
      <DstRect xOff="1905.84230061225" yOff="0" xSize="1907" ySize="1911" />
      <NODATA>-9999</NODATA>
    </ComplexSource>
    <ComplexSource>
      <SourceFilename relativeToVRT="1">Z10X541Y713/DTM_1km_6395_587.tif</SourceFilename>
      <SourceBand>1</SourceBand>
      <SourceProperties RasterXSize="1907" RasterYSize="1911" DataType="Float32" BlockXSize="512" BlockYSize="512" />
      <SrcRect xOff="0" yOff="0" xSize="1907" ySize="1911" />
      <DstRect xOff="5599.63098928449" yOff="1950.49061871879" xSize="1907" ySize="1911" />
      <NODATA>-9999</NODATA>
    </ComplexSource>
    <ComplexSource>
      <SourceFilename relativeToVRT="1">Z10X541Y713/DTM_1km_6396_589.tif</SourceFilename>
      <SourceBand>1</SourceBand>
      <SourceProperties RasterXSize="1908" RasterYSize="1912" DataType="Float32" BlockXSize="512" BlockYSize="512" />
      <SrcRect xOff="0" yOff="0" xSize="1908" ySize="1912" />
      <DstRect xOff="9373.72060500388" yOff="161.245747462846" xSize="1908" ySize="1912" />
      <NODATA>-9999</NODATA>
    </ComplexSource>
    <ComplexSource>
      <SourceFilename relativeToVRT="1">Z10X541Y713/DTM_1km_6395_585.tif</SourceFilename>
      <SourceBand>1</SourceBand>
      <SourceProperties RasterXSize="1906" RasterYSize="1910" DataType="Float32" BlockXSize="512" BlockYSize="512" />
      <SrcRect xOff="0" yOff="0" xSize="1906" ySize="1910" />
      <DstRect xOff="1866.56706864154" yOff="1870.84054970555" xSize="1906" ySize="1910" />
      <NODATA>-9999</NODATA>
    </ComplexSource>
    <ComplexSource>
      <SourceFilename relativeToVRT="1">Z10X541Y713/DTM_1km_6396_588.tif</SourceFilename>
      <SourceBand>1</SourceBand>
      <SourceProperties RasterXSize="1908" RasterYSize="1912" DataType="Float32" BlockXSize="512" BlockYSize="512" />
      <SrcRect xOff="0" yOff="0" xSize="1908" ySize="1912" />
      <DstRect xOff="7506.78698779829" yOff="120.240153959952" xSize="1908" ySize="1912" />
      <NODATA>-9999</NODATA>
    </ComplexSource>
    <ComplexSource>
      <SourceFilename relativeToVRT="1">Z10X541Y713/DTM_1km_6394_588.tif</SourceFilename>
      <SourceBand>1</SourceBand>
      <SourceProperties RasterXSize="1907" RasterYSize="1910" DataType="Float32" BlockXSize="512" BlockYSize="512" />
      <SrcRect xOff="0" yOff="0" xSize="1907" ySize="1910" />
      <DstRect xOff="7425.49173540971" yOff="3861.31798140053" xSize="1907" ySize="1910" />
      <NODATA>-9999</NODATA>
    </ComplexSource>
    <ComplexSource>
      <SourceFilename relativeToVRT="1">Z10X541Y713/DTM_1km_6394_587.tif</SourceFilename>
      <SourceBand>1</SourceBand>
      <SourceProperties RasterXSize="1907" RasterYSize="1910" DataType="Float32" BlockXSize="512" BlockYSize="512" />
      <SrcRect xOff="0" yOff="0" xSize="1907" ySize="1910" />
      <DstRect xOff="5559.45662478567" yOff="3820.82319757901" xSize="1907" ySize="1910" />
      <NODATA>-9999</NODATA>
    </ComplexSource>
    <ComplexSource>
      <SourceFilename relativeToVRT="1">Z10X541Y713/DTM_1km_6396_590.tif</SourceFilename>
      <SourceBand>1</SourceBand>
      <SourceProperties RasterXSize="1909" RasterYSize="1913" DataType="Float32" BlockXSize="512" BlockYSize="512" />
      <SrcRect xOff="0" yOff="0" xSize="1909" ySize="1913" />
      <DstRect xOff="11240.6297932151" yOff="202.714078814723" xSize="1909" ySize="1913" />
      <NODATA>-9999</NODATA>
    </ComplexSource>
    <ComplexSource>
      <SourceFilename relativeToVRT="1">Z10X541Y713/DTM_1km_6395_586.tif</SourceFilename>
      <SourceBand>1</SourceBand>
      <SourceProperties RasterXSize="1906" RasterYSize="1910" DataType="Float32" BlockXSize="512" BlockYSize="512" />
      <SrcRect xOff="0" yOff="0" xSize="1906" ySize="1910" />
      <DstRect xOff="3733.11082295934" yOff="1910.43432258256" xSize="1906" ySize="1910" />
      <NODATA>-9999</NODATA>
    </ComplexSource>
    <ComplexSource>
      <SourceFilename relativeToVRT="1">Z10X541Y713/DTM_1km_6394_589.tif</SourceFilename>
      <SourceBand>1</SourceBand>
      <SourceProperties RasterXSize="1907" RasterYSize="1911" DataType="Float32" BlockXSize="512" BlockYSize="512" />
      <SrcRect xOff="0" yOff="0" xSize="1907" ySize="1911" />
      <DstRect xOff="9291.5027306464" yOff="3902.27497528028" xSize="1907" ySize="1911" />
      <NODATA>-9999</NODATA>
    </ComplexSource>
    <ComplexSource>
      <SourceFilename relativeToVRT="1">Z10X541Y713/DTM_1km_6394_590.tif</SourceFilename>
      <SourceBand>1</SourceBand>
      <SourceProperties RasterXSize="1908" RasterYSize="1912" DataType="Float32" BlockXSize="512" BlockYSize="512" />
      <SrcRect xOff="0" yOff="0" xSize="1908" ySize="1912" />
      <DstRect xOff="11157.4893371169" yOff="3943.69415920414" xSize="1908" ySize="1912" />
      <NODATA>-9999</NODATA>
    </ComplexSource>
    <ComplexSource>
      <SourceFilename relativeToVRT="1">Z10X541Y713/DTM_1km_6395_590.tif</SourceFilename>
      <SourceBand>1</SourceBand>
      <SourceProperties RasterXSize="1909" RasterYSize="1912" DataType="Float32" BlockXSize="512" BlockYSize="512" />
      <SrcRect xOff="0" yOff="0" xSize="1909" ySize="1912" />
      <DstRect xOff="11199.0472239391" yOff="2073.43444971927" xSize="1909" ySize="1912" />
      <NODATA>-9999</NODATA>
    </ComplexSource>
    <ComplexSource>
      <SourceFilename relativeToVRT="1">Z10X541Y713/DTM_1km_6394_591.tif</SourceFilename>
      <SourceBand>1</SourceBand>
      <SourceProperties RasterXSize="1908" RasterYSize="1912" DataType="Float32" BlockXSize="512" BlockYSize="512" />
      <SrcRect xOff="0" yOff="0" xSize="1908" ySize="1912" />
      <DstRect xOff="13023.4512814654" yOff="3985.57551292982" xSize="1908" ySize="1912" />
      <NODATA>-9999</NODATA>
    </ComplexSource>
    <ComplexSource>
      <SourceFilename relativeToVRT="1">Z10X541Y713/DTM_1km_6395_584.tif</SourceFilename>
      <SourceBand>1</SourceBand>
      <SourceProperties RasterXSize="1906" RasterYSize="1909" DataType="Float32" BlockXSize="512" BlockYSize="512" />
      <SrcRect xOff="0" yOff="0" xSize="1906" ySize="1909" />
      <DstRect xOff="0" yOff="1831.70931945089" xSize="1906" ySize="1909" />
      <NODATA>-9999</NODATA>
    </ComplexSource>
    <ComplexSource>
      <SourceFilename relativeToVRT="1">Z10X541Y713/DTM_1km_6395_588.tif</SourceFilename>
      <SourceBand>1</SourceBand>
      <SourceProperties RasterXSize="1908" RasterYSize="1911" DataType="Float32" BlockXSize="512" BlockYSize="512" />
      <SrcRect xOff="0" yOff="0" xSize="1908" ySize="1911" />
      <DstRect xOff="7466.1272939695" yOff="1991.0094185276" xSize="1908" ySize="1911" />
      <NODATA>-9999</NODATA>
    </ComplexSource>
    <ComplexSource>
      <SourceFilename relativeToVRT="1">Z10X541Y713/DTM_1km_6395_591.tif</SourceFilename>
      <SourceBand>1</SourceBand>
      <SourceProperties RasterXSize="1909" RasterYSize="1912" DataType="Float32" BlockXSize="512" BlockYSize="512" />
      <SrcRect xOff="0" yOff="0" xSize="1909" ySize="1912" />
      <DstRect xOff="13065.4703020395" yOff="2115.34064081497" xSize="1909" ySize="1912" />
      <NODATA>-9999</NODATA>
    </ComplexSource>
    <ComplexSource>
      <SourceFilename relativeToVRT="1">Z10X541Y713/DTM_1km_6396_591.tif</SourceFilename>
      <SourceBand>1</SourceBand>
      <SourceProperties RasterXSize="1909" RasterYSize="1913" DataType="Float32" BlockXSize="512" BlockYSize="512" />
      <SrcRect xOff="0" yOff="0" xSize="1909" ySize="1913" />
      <DstRect xOff="13107.5142786261" yOff="244.645127744414" xSize="1909" ySize="1913" />
      <NODATA>-9999</NODATA>
    </ComplexSource>
    <ComplexSource>
      <SourceFilename relativeToVRT="1">Z10X541Y713/DTM_1km_6396_586.tif</SourceFilename>
      <SourceBand>1</SourceBand>
      <SourceProperties RasterXSize="1907" RasterYSize="1911" DataType="Float32" BlockXSize="512" BlockYSize="512" />
      <SrcRect xOff="0" yOff="0" xSize="1907" ySize="1911" />
      <DstRect xOff="3772.84756174078" yOff="39.6172605082393" xSize="1907" ySize="1911" />
      <NODATA>-9999</NODATA>
    </ComplexSource>
  </VRTRasterBand>
  <OverviewList resampling="nearest">2 4</OverviewList>
</VRTDataset>
