<VRTDataset rasterXSize="166981" rasterYSize="112915">
  <SRS dataAxisToSRSAxisMapping="1,2">PROJCS["WGS 84 / Pseudo-Mercator",GEOGCS["WGS 84",DATUM["WGS_1984",SPHEROID["WGS 84",6378137,298.257223563,AUTHORITY["EPSG","7030"]],AUTHORITY["EPSG","6326"]],PRIMEM["Greenwich",0,AUTHORITY["EPSG","8901"]],UNIT["degree",0.0174532925199433,AUTHORITY["EPSG","9122"]],AUTHORITY["EPSG","4326"]],PROJECTION["Mercator_1SP"],PARAMETER["central_meridian",0],PARAMETER["scale_factor",1],PARAMETER["false_easting",0],PARAMETER["false_northing",0],UNIT["metre",1,AUTHORITY["EPSG","9001"]],AXIS["Easting",EAST],AXIS["Northing",NORTH],EXTENSION["PROJ4","+proj=merc +a=6378137 +b=6378137 +lat_ts=0 +lon_0=0 +x_0=0 +y_0=0 +k=1 +units=m +nadgrids=@null +wktext +no_defs"],AUTHORITY["EPSG","3857"]]</SRS>
  <GeoTransform> -1.5461040387954663e+01,  3.0000000000000000e+01,  0.0000000000000000e+00,  8.3997688119640537e+06,  0.0000000000000000e+00, -3.0000000000000000e+01</GeoTransform>
  <VRTRasterBand dataType="Int16" band="1">
    <NoDataValue>0</NoDataValue>
    <ComplexSource>
      <SourceFilename relativeToVRT="1">SRTM/Z3X4Y5_ZERONULL/N46E009_3857_zeroToNull.vrt</SourceFilename>
      <SourceBand>1</SourceBand>
      <SourceProperties RasterXSize="3711" RasterYSize="5392" DataType="Int16" BlockXSize="512" BlockYSize="128" />
      <SrcRect xOff="0" yOff="0" xSize="3711" ySize="5392" />
      <DstRect xOff="33395.8472379821" yOff="81922.402310059" xSize="3711" ySize="5392" />
      <NODATA>0</NODATA>
    </ComplexSource>
    <ComplexSource>
      <SourceFilename relativeToVRT="1">SRTM/Z3X4Y5_ZERONULL/N44E019_3857_zeroToNull.vrt</SourceFilename>
      <SourceBand>1</SourceBand>
      <SourceProperties RasterXSize="3712" RasterYSize="5204" DataType="Int16" BlockXSize="512" BlockYSize="128" />
      <SrcRect xOff="0" yOff="0" xSize="3712" ySize="5204" />
      <DstRect xOff="70502.3441690733" yOff="92607.5153510827" xSize="3712" ySize="5204" />
      <NODATA>0</NODATA>
    </ComplexSource>
    <ComplexSource>
      <SourceFilename relativeToVRT="1">SRTM/Z3X4Y5_ZERONULL/N51E015_3857_zeroToNull.vrt</SourceFilename>
      <SourceBand>1</SourceBand>
      <SourceProperties RasterXSize="3711" RasterYSize="5962" DataType="Int16" BlockXSize="512" BlockYSize="128" />
      <SrcRect xOff="0" yOff="0" xSize="3711" ySize="5962" />
      <DstRect xOff="55659.7453966368" yOff="53320.6081545127" xSize="3711" ySize="5962" />
      <NODATA>0</NODATA>
    </ComplexSource>
    <ComplexSource>
      <SourceFilename relativeToVRT="1">SRTM/Z3X4Y5_ZERONULL/N55E038_3857_zeroToNull.vrt</SourceFilename>
      <SourceBand>1</SourceBand>
      <SourceProperties RasterXSize="3712" RasterYSize="6553" DataType="Int16" BlockXSize="512" BlockYSize="128" />
      <SrcRect xOff="0" yOff="0" xSize="3712" ySize="6553" />
      <DstRect xOff="141004.688338147" yOff="28044.1835661054" xSize="3712" ySize="6553" />
      <NODATA>0</NODATA>
    </ComplexSource>
    <ComplexSource>
      <SourceFilename relativeToVRT="1">SRTM/Z3X4Y5_ZERONULL/N52E004_3857_zeroToNull.vrt</SourceFilename>
      <SourceBand>1</SourceBand>
      <SourceProperties RasterXSize="3712" RasterYSize="6097" DataType="Int16" BlockXSize="512" BlockYSize="128" />
      <SrcRect xOff="0" yOff="0" xSize="3712" ySize="6097" />
      <DstRect xOff="14842.5987724365" yOff="47224.8400282538" xSize="3712" ySize="6097" />
      <NODATA>0</NODATA>
    </ComplexSource>
    <ComplexSource>
      <SourceFilename relativeToVRT="1">SRTM/Z3X4Y5_ZERONULL/N51E010_3857_zeroToNull.vrt</SourceFilename>
      <SourceBand>1</SourceBand>
      <SourceProperties RasterXSize="3711" RasterYSize="5962" DataType="Int16" BlockXSize="512" BlockYSize="128" />
      <SrcRect xOff="0" yOff="0" xSize="3711" ySize="5962" />
      <DstRect xOff="37106.4969310912" yOff="53320.6081545127" xSize="3711" ySize="5962" />
      <NODATA>0</NODATA>
    </ComplexSource>
    <ComplexSource>
      <SourceFilename relativeToVRT="1">SRTM/Z3X4Y5_ZERONULL/N53E012_3857_zeroToNull.vrt</SourceFilename>
      <SourceBand>1</SourceBand>
      <SourceProperties RasterXSize="3711" RasterYSize="6241" DataType="Int16" BlockXSize="512" BlockYSize="128" />
      <SrcRect xOff="0" yOff="0" xSize="3711" ySize="6241" />
      <DstRect xOff="44527.7963173094" yOff="40986.2071342405" xSize="3711" ySize="6241" />
      <NODATA>0</NODATA>
    </ComplexSource>
    <ComplexSource>
      <SourceFilename relativeToVRT="1">SRTM/Z3X4Y5_ZERONULL/N53E023_3857_zeroToNull.vrt</SourceFilename>
      <SourceBand>1</SourceBand>
      <SourceProperties RasterXSize="3711" RasterYSize="6241" DataType="Int16" BlockXSize="512" BlockYSize="128" />
      <SrcRect xOff="0" yOff="0" xSize="3711" ySize="6241" />
      <DstRect xOff="85344.9429415097" yOff="40986.2071342405" xSize="3711" ySize="6241" />
      <NODATA>0</NODATA>
    </ComplexSource>
    <ComplexSource>
      <SourceFilename relativeToVRT="1">SRTM/Z3X4Y5_ZERONULL/N41E037_3857_zeroToNull.vrt</SourceFilename>
      <SourceBand>1</SourceBand>
      <SourceProperties RasterXSize="3712" RasterYSize="4956" DataType="Int16" BlockXSize="512" BlockYSize="128" />
      <SrcRect xOff="0" yOff="0" xSize="3712" ySize="4956" />
      <DstRect xOff="137294.038645037" yOff="107958.95210032" xSize="3712" ySize="4956" />
      <NODATA>0</NODATA>
    </ComplexSource>
    <ComplexSource>
      <SourceFilename relativeToVRT="1">SRTM/Z3X4Y5_ZERONULL/N46E024_3857_zeroToNull.vrt</SourceFilename>
      <SourceBand>1</SourceBand>
      <SourceProperties RasterXSize="3711" RasterYSize="5392" DataType="Int16" BlockXSize="512" BlockYSize="128" />
      <SrcRect xOff="0" yOff="0" xSize="3711" ySize="5392" />
      <DstRect xOff="89055.5926346188" yOff="81922.402310059" xSize="3711" ySize="5392" />
      <NODATA>0</NODATA>
    </ComplexSource>
    <ComplexSource>
      <SourceFilename relativeToVRT="1">SRTM/Z3X4Y5_ZERONULL/N46E044_3857_zeroToNull.vrt</SourceFilename>
      <SourceBand>1</SourceBand>
      <SourceProperties RasterXSize="3711" RasterYSize="5392" DataType="Int16" BlockXSize="512" BlockYSize="128" />
      <SrcRect xOff="0" yOff="0" xSize="3711" ySize="5392" />
      <DstRect xOff="163268.586496801" yOff="81922.402310059" xSize="3711" ySize="5392" />
      <NODATA>0</NODATA>
    </ComplexSource>
    <ComplexSource>
      <SourceFilename relativeToVRT="1">SRTM/Z3X4Y5_ZERONULL/N59E031_3857_zeroToNull.vrt</SourceFilename>
      <SourceBand>1</SourceBand>
      <SourceProperties RasterXSize="3712" RasterYSize="7313" DataType="Int16" BlockXSize="512" BlockYSize="128" />
      <SrcRect xOff="0" yOff="0" xSize="3712" ySize="7313" />
      <DstRect xOff="115030.140486383" yOff="0" xSize="3712" ySize="7313" />
      <NODATA>0</NODATA>
    </ComplexSource>
    <ComplexSource>
      <SourceFilename relativeToVRT="1">SRTM/Z3X4Y5_ZERONULL/N48E026_3857_zeroToNull.vrt</SourceFilename>
      <SourceBand>1</SourceBand>
      <SourceProperties RasterXSize="3712" RasterYSize="5601" DataType="Int16" BlockXSize="512" BlockYSize="128" />
      <SrcRect xOff="0" yOff="0" xSize="3712" ySize="5601" />
      <DstRect xOff="96476.8920208371" yOff="70829.4617128694" xSize="3712" ySize="5601" />
      <NODATA>0</NODATA>
    </ComplexSource>
    <ComplexSource>
      <SourceFilename relativeToVRT="1">SRTM/Z3X4Y5_ZERONULL/N54E019_3857_zeroToNull.vrt</SourceFilename>
      <SourceBand>1</SourceBand>
      <SourceProperties RasterXSize="3711" RasterYSize="6392" DataType="Int16" BlockXSize="512" BlockYSize="128" />
      <SrcRect xOff="0" yOff="0" xSize="3711" ySize="6392" />
      <DstRect xOff="70502.3441690733" yOff="34595.8581121628" xSize="3711" ySize="6392" />
      <NODATA>0</NODATA>
    </ComplexSource>
    <ComplexSource>
      <SourceFilename relativeToVRT="1">SRTM/Z3X4Y5_ZERONULL/N54E037_3857_zeroToNull.vrt</SourceFilename>
      <SourceBand>1</SourceBand>
      <SourceProperties RasterXSize="3711" RasterYSize="6392" DataType="Int16" BlockXSize="512" BlockYSize="128" />
      <SrcRect xOff="0" yOff="0" xSize="3711" ySize="6392" />
      <DstRect xOff="137294.038645037" yOff="34595.8581121628" xSize="3711" ySize="6392" />
      <NODATA>0</NODATA>
    </ComplexSource>
    <ComplexSource>
      <SourceFilename relativeToVRT="1">SRTM/Z3X4Y5_ZERONULL/N47E008_3857_zeroToNull.vrt</SourceFilename>
      <SourceBand>1</SourceBand>
      <SourceProperties RasterXSize="3712" RasterYSize="5494" DataType="Int16" BlockXSize="512" BlockYSize="128" />
      <SrcRect xOff="0" yOff="0" xSize="3712" ySize="5494" />
      <DstRect xOff="29685.197544873" yOff="76429.695696186" xSize="3712" ySize="5494" />
      <NODATA>0</NODATA>
    </ComplexSource>
    <ComplexSource>
      <SourceFilename relativeToVRT="1">SRTM/Z3X4Y5_ZERONULL/N49E035_3857_zeroToNull.vrt</SourceFilename>
      <SourceBand>1</SourceBand>
      <SourceProperties RasterXSize="3712" RasterYSize="5715" DataType="Int16" BlockXSize="512" BlockYSize="128" />
      <SrcRect xOff="0" yOff="0" xSize="3712" ySize="5715" />
      <DstRect xOff="129872.739258819" yOff="65115.6305934411" xSize="3712" ySize="5715" />
      <NODATA>0</NODATA>
    </ComplexSource>
    <ComplexSource>
      <SourceFilename relativeToVRT="1">SRTM/Z3X4Y5_ZERONULL/N43E024_3857_zeroToNull.vrt</SourceFilename>
      <SourceBand>1</SourceBand>
      <SourceProperties RasterXSize="3712" RasterYSize="5117" DataType="Int16" BlockXSize="512" BlockYSize="128" />
      <SrcRect xOff="0" yOff="0" xSize="3712" ySize="5117" />
      <DstRect xOff="89055.5926346188" yOff="97810.1711746906" xSize="3712" ySize="5117" />
      <NODATA>0</NODATA>
    </ComplexSource>
    <ComplexSource>
      <SourceFilename relativeToVRT="1">SRTM/Z3X4Y5_ZERONULL/N51E042_3857_zeroToNull.vrt</SourceFilename>
      <SourceBand>1</SourceBand>
      <SourceProperties RasterXSize="3711" RasterYSize="5962" DataType="Int16" BlockXSize="512" BlockYSize="128" />
      <SrcRect xOff="0" yOff="0" xSize="3711" ySize="5962" />
      <DstRect xOff="155847.287110583" yOff="53320.6081545127" xSize="3711" ySize="5962" />
      <NODATA>0</NODATA>
    </ComplexSource>
    <ComplexSource>
      <SourceFilename relativeToVRT="1">SRTM/Z3X4Y5_ZERONULL/N55E039_3857_zeroToNull.vrt</SourceFilename>
      <SourceBand>1</SourceBand>
      <SourceProperties RasterXSize="3712" RasterYSize="6553" DataType="Int16" BlockXSize="512" BlockYSize="128" />
      <SrcRect xOff="0" yOff="0" xSize="3712" ySize="6553" />
      <DstRect xOff="144715.338031256" yOff="28044.1835661054" xSize="3712" ySize="6553" />
      <NODATA>0</NODATA>
    </ComplexSource>
    <ComplexSource>
      <SourceFilename relativeToVRT="1">SRTM/Z3X4Y5_ZERONULL/N44E029_3857_zeroToNull.vrt</SourceFilename>
      <SourceBand>1</SourceBand>
      <SourceProperties RasterXSize="3712" RasterYSize="5204" DataType="Int16" BlockXSize="512" BlockYSize="128" />
      <SrcRect xOff="0" yOff="0" xSize="3712" ySize="5204" />
      <DstRect xOff="107608.841100164" yOff="92607.5153510827" xSize="3712" ySize="5204" />
      <NODATA>0</NODATA>
    </ComplexSource>
    <ComplexSource>
      <SourceFilename relativeToVRT="1">SRTM/Z3X4Y5_ZERONULL/N54E038_3857_zeroToNull.vrt</SourceFilename>
      <SourceBand>1</SourceBand>
      <SourceProperties RasterXSize="3711" RasterYSize="6392" DataType="Int16" BlockXSize="512" BlockYSize="128" />
      <SrcRect xOff="0" yOff="0" xSize="3711" ySize="6392" />
      <DstRect xOff="141004.688338147" yOff="34595.8581121628" xSize="3711" ySize="6392" />
      <NODATA>0</NODATA>
    </ComplexSource>
    <ComplexSource>
      <SourceFilename relativeToVRT="1">SRTM/Z3X4Y5_ZERONULL/N45E037_3857_zeroToNull.vrt</SourceFilename>
      <SourceBand>1</SourceBand>
      <SourceProperties RasterXSize="3712" RasterYSize="5295" DataType="Int16" BlockXSize="512" BlockYSize="128" />
      <SrcRect xOff="0" yOff="0" xSize="3712" ySize="5295" />
      <DstRect xOff="137294.038645037" yOff="87313.2444879322" xSize="3712" ySize="5295" />
      <NODATA>0</NODATA>
    </ComplexSource>
    <ComplexSource>
      <SourceFilename relativeToVRT="1">SRTM/Z3X4Y5_ZERONULL/N59E012_3857_zeroToNull.vrt</SourceFilename>
      <SourceBand>1</SourceBand>
      <SourceProperties RasterXSize="3712" RasterYSize="7313" DataType="Int16" BlockXSize="512" BlockYSize="128" />
      <SrcRect xOff="0" yOff="0" xSize="3712" ySize="7313" />
      <DstRect xOff="44527.7963173094" yOff="0" xSize="3712" ySize="7313" />
      <NODATA>0</NODATA>
    </ComplexSource>
    <ComplexSource>
      <SourceFilename relativeToVRT="1">SRTM/Z3X4Y5_ZERONULL/N42E000_3857_zeroToNull.vrt</SourceFilename>
      <SourceBand>1</SourceBand>
      <SourceProperties RasterXSize="3712" RasterYSize="5034" DataType="Int16" BlockXSize="512" BlockYSize="128" />
      <SrcRect xOff="0" yOff="0" xSize="3712" ySize="5034" />
      <DstRect xOff="0" yOff="102925.860822986" xSize="3712" ySize="5034" />
      <NODATA>0</NODATA>
    </ComplexSource>
    <ComplexSource>
      <SourceFilename relativeToVRT="1">SRTM/Z3X4Y5_ZERONULL/N51E027_3857_zeroToNull.vrt</SourceFilename>
      <SourceBand>1</SourceBand>
      <SourceProperties RasterXSize="3711" RasterYSize="5962" DataType="Int16" BlockXSize="512" BlockYSize="128" />
      <SrcRect xOff="0" yOff="0" xSize="3711" ySize="5962" />
      <DstRect xOff="100187.541713946" yOff="53320.6081545127" xSize="3711" ySize="5962" />
      <NODATA>0</NODATA>
    </ComplexSource>
    <ComplexSource>
      <SourceFilename relativeToVRT="1">SRTM/Z3X4Y5_ZERONULL/N50E010_3857_zeroToNull.vrt</SourceFilename>
      <SourceBand>1</SourceBand>
      <SourceProperties RasterXSize="3712" RasterYSize="5836" DataType="Int16" BlockXSize="512" BlockYSize="128" />
      <SrcRect xOff="0" yOff="0" xSize="3712" ySize="5836" />
      <DstRect xOff="37106.4969310912" yOff="59281.684045025" xSize="3712" ySize="5836" />
      <NODATA>0</NODATA>
    </ComplexSource>
    <ComplexSource>
      <SourceFilename relativeToVRT="1">SRTM/Z3X4Y5_ZERONULL/N51E020_3857_zeroToNull.vrt</SourceFilename>
      <SourceBand>1</SourceBand>
      <SourceProperties RasterXSize="3711" RasterYSize="5962" DataType="Int16" BlockXSize="512" BlockYSize="128" />
      <SrcRect xOff="0" yOff="0" xSize="3711" ySize="5962" />
      <DstRect xOff="74212.9938621824" yOff="53320.6081545127" xSize="3711" ySize="5962" />
      <NODATA>0</NODATA>
    </ComplexSource>
    <ComplexSource>
      <SourceFilename relativeToVRT="1">SRTM/Z3X4Y5_ZERONULL/N56E037_3857_zeroToNull.vrt</SourceFilename>
      <SourceBand>1</SourceBand>
      <SourceProperties RasterXSize="3712" RasterYSize="6726" DataType="Int16" BlockXSize="512" BlockYSize="128" />
      <SrcRect xOff="0" yOff="0" xSize="3712" ySize="6726" />
      <DstRect xOff="137294.038645037" yOff="21320.7250441804" xSize="3712" ySize="6726" />
      <NODATA>0</NODATA>
    </ComplexSource>
    <ComplexSource>
      <SourceFilename relativeToVRT="1">SRTM/Z3X4Y5_ZERONULL/N49E032_3857_zeroToNull.vrt</SourceFilename>
      <SourceBand>1</SourceBand>
      <SourceProperties RasterXSize="3712" RasterYSize="5715" DataType="Int16" BlockXSize="512" BlockYSize="128" />
      <SrcRect xOff="0" yOff="0" xSize="3712" ySize="5715" />
      <DstRect xOff="118740.790179492" yOff="65115.6305934411" xSize="3712" ySize="5715" />
      <NODATA>0</NODATA>
    </ComplexSource>
    <ComplexSource>
      <SourceFilename relativeToVRT="1">SRTM/Z3X4Y5_ZERONULL/N44E001_3857_zeroToNull.vrt</SourceFilename>
      <SourceBand>1</SourceBand>
      <SourceProperties RasterXSize="3712" RasterYSize="5204" DataType="Int16" BlockXSize="512" BlockYSize="128" />
      <SrcRect xOff="0" yOff="0" xSize="3712" ySize="5204" />
      <DstRect xOff="3710.64969310912" yOff="92607.5153510827" xSize="3712" ySize="5204" />
      <NODATA>0</NODATA>
    </ComplexSource>
    <ComplexSource>
      <SourceFilename relativeToVRT="1">SRTM/Z3X4Y5_ZERONULL/N49E039_3857_zeroToNull.vrt</SourceFilename>
      <SourceBand>1</SourceBand>
      <SourceProperties RasterXSize="3712" RasterYSize="5715" DataType="Int16" BlockXSize="512" BlockYSize="128" />
      <SrcRect xOff="0" yOff="0" xSize="3712" ySize="5715" />
      <DstRect xOff="144715.338031256" yOff="65115.6305934411" xSize="3712" ySize="5715" />
      <NODATA>0</NODATA>
    </ComplexSource>
    <ComplexSource>
      <SourceFilename relativeToVRT="1">SRTM/Z3X4Y5_ZERONULL/N53E026_3857_zeroToNull.vrt</SourceFilename>
      <SourceBand>1</SourceBand>
      <SourceProperties RasterXSize="3711" RasterYSize="6241" DataType="Int16" BlockXSize="512" BlockYSize="128" />
      <SrcRect xOff="0" yOff="0" xSize="3711" ySize="6241" />
      <DstRect xOff="96476.8920208371" yOff="40986.2071342405" xSize="3711" ySize="6241" />
      <NODATA>0</NODATA>
    </ComplexSource>
    <ComplexSource>
      <SourceFilename relativeToVRT="1">SRTM/Z3X4Y5_ZERONULL/N43E023_3857_zeroToNull.vrt</SourceFilename>
      <SourceBand>1</SourceBand>
      <SourceProperties RasterXSize="3712" RasterYSize="5117" DataType="Int16" BlockXSize="512" BlockYSize="128" />
      <SrcRect xOff="0" yOff="0" xSize="3712" ySize="5117" />
      <DstRect xOff="85344.9429415097" yOff="97810.1711746906" xSize="3712" ySize="5117" />
      <NODATA>0</NODATA>
    </ComplexSource>
    <ComplexSource>
      <SourceFilename relativeToVRT="1">SRTM/Z3X4Y5_ZERONULL/N47E009_3857_zeroToNull.vrt</SourceFilename>
      <SourceBand>1</SourceBand>
      <SourceProperties RasterXSize="3712" RasterYSize="5494" DataType="Int16" BlockXSize="512" BlockYSize="128" />
      <SrcRect xOff="0" yOff="0" xSize="3712" ySize="5494" />
      <DstRect xOff="33395.8472379821" yOff="76429.695696186" xSize="3712" ySize="5494" />
      <NODATA>0</NODATA>
    </ComplexSource>
    <ComplexSource>
      <SourceFilename relativeToVRT="1">SRTM/Z3X4Y5_ZERONULL/N41E008_3857_zeroToNull.vrt</SourceFilename>
      <SourceBand>1</SourceBand>
      <SourceProperties RasterXSize="3712" RasterYSize="4956" DataType="Int16" BlockXSize="512" BlockYSize="128" />
      <SrcRect xOff="0" yOff="0" xSize="3712" ySize="4956" />
      <DstRect xOff="29685.197544873" yOff="107958.95210032" xSize="3712" ySize="4956" />
      <NODATA>0</NODATA>
    </ComplexSource>
    <ComplexSource>
      <SourceFilename relativeToVRT="1">SRTM/Z3X4Y5_ZERONULL/N57E040_3857_zeroToNull.vrt</SourceFilename>
      <SourceBand>1</SourceBand>
      <SourceProperties RasterXSize="3711" RasterYSize="6908" DataType="Int16" BlockXSize="512" BlockYSize="128" />
      <SrcRect xOff="0" yOff="0" xSize="3711" ySize="6908" />
      <DstRect xOff="148425.987724365" yOff="14414.0700224258" xSize="3711" ySize="6908" />
      <NODATA>0</NODATA>
    </ComplexSource>
    <ComplexSource>
      <SourceFilename relativeToVRT="1">SRTM/Z3X4Y5_ZERONULL/N53E021_3857_zeroToNull.vrt</SourceFilename>
      <SourceBand>1</SourceBand>
      <SourceProperties RasterXSize="3711" RasterYSize="6241" DataType="Int16" BlockXSize="512" BlockYSize="128" />
      <SrcRect xOff="0" yOff="0" xSize="3711" ySize="6241" />
      <DstRect xOff="77923.6435552915" yOff="40986.2071342405" xSize="3711" ySize="6241" />
      <NODATA>0</NODATA>
    </ComplexSource>
    <ComplexSource>
      <SourceFilename relativeToVRT="1">SRTM/Z3X4Y5_ZERONULL/N48E014_3857_zeroToNull.vrt</SourceFilename>
      <SourceBand>1</SourceBand>
      <SourceProperties RasterXSize="3712" RasterYSize="5601" DataType="Int16" BlockXSize="512" BlockYSize="128" />
      <SrcRect xOff="0" yOff="0" xSize="3712" ySize="5601" />
      <DstRect xOff="51949.0957035277" yOff="70829.4617128694" xSize="3712" ySize="5601" />
      <NODATA>0</NODATA>
    </ComplexSource>
    <ComplexSource>
      <SourceFilename relativeToVRT="1">SRTM/Z3X4Y5_ZERONULL/N58E010_3857_zeroToNull.vrt</SourceFilename>
      <SourceBand>1</SourceBand>
      <SourceProperties RasterXSize="3711" RasterYSize="7105" DataType="Int16" BlockXSize="512" BlockYSize="128" />
      <SrcRect xOff="0" yOff="0" xSize="3711" ySize="7105" />
      <DstRect xOff="37106.4969310912" yOff="7311.73022499929" xSize="3711" ySize="7105" />
      <NODATA>0</NODATA>
    </ComplexSource>
    <ComplexSource>
      <SourceFilename relativeToVRT="1">SRTM/Z3X4Y5_ZERONULL/N52E027_3857_zeroToNull.vrt</SourceFilename>
      <SourceBand>1</SourceBand>
      <SourceProperties RasterXSize="3712" RasterYSize="6097" DataType="Int16" BlockXSize="512" BlockYSize="128" />
      <SrcRect xOff="0" yOff="0" xSize="3712" ySize="6097" />
      <DstRect xOff="100187.541713946" yOff="47224.8400282538" xSize="3712" ySize="6097" />
      <NODATA>0</NODATA>
    </ComplexSource>
    <ComplexSource>
      <SourceFilename relativeToVRT="1">SRTM/Z3X4Y5_ZERONULL/N53E022_3857_zeroToNull.vrt</SourceFilename>
      <SourceBand>1</SourceBand>
      <SourceProperties RasterXSize="3711" RasterYSize="6241" DataType="Int16" BlockXSize="512" BlockYSize="128" />
      <SrcRect xOff="0" yOff="0" xSize="3711" ySize="6241" />
      <DstRect xOff="81634.2932484006" yOff="40986.2071342405" xSize="3711" ySize="6241" />
      <NODATA>0</NODATA>
    </ComplexSource>
    <ComplexSource>
      <SourceFilename relativeToVRT="1">SRTM/Z3X4Y5_ZERONULL/N51E011_3857_zeroToNull.vrt</SourceFilename>
      <SourceBand>1</SourceBand>
      <SourceProperties RasterXSize="3711" RasterYSize="5962" DataType="Int16" BlockXSize="512" BlockYSize="128" />
      <SrcRect xOff="0" yOff="0" xSize="3711" ySize="5962" />
      <DstRect xOff="40817.1466242003" yOff="53320.6081545127" xSize="3711" ySize="5962" />
      <NODATA>0</NODATA>
    </ComplexSource>
    <ComplexSource>
      <SourceFilename relativeToVRT="1">SRTM/Z3X4Y5_ZERONULL/N51E006_3857_zeroToNull.vrt</SourceFilename>
      <SourceBand>1</SourceBand>
      <SourceProperties RasterXSize="3711" RasterYSize="5962" DataType="Int16" BlockXSize="512" BlockYSize="128" />
      <SrcRect xOff="0" yOff="0" xSize="3711" ySize="5962" />
      <DstRect xOff="22263.8981586547" yOff="53320.6081545127" xSize="3711" ySize="5962" />
      <NODATA>0</NODATA>
    </ComplexSource>
    <ComplexSource>
      <SourceFilename relativeToVRT="1">SRTM/Z3X4Y5_ZERONULL/N53E005_3857_zeroToNull.vrt</SourceFilename>
      <SourceBand>1</SourceBand>
      <SourceProperties RasterXSize="3711" RasterYSize="6241" DataType="Int16" BlockXSize="512" BlockYSize="128" />
      <SrcRect xOff="0" yOff="0" xSize="3711" ySize="6241" />
      <DstRect xOff="18553.2484655456" yOff="40986.2071342405" xSize="3711" ySize="6241" />
      <NODATA>0</NODATA>
    </ComplexSource>
    <ComplexSource>
      <SourceFilename relativeToVRT="1">SRTM/Z3X4Y5_ZERONULL/N52E018_3857_zeroToNull.vrt</SourceFilename>
      <SourceBand>1</SourceBand>
      <SourceProperties RasterXSize="3712" RasterYSize="6097" DataType="Int16" BlockXSize="512" BlockYSize="128" />
      <SrcRect xOff="0" yOff="0" xSize="3712" ySize="6097" />
      <DstRect xOff="66791.6944759641" yOff="47224.8400282538" xSize="3712" ySize="6097" />
      <NODATA>0</NODATA>
    </ComplexSource>
    <ComplexSource>
      <SourceFilename relativeToVRT="1">SRTM/Z3X4Y5_ZERONULL/N53E014_3857_zeroToNull.vrt</SourceFilename>
      <SourceBand>1</SourceBand>
      <SourceProperties RasterXSize="3711" RasterYSize="6241" DataType="Int16" BlockXSize="512" BlockYSize="128" />
      <SrcRect xOff="0" yOff="0" xSize="3711" ySize="6241" />
      <DstRect xOff="51949.0957035277" yOff="40986.2071342405" xSize="3711" ySize="6241" />
      <NODATA>0</NODATA>
    </ComplexSource>
    <ComplexSource>
      <SourceFilename relativeToVRT="1">SRTM/Z3X4Y5_ZERONULL/N47E033_3857_zeroToNull.vrt</SourceFilename>
      <SourceBand>1</SourceBand>
      <SourceProperties RasterXSize="3712" RasterYSize="5494" DataType="Int16" BlockXSize="512" BlockYSize="128" />
      <SrcRect xOff="0" yOff="0" xSize="3712" ySize="5494" />
      <DstRect xOff="122451.439872601" yOff="76429.695696186" xSize="3712" ySize="5494" />
      <NODATA>0</NODATA>
    </ComplexSource>
    <ComplexSource>
      <SourceFilename relativeToVRT="1">SRTM/Z3X4Y5_ZERONULL/N42E034_3857_zeroToNull.vrt</SourceFilename>
      <SourceBand>1</SourceBand>
