<VRTDataset rasterXSize="2773" rasterYSize="1809" subClass="VRTWarpedDataset">
  <SRS dataAxisToSRSAxisMapping="2,1">GEOGCS["WGS 84",DATUM["WGS_1984",SPHEROID["WGS 84",6378137,298.257223563,AUTHORITY["EPSG","7030"]],AUTHORITY["EPSG","6326"]],PRIMEM["Greenwich",0,AUTHORITY["EPSG","8901"]],UNIT["degree",0.0174532925199433,AUTHORITY["EPSG","9122"]],AXIS["Latitude",NORTH],AXIS["Longitude",EAST],AUTHORITY["EPSG","4326"]]</SRS>
  <GeoTransform>  1.5623316323227998e+01,  1.2482130774428070e-05,  0.0000000000000000e+00,  5.4125872732987752e+01,  0.0000000000000000e+00, -1.2482130774428070e-05</GeoTransform>
  <Metadata>
    <MDI key="AREA_OR_POINT">Point</MDI>
  </Metadata>
  <VRTRasterBand dataType="Float32" band="1" subClass="VRTWarpedRasterBand">
    <NoDataValue>-9999</NoDataValue>
  </VRTRasterBand>
  <BlockXSize>512</BlockXSize>
  <BlockYSize>128</BlockYSize>
  <GDALWarpOptions>
    <WarpMemoryLimit>6.71089e+07</WarpMemoryLimit>
    <ResampleAlg>NearestNeighbour</ResampleAlg>
    <WorkingDataType>Float32</WorkingDataType>
    <Option name="INIT_DEST">NO_DATA</Option>
    <Option name="ERROR_OUT_IF_EMPTY_SOURCE_WINDOW">FALSE</Option>
    <SourceDataset relativeToVRT="1">76024_1184151_N-33-68-C-b-3-1.asc</SourceDataset>
    <Transformer>
      <ApproxTransformer>
        <MaxError>0.125</MaxError>
        <BaseTransformer>
          <GenImgProjTransformer>
            <SrcGeoTransform>279429.5,1,0,700893.5,0,-1</SrcGeoTransform>
            <SrcInvGeoTransform>-279429.5,1,0,700893.5,0,-1</SrcInvGeoTransform>
            <DstGeoTransform>15.6233163232279981,1.24821307744280705e-05,0,54.1258727329877516,0,-1.24821307744280705e-05</DstGeoTransform>
            <DstInvGeoTransform>-1251654.59372010594,80114.5267640267848,0,4336268.67969325464,0,-80114.5267640267848</DstInvGeoTransform>
            <ReprojectTransformer>
              <ReprojectionTransformer>
                <SourceSRS>PROJCS["ETRF2000-PL / CS92",GEOGCS["ETRF2000-PL",DATUM["ETRF2000_Poland",SPHEROID["GRS 1980",6378137,298.257222101,AUTHORITY["EPSG","7019"]],AUTHORITY["EPSG","1305"]],PRIMEM["Greenwich",0,AUTHORITY["EPSG","8901"]],UNIT["degree",0.0174532925199433,AUTHORITY["EPSG","9122"]],AUTHORITY["EPSG","9702"]],PROJECTION["Transverse_Mercator"],PARAMETER["latitude_of_origin",0],PARAMETER["central_meridian",19],PARAMETER["scale_factor",0.9993],PARAMETER["false_easting",500000],PARAMETER["false_northing",-5300000],UNIT["metre",1,AUTHORITY["EPSG","9001"]],AXIS["Northing",NORTH],AXIS["Easting",EAST],AUTHORITY["EPSG","2180"]]</SourceSRS>
                <TargetSRS>GEOGCS["WGS 84",DATUM["WGS_1984",SPHEROID["WGS 84",6378137,298.257223563,AUTHORITY["EPSG","7030"]],AUTHORITY["EPSG","6326"]],PRIMEM["Greenwich",0,AUTHORITY["EPSG","8901"]],UNIT["degree",0.0174532925199433,AUTHORITY["EPSG","9122"]],AXIS["Latitude",NORTH],AXIS["Longitude",EAST],AUTHORITY["EPSG","4326"]]</TargetSRS>
                <Options>
                  <Option key="AREA_OF_INTEREST">15.623316323228,54.1032979889814,15.65792792884856,54.12587273298775</Option>
                </Options>
              </ReprojectionTransformer>
            </ReprojectTransformer>
          </GenImgProjTransformer>
        </BaseTransformer>
      </ApproxTransformer>
    </Transformer>
    <BandList>
      <BandMapping src="1" dst="1">
        <SrcNoDataReal>-9999</SrcNoDataReal>
        <SrcNoDataImag>0</SrcNoDataImag>
        <DstNoDataReal>-9999</DstNoDataReal>
        <DstNoDataImag>0</DstNoDataImag>
      </BandMapping>
    </BandList>
  </GDALWarpOptions>
</VRTDataset>
