<VRTDataset rasterXSize="2766" rasterYSize="1805" subClass="VRTWarpedDataset">
  <SRS dataAxisToSRSAxisMapping="2,1">GEOGCS["WGS 84",DATUM["WGS_1984",SPHEROID["WGS 84",6378137,298.257223563,AUTHORITY["EPSG","7030"]],AUTHORITY["EPSG","6326"]],PRIMEM["Greenwich",0,AUTHORITY["EPSG","8901"]],UNIT["degree",0.0174532925199433,AUTHORITY["EPSG","9122"]],AXIS["Latitude",NORTH],AXIS["Longitude",EAST],AUTHORITY["EPSG","4326"]]</SRS>
  <GeoTransform>  1.5717110628556517e+01,  1.2480427868375959e-05,  0.0000000000000000e+00,  5.4167508184512329e+01,  0.0000000000000000e+00, -1.2480427868375959e-05</GeoTransform>
  <Metadata>
    <MDI key="AREA_OR_POINT">Point</MDI>
  </Metadata>
  <VRTRasterBand dataType="Float32" band="1" subClass="VRTWarpedRasterBand">
    <NoDataValue>-9999</NoDataValue>
  </VRTRasterBand>
  <BlockXSize>512</BlockXSize>
  <BlockYSize>128</BlockYSize>
  <GDALWarpOptions>
    <WarpMemoryLimit>6.71089e+07</WarpMemoryLimit>
    <ResampleAlg>NearestNeighbour</ResampleAlg>
    <WorkingDataType>Float32</WorkingDataType>
    <Option name="INIT_DEST">NO_DATA</Option>
    <Option name="ERROR_OUT_IF_EMPTY_SOURCE_WINDOW">FALSE</Option>
    <SourceDataset relativeToVRT="1">76024_1184145_N-33-68-C-b-2-2.asc</SourceDataset>
    <Transformer>
      <ApproxTransformer>
        <MaxError>0.125</MaxError>
        <BaseTransformer>
          <GenImgProjTransformer>
            <SrcGeoTransform>285769.5,1,0,705236.5,0,-1</SrcGeoTransform>
            <SrcInvGeoTransform>-285769.5,1,0,705236.5,0,-1</SrcInvGeoTransform>
            <DstGeoTransform>15.717110628556517,1.24804278683759588e-05,0,54.1675081845123287,0,-1.24804278683759588e-05</DstGeoTransform>
            <DstInvGeoTransform>-1259340.6888222124,80125.4580809597683,0,4340196.40638818778,0,-80125.4580809597683</DstInvGeoTransform>
            <ReprojectTransformer>
              <ReprojectionTransformer>
                <SourceSRS>PROJCS["ETRF2000-PL / CS92",GEOGCS["ETRF2000-PL",DATUM["ETRF2000_Poland",SPHEROID["GRS 1980",6378137,298.257222101,AUTHORITY["EPSG","7019"]],AUTHORITY["EPSG","1305"]],PRIMEM["Greenwich",0,AUTHORITY["EPSG","8901"]],UNIT["degree",0.0174532925199433,AUTHORITY["EPSG","9122"]],AUTHORITY["EPSG","9702"]],PROJECTION["Transverse_Mercator"],PARAMETER["latitude_of_origin",0],PARAMETER["central_meridian",19],PARAMETER["scale_factor",0.9993],PARAMETER["false_easting",500000],PARAMETER["false_northing",-5300000],UNIT["metre",1,AUTHORITY["EPSG","9001"]],AXIS["Northing",NORTH],AXIS["Easting",EAST],AUTHORITY["EPSG","2180"]]</SourceSRS>
                <TargetSRS>GEOGCS["WGS 84",DATUM["WGS_1984",SPHEROID["WGS 84",6378137,298.257223563,AUTHORITY["EPSG","7030"]],AUTHORITY["EPSG","6326"]],PRIMEM["Greenwich",0,AUTHORITY["EPSG","8901"]],UNIT["degree",0.0174532925199433,AUTHORITY["EPSG","9122"]],AXIS["Latitude",NORTH],AXIS["Longitude",EAST],AUTHORITY["EPSG","4326"]]</TargetSRS>
                <Options>
                  <Option key="AREA_OF_INTEREST">15.71711062855652,54.14498567219302,15.75163349564977,54.16750818451233</Option>
                </Options>
              </ReprojectionTransformer>
            </ReprojectTransformer>
          </GenImgProjTransformer>
        </BaseTransformer>
      </ApproxTransformer>
    </Transformer>
    <BandList>
      <BandMapping src="1" dst="1">
        <SrcNoDataReal>-9999</SrcNoDataReal>
        <SrcNoDataImag>0</SrcNoDataImag>
        <DstNoDataReal>-9999</DstNoDataReal>
        <DstNoDataImag>0</DstNoDataImag>
      </BandMapping>
    </BandList>
  </GDALWarpOptions>
</VRTDataset>
