<VRTDataset rasterXSize="27653" rasterYSize="10097">
  <SRS dataAxisToSRSAxisMapping="2,1">GEOGCS["WGS 84",DATUM["WGS_1984",SPHEROID["WGS 84",6378137,298.257223563,AUTHORITY["EPSG","7030"]],AUTHORITY["EPSG","6326"]],PRIMEM["Greenwich",0,AUTHORITY["EPSG","8901"]],UNIT["degree",0.0174532925199433,AUTHORITY["EPSG","9122"]],AXIS["Latitude",NORTH],AXIS["Longitude",EAST],AUTHORITY["EPSG","4326"]]</SRS>
  <GeoTransform>  1.5404450356798831e+01,  1.2555165971460848e-05,  0.0000000000000000e+00,  5.4230013618841845e+01,  0.0000000000000000e+00, -1.2555165971460848e-05</GeoTransform>
  <VRTRasterBand dataType="Float32" band="1">
    <NoDataValue>-9999</NoDataValue>
    <ComplexSource>
      <SourceFilename relativeToVRT="1">KolobrzegDTM/76024_1184051_N-33-67-D-b-4-2_4326.vrt</SourceFilename>
      <SourceBand>1</SourceBand>
      <SourceProperties RasterXSize="2782" RasterYSize="1813" DataType="Float32" BlockXSize="512" BlockYSize="128" />
      <SrcRect xOff="0" yOff="0" xSize="2782" ySize="1813" />
      <DstRect xOff="4980.6284847412" yOff="8291.3498984138" xSize="2768.83581529615" ySize="1804.42103994677" />
      <NODATA>-9999</NODATA>
    </ComplexSource>
    <ComplexSource>
      <SourceFilename relativeToVRT="1">KolobrzegDTM/76024_1184146_N-33-68-C-b-2-3_4326.vrt</SourceFilename>
      <SourceBand>1</SourceBand>
      <SourceProperties RasterXSize="2770" RasterYSize="1807" DataType="Float32" BlockXSize="512" BlockYSize="128" />
      <SrcRect xOff="0" yOff="0" xSize="2770" ySize="1807" />
      <DstRect xOff="22411.758019114" yOff="6636.51712332015" xSize="2753.43272013973" ySize="1796.19239180234" />
      <NODATA>-9999</NODATA>
    </ComplexSource>
    <ComplexSource>
      <SourceFilename relativeToVRT="1">KolobrzegDTM/76024_1184149_N-33-68-C-b-2-4_4326.vrt</SourceFilename>
      <SourceBand>1</SourceBand>
      <SourceProperties RasterXSize="2767" RasterYSize="1805" DataType="Float32" BlockXSize="512" BlockYSize="128" />
      <SrcRect xOff="0" yOff="0" xSize="2767" ySize="1805" />
      <DstRect xOff="24902.5374152087" yOff="6637.73356973201" xSize="2749.81254589507" ySize="1793.78809011225" />
      <NODATA>-9999</NODATA>
    </ComplexSource>
    <ComplexSource>
      <SourceFilename relativeToVRT="1">KolobrzegDTM/76024_1184141_N-33-68-C-b-1-4_4326.vrt</SourceFilename>
      <SourceBand>1</SourceBand>
      <SourceProperties RasterXSize="2770" RasterYSize="1807" DataType="Float32" BlockXSize="512" BlockYSize="128" />
      <SrcRect xOff="0" yOff="0" xSize="2770" ySize="1807" />
      <DstRect xOff="19922.2230499449" yOff="6635.98061106565" xSize="2754.00278173472" ySize="1796.56426952875" />
      <NODATA>-9999</NODATA>
    </ComplexSource>
    <ComplexSource>
      <SourceFilename relativeToVRT="1">KolobrzegDTM/76023_1182905_N-33-67-B-d-4-4_4326.vrt</SourceFilename>
      <SourceBand>1</SourceBand>
      <SourceProperties RasterXSize="2626" RasterYSize="1458" DataType="Float32" BlockXSize="512" BlockYSize="128" />
      <SrcRect xOff="0" yOff="0" xSize="2626" ySize="1458" />
      <DstRect xOff="5004.56083079241" yOff="3604.61867901761" xSize="2726.60463256121" ySize="1513.85740832987" />
      <NODATA>-9999</NODATA>
    </ComplexSource>
    <ComplexSource>
      <SourceFilename relativeToVRT="1">KolobrzegDTM/75499_1144017_N-33-68-A-c-4-3_4326.vrt</SourceFilename>
      <SourceBand>1</SourceBand>
      <SourceProperties RasterXSize="2775" RasterYSize="1809" DataType="Float32" BlockXSize="512" BlockYSize="128" />
      <SrcRect xOff="0" yOff="0" xSize="2775" ySize="1809" />
      <DstRect xOff="12451.3840134385" yOff="3315.23672033039" xSize="2762.23538440852" ySize="1800.6788505928" />
      <NODATA>-9999</NODATA>
    </ComplexSource>
    <ComplexSource>
      <SourceFilename relativeToVRT="1">KolobrzegDTM/76024_1184074_N-33-68-A-d-2-3_4326.vrt</SourceFilename>
      <SourceBand>1</SourceBand>
      <SourceProperties RasterXSize="2756" RasterYSize="1775" DataType="Float32" BlockXSize="512" BlockYSize="128" />
      <SrcRect xOff="0" yOff="0" xSize="2756" ySize="1775" />
      <DstRect xOff="22413.5518390317" yOff="22.3463869698045" xSize="2751.32388302282" ySize="1771.98834991492" />
      <NODATA>-9999</NODATA>
    </ComplexSource>
    <ComplexSource>
      <SourceFilename relativeToVRT="1">KolobrzegDTM/76024_1184028_N-33-68-C-a-4-2_4326.vrt</SourceFilename>
      <SourceBand>1</SourceBand>
      <SourceProperties RasterXSize="2775" RasterYSize="1810" DataType="Float32" BlockXSize="512" BlockYSize="128" />
      <SrcRect xOff="0" yOff="0" xSize="2775" ySize="1810" />
      <DstRect xOff="14941.5641756419" yOff="8294.00763481149" xSize="2759.46071916919" ySize="1799.86446907973" />
      <NODATA>-9999</NODATA>
    </ComplexSource>
    <ComplexSource>
      <SourceFilename relativeToVRT="1">KolobrzegDTM/75499_1144015_N-33-68-A-c-4-2_4326.vrt</SourceFilename>
      <SourceBand>1</SourceBand>
      <SourceProperties RasterXSize="2661" RasterYSize="1555" DataType="Float32" BlockXSize="512" BlockYSize="128" />
      <SrcRect xOff="0" yOff="0" xSize="2661" ySize="1555" />
      <DstRect xOff="14958.2146278675" yOff="1863.06699923963" xSize="2726.1184263008" ySize="1593.0530450574" />
      <NODATA>-9999</NODATA>
    </ComplexSource>
    <ComplexSource>
      <SourceFilename relativeToVRT="1">KolobrzegDTM/76024_1184123_N-33-68-C-a-3-1_4326.vrt</SourceFilename>
      <SourceBand>1</SourceBand>
      <SourceProperties RasterXSize="2781" RasterYSize="1812" DataType="Float32" BlockXSize="512" BlockYSize="128" />
      <SrcRect xOff="0" yOff="0" xSize="2781" ySize="1812" />
      <DstRect xOff="7470.31640447263" yOff="8292.27714589254" xSize="2767.5504695543" ySize="1803.23676764919" />
      <NODATA>-9999</NODATA>
    </ComplexSource>
    <ComplexSource>
      <SourceFilename relativeToVRT="1">KolobrzegDTM/76024_1184118_N-33-68-C-a-2-3_4326.vrt</SourceFilename>
      <SourceBand>1</SourceBand>
      <SourceProperties RasterXSize="2776" RasterYSize="1810" DataType="Float32" BlockXSize="512" BlockYSize="128" />
      <SrcRect xOff="0" yOff="0" xSize="2776" ySize="1810" />
      <DstRect xOff="12451" yOff="6633.92979778293" xSize="2761.78183364604" ySize="1800.72950968996" />
      <NODATA>-9999</NODATA>
    </ComplexSource>
    <ComplexSource>
      <SourceFilename relativeToVRT="1">KolobrzegDTM/75499_1144031_N-33-68-C-a-1-2_4326.vrt</SourceFilename>
      <SourceBand>1</SourceBand>
      <SourceProperties RasterXSize="2778" RasterYSize="1809" DataType="Float32" BlockXSize="512" BlockYSize="128" />
      <SrcRect xOff="0" yOff="0" xSize="2778" ySize="1809" />
      <DstRect xOff="9960.35924046976" yOff="4974.4368520193" xSize="2765.69465460855" ySize="1800.98690791464" />
      <NODATA>-9999</NODATA>
    </ComplexSource>
    <ComplexSource>
      <SourceFilename relativeToVRT="1">KolobrzegDTM/76024_1184120_N-33-68-C-a-2-4_4326.vrt</SourceFilename>
      <SourceBand>1</SourceBand>
      <SourceProperties RasterXSize="2774" RasterYSize="1809" DataType="Float32" BlockXSize="512" BlockYSize="128" />
      <SrcRect xOff="0" yOff="0" xSize="2774" ySize="1809" />
      <DstRect xOff="14941.8443013521" yOff="6634.6699670261" xSize="2759.18825604736" ySize="1799.34086344257" />
      <NODATA>-9999</NODATA>
    </ComplexSource>
    <ComplexSource>
      <SourceFilename relativeToVRT="1">KolobrzegDTM/75499_1144053_N-33-68-A-c-3-3_4326.vrt</SourceFilename>
      <SourceBand>1</SourceBand>
      <SourceProperties RasterXSize="2762" RasterYSize="1767" DataType="Float32" BlockXSize="512" BlockYSize="128" />
      <SrcRect xOff="0" yOff="0" xSize="2762" ySize="1767" />
      <DstRect xOff="7473.70330741978" yOff="3349.19101505887" xSize="2764.23655693721" ySize="1768.43084580306" />
      <NODATA>-9999</NODATA>
    </ComplexSource>
    <ComplexSource>
      <SourceFilename relativeToVRT="1">KolobrzegDTM/76024_1184030_N-33-67-D-b-2-4_4326.vrt</SourceFilename>
      <SourceBand>1</SourceBand>
      <SourceProperties RasterXSize="2782" RasterYSize="1813" DataType="Float32" BlockXSize="512" BlockYSize="128" />
      <SrcRect xOff="0" yOff="0" xSize="2782" ySize="1813" />
      <DstRect xOff="4980.7724010441" yOff="6631.94736730724" xSize="2769.56442360291" ySize="1804.8958662804" />
      <NODATA>-9999</NODATA>
    </ComplexSource>
    <ComplexSource>
      <SourceFilename relativeToVRT="1">KolobrzegDTM/76024_1184125_N-33-68-C-a-3-2_4326.vrt</SourceFilename>
      <SourceBand>1</SourceBand>
      <SourceProperties RasterXSize="2778" RasterYSize="1811" DataType="Float32" BlockXSize="512" BlockYSize="128" />
      <SrcRect xOff="0" yOff="0" xSize="2778" ySize="1811" />
      <DstRect xOff="9961.1890762644" yOff="8293.171765859" xSize="2763.92901611724" ySize="1801.82701518658" />
      <NODATA>-9999</NODATA>
    </ComplexSource>
    <ComplexSource>
      <SourceFilename relativeToVRT="1">KolobrzegDTM/75499_1144026_N-33-68-A-d-3-4_4326.vrt</SourceFilename>
      <SourceBand>1</SourceBand>
      <SourceProperties RasterXSize="2769" RasterYSize="1806" DataType="Float32" BlockXSize="512" BlockYSize="128" />
      <SrcRect xOff="0" yOff="0" xSize="2769" ySize="1806" />
      <DstRect xOff="19921.5951698421" yOff="3317.41646872639" xSize="2754.44724269648" ySize="1796.5083858107" />
      <NODATA>-9999</NODATA>
    </ComplexSource>
    <ComplexSource>
      <SourceFilename relativeToVRT="1">KolobrzegDTM/76024_1184143_N-33-68-C-b-2-1_4326.vrt</SourceFilename>
      <SourceBand>1</SourceBand>
      <SourceProperties RasterXSize="2768" RasterYSize="1806" DataType="Float32" BlockXSize="512" BlockYSize="128" />
      <SrcRect xOff="0" yOff="0" xSize="2768" ySize="1806" />
      <DstRect xOff="22412.1046022182" yOff="4977.26470957541" xSize="2752.12841104721" ySize="1795.64447628297" />
      <NODATA>-9999</NODATA>
    </ComplexSource>
    <ComplexSource>
      <SourceFilename relativeToVRT="1">KolobrzegDTM/75499_1144035_N-33-68-C-b-1-1_4326.vrt</SourceFilename>
      <SourceBand>1</SourceBand>
      <SourceProperties RasterXSize="2772" RasterYSize="1808" DataType="Float32" BlockXSize="512" BlockYSize="128" />
      <SrcRect xOff="0" yOff="0" xSize="2772" ySize="1808" />
      <DstRect xOff="17431.7186963072" yOff="4976.05926369736" xSize="2757.31626034737" ySize="1798.42272680665" />
      <NODATA>-9999</NODATA>
    </ComplexSource>
    <ComplexSource>
      <SourceFilename relativeToVRT="1">KolobrzegDTM/76024_1184075_N-33-68-A-d-2-4_4326.vrt</SourceFilename>
      <SourceBand>1</SourceBand>
      <SourceProperties RasterXSize="2765" RasterYSize="1803" DataType="Float32" BlockXSize="512" BlockYSize="128" />
      <SrcRect xOff="0" yOff="0" xSize="2764.72792980646" ySize="1803" />
      <DstRect xOff="24902.5791407712" yOff="0" xSize="2750.42085922879" ySize="1793.66973354831" />
      <NODATA>-9999</NODATA>
    </ComplexSource>
    <ComplexSource>
      <SourceFilename relativeToVRT="1">KolobrzegDTM/75499_1144029_N-33-68-C-a-1-1_4326.vrt</SourceFilename>
      <SourceBand>1</SourceBand>
      <SourceProperties RasterXSize="2779" RasterYSize="1812" DataType="Float32" BlockXSize="512" BlockYSize="128" />
      <SrcRect xOff="0" yOff="0" xSize="2779" ySize="1812" />
      <DstRect xOff="7470.63546216144" yOff="4973.54476258267" xSize="2766.70163766329" ySize="1803.98106061385" />
      <NODATA>-9999</NODATA>
    </ComplexSource>
    <ComplexSource>
      <SourceFilename relativeToVRT="1">KolobrzegDTM/76024_1184066_N-33-68-A-d-4-2_4326.vrt</SourceFilename>
      <SourceBand>1</SourceBand>
      <SourceProperties RasterXSize="2765" RasterYSize="1805" DataType="Float32" BlockXSize="512" BlockYSize="128" />
      <SrcRect xOff="0" yOff="0" xSize="2765" ySize="1805" />
      <DstRect xOff="24902.3013238394" yOff="1659.25562453032" xSize="2749.69408876337" ySize="1795.00825685999" />
      <NODATA>-9999</NODATA>
    </ComplexSource>
    <ComplexSource>
      <SourceFilename relativeToVRT="1">KolobrzegDTM/76024_1184162_N-33-68-C-b-4-2_4326.vrt</SourceFilename>
      <SourceBand>1</SourceBand>
      <SourceProperties RasterXSize="2768" RasterYSize="1805" DataType="Float32" BlockXSize="512" BlockYSize="128" />
      <SrcRect xOff="0" yOff="0" xSize="2768" ySize="1805" />
      <DstRect xOff="24902.1225326394" yOff="8296.97568318304" xSize="2750.40322053521" ySize="1793.5252214834" />
      <NODATA>-9999</NODATA>
    </ComplexSource>
    <ComplexSource>
      <SourceFilename relativeToVRT="1">KolobrzegDTM/76024_1184145_N-33-68-C-b-2-2_4326.vrt</SourceFilename>
      <SourceBand>1</SourceBand>
      <SourceProperties RasterXSize="2766" RasterYSize="1805" DataType="Float32" BlockXSize="512" BlockYSize="128" />
      <SrcRect xOff="0" yOff="0" xSize="2766" ySize="1805" />
      <DstRect xOff="24902.9182464329" yOff="4978.46340475286" xSize="2749.53461884911" ySize="1794.2552375353" />
      <NODATA>-9999</NODATA>
    </ComplexSource>
    <ComplexSource>
      <SourceFilename relativeToVRT="1">KolobrzegDTM/76024_1184115_N-33-68-C-a-1-3_4326.vrt</SourceFilename>
      <SourceBand>1</SourceBand>
      <SourceProperties RasterXSize="2780" RasterYSize="1812" DataType="Float32" BlockXSize="512" BlockYSize="128" />
      <SrcRect xOff="0" yOff="0" xSize="2780" ySize="1812" />
      <DstRect xOff="7470.49422686906" yOff="6632.9261483907" xSize="2766.96968777606" ySize="1803.50686124109" />
      <NODATA>-9999</NODATA>
    </ComplexSource>
    <ComplexSource>
      <SourceFilename relativeToVRT="1">KolobrzegDTM/75499_1144032_N-33-68-C-a-2-1_4326.vrt</SourceFilename>
      <SourceBand>1</SourceBand>
      <SourceProperties RasterXSize="2775" RasterYSize="1809" DataType="Float32" BlockXSize="512" BlockYSize="128" />
      <SrcRect xOff="0" yOff="0" xSize="2775" ySize="1809" />
      <DstRect xOff="12451.2692213477" yOff="4975.29568416607" xSize="2761.79008986932" ySize="1800.38856669319" />
      <NODATA>-9999</NODATA>
    </ComplexSource>
    <ComplexSource>
      <SourceFilename relativeToVRT="1">KolobrzegDTM/76024_1184069_N-33-68-A-d-4-4_4326.vrt</SourceFilename>
      <SourceBand>1</SourceBand>
      <SourceProperties RasterXSize="2766" RasterYSize="1805" DataType="Float32" BlockXSize="512" BlockYSize="128" />
      <SrcRect xOff="0" yOff="0" xSize="2766" ySize="1805" />
      <DstRect xOff="24901.9893532033" yOff="3318.51609152731" xSize="2749.97188866501" ySize="1794.54058533635" />
      <NODATA>-9999</NODATA>
    </ComplexSource>
    <ComplexSource>
      <SourceFilename relativeToVRT="1">KolobrzegDTM/76023_1182646_N-33-67-D-b-1-4_4326.vrt</SourceFilename>
      <SourceBand>1</SourceBand>
      <SourceProperties RasterXSize="2785" RasterYSize="1814" DataType="Float32" BlockXSize="512" BlockYSize="128" />
      <SrcRect xOff="0" yOff="0" xSize="2785" ySize="1814" />
      <DstRect xOff="0.13723692728094" yOff="6631.25090754049" xSize="2774.0381203084" ySize="1806.8600180393" />
      <NODATA>-9999</NODATA>
    </ComplexSource>
    <ComplexSource>
      <SourceFilename relativeToVRT="1">KolobrzegDTM/75499_1144012_N-33-68-A-c-3-4_4326.vrt</SourceFilename>
      <SourceBand>1</SourceBand>
      <SourceProperties RasterXSize="2777" RasterYSize="1809" DataType="Float32" BlockXSize="512" BlockYSize="128" />
      <SrcRect xOff="0" yOff="0" xSize="2777" ySize="1809" />
      <DstRect xOff="9960.49838359006" yOff="3315.11131996966" xSize="2765.11213247559" ySize="1801.25597682691" />
      <NODATA>-9999</NODATA>
    </ComplexSource>
    <ComplexSource>
      <SourceFilename relativeToVRT="1">KolobrzegDTM/75499_1144021_N-33-68-A-d-3-1_4326.vrt</SourceFilename>
      <SourceBand>1</SourceBand>
      <SourceProperties RasterXSize="2680" RasterYSize="1598" DataType="Float32" BlockXSize="512" BlockYSize="128" />
      <SrcRect xOff="0" yOff="0" xSize="2680" ySize="1598" />
      <DstRect xOff="17444.7817333186" yOff="1827.2303210764" xSize="2731.11649665389" ySize="1628.47916479587" />
      <NODATA>-9999</NODATA>
    </ComplexSource>
    <ComplexSource>
      <SourceFilename relativeToVRT="1">KolobrzegDTM/76024_1184131_N-33-68-C-a-4-1_4326.vrt</SourceFilename>
      <SourceBand>1</SourceBand>
      <SourceProperties RasterXSize="2778" RasterYSize="1810" DataType="Float32" BlockXSize="512" BlockYSize="128" />
      <SrcRect xOff="0" yOff="0" xSize="2778" ySize="1810" />
      <DstRect xOff="12450.7539260994" yOff="8293.24899426567" xSize="2763.36022426439" ySize="1800.46148521186" />
      <NODATA>-9999</NODATA>
    </ComplexSource>
    <ComplexSource>
      <SourceFilename relativeToVRT="1">KolobrzegDTM/75499_1144023_N-33-68-A-d-3-2_4326.vrt</SourceFilename>
      <SourceBand>1</SourceBand>
      <SourceProperties RasterXSize="2695" RasterYSize="1629" DataType="Float32" BlockXSize="512" BlockYSize="128" />
      <SrcRect xOff="0" yOff="0" xSize="2695" ySize="1629" />
      <DstRect xOff="19933.3438715204" yOff="1800.58467881981" xSize="2735.88706768068" ySize="1653.71429805262" />
      <NODATA>-9999</NODATA>
    </ComplexSource>
    <ComplexSource>
      <SourceFilename relativeToVRT="1">KolobrzegDTM/76024_1184151_N-33-68-C-b-3-1_4326.vrt</SourceFilename>
      <SourceBand>1</SourceBand>
      <SourceProperties RasterXSize="2773" RasterYSize="1809" DataType="Float32" BlockXSize="512" BlockYSize="128" />
      <SrcRect xOff="0" yOff="0" xSize="2773" ySize="1809" />
      <DstRect xOff="17432.3435410309" yOff="8294.66421159354" xSize="2756.8690621986" ySize="1798.47678814182" />
      <NODATA>-9999</NODATA>
    </ComplexSource>
    <ComplexSource>
      <SourceFilename relativeToVRT="1">KolobrzegDTM/75499_1144009_N-33-67-D-b-2-2_4326.vrt</SourceFilename>
      <SourceBand>1</SourceBand>
      <SourceProperties RasterXSize="2781" RasterYSize="1812" DataType="Float32" BlockXSize="512" BlockYSize="128" />
      <SrcRect xOff="0" yOff="0" xSize="2781" ySize="1812" />
      <DstRect xOff="4980.94033550899" yOff="4973.26426923366" xSize="2769.57711068602" ySize="1804.55725442757" />
      <NODATA>-9999</NODATA>
    </ComplexSource>
    <ComplexSource>
      <SourceFilename relativeToVRT="1">KolobrzegDTM/76024_1184139_N-33-68-C-b-1-3_4326.vrt</SourceFilename>
      <SourceBand>1</SourceBand>
      <SourceProperties RasterXSize="2772" RasterYSize="1808" DataType="Float32" BlockXSize="512" BlockYSize="128" />
      <SrcRect xOff="0" yOff="0" xSize="2772" ySize="1808" />
      <DstRect xOff="17431.4401931661" yOff="6635.37626371073" xSize="2756.59540991856" ySize="1797.9525617362" />
      <NODATA>-9999</NODATA>
    </ComplexSource>
    <ComplexSource>
      <SourceFilename relativeToVRT="1">KolobrzegDTM/76024_1184076_N-33-68-A-d-4-1_4326.vrt</SourceFilename>
      <SourceBand>1</SourceBand>
      <SourceProperties RasterXSize="2768" RasterYSize="1804" DataType="Float32" BlockXSize="512" BlockYSize="128" />
      <SrcRect xOff="0" yOff="0" xSize="2768" ySize="1804" />
      <DstRect xOff="22411.4748760054" yOff="1658.70791948034" xSize="2753.8800235025" ySize="1794.79752976825" />
      <NODATA>-9999</NODATA>
    </ComplexSource>
    <ComplexSource>
      <SourceFilename relativeToVRT="1">KolobrzegDTM/75499_1144034_N-33-68-C-a-2-2_4326.vrt</SourceFilename>
      <SourceBand>1</SourceBand>
      <SourceProperties RasterXSize="2775" RasterYSize="1808" DataType="Float32" BlockXSize="512" BlockYSize="128" />
      <SrcRect xOff="0" yOff="0" xSize="2775" ySize="1808" />
      <DstRect xOff="14940.8707556935" yOff="4975.33707324716" xSize="2761.21963589254" ySize="1799.021658268" />
      <NODATA>-9999</NODATA>
    </ComplexSource>
    <ComplexSource>
      <SourceFilename relativeToVRT="1">KolobrzegDTM/75499_1144025_N-33-68-A-d-3-3_4326.vrt</SourceFilename>
      <SourceBand>1</SourceBand>
      <SourceProperties RasterXSize="2771" RasterYSize="1807" DataType="Float32" BlockXSize="512" BlockYSize="128" />
      <SrcRect xOff="0" yOff="0" xSize="2771" ySize="1807" />
      <DstRect xOff="17431.9620267389" yOff="3316.747054917" xSize="2757.04272516583" ySize="1797.89830544015" />
      <NODATA>-9999</NODATA>
    </ComplexSource>
    <ComplexSource>
      <SourceFilename relativeToVRT="1">KolobrzegDTM/3654_289214_N-33-68-A-c-3-2_4326.vrt</SourceFilename>
      <SourceBand>1</SourceBand>
      <SourceProperties RasterXSize="2777" RasterYSize="1809" DataType="Float32" BlockXSize="512" BlockYSize="128" />
      <SrcRect xOff="0" yOff="0" xSize="2777" ySize="1809" />
      <DstRect xOff="9959.38191229894" yOff="1655.75571462316" xSize="2765.8736526944" ySize="1801.75204815418" />
      <NODATA>-9999</NODATA>
    </ComplexSource>
    <ComplexSource>
      <SourceFilename relativeToVRT="1">KolobrzegDTM/76023_1182654_N-33-67-D-b-4-1_4326.vrt</SourceFilename>
      <SourceBand>1</SourceBand>
      <SourceProperties RasterXSize="2785" RasterYSize="1813" DataType="Float32" BlockXSize="512" BlockYSize="128" />
      <SrcRect xOff="0" yOff="0" xSize="2785" ySize="1813" />
      <DstRect xOff="2489.75272869269" yOff="8291.0342627461" xSize="2773.01659255414" ySize="1805.19895235212" />
      <NODATA>-9999</NODATA>
    </ComplexSource>
    <ComplexSource>
      <SourceFilename relativeToVRT="1">KolobrzegDTM/75499_1144197_N-33-68-A-c-4-1_4326.vrt</SourceFilename>
      <SourceBand>1</SourceBand>
      <SourceProperties RasterXSize="2336" RasterYSize="869" DataType="Float32" BlockXSize="512" BlockYSize="128" />
      <SrcRect xOff="0" yOff="0" xSize="2336" ySize="869" />
      <DstRect xOff="12518.5209380938" yOff="2478.31491143267" xSize="2631.22376184656" ySize="978.824250447201" />
      <NODATA>-9999</NODATA>
    </ComplexSource>
    <ComplexSource>
      <SourceFilename relativeToVRT="1">KolobrzegDTM/76023_1182938_N-33-67-D-b-1-2_4326.vrt</SourceFilename>
      <SourceBand>1</SourceBand>
      <SourceProperties RasterXSize="2785" RasterYSize="1814" DataType="Float32" BlockXSize="512" BlockYSize="128" />
      <SrcRect xOff="0" yOff="0" xSize="2785" ySize="1814" />
      <DstRect xOff="0.174848728088645" yOff="4971.81978001076" xSize="2774.77074341618" ySize="1807.33720953571" />
      <NODATA>-9999</NODATA>
    </ComplexSource>
    <ComplexSource>
      <SourceFilename relativeToVRT="1">KolobrzegDTM/76023_1182940_N-33-67-D-b-2-3_4326.vrt</SourceFilename>
      <SourceBand>1</SourceBand>
      <SourceProperties RasterXSize="2783" RasterYSize="1813" DataType="Float32" BlockXSize="512" BlockYSize="128" />
      <SrcRect xOff="0" yOff="0" xSize="2783" ySize="1813" />
      <DstRect xOff="2489.86207488715" yOff="6631.65091456213" xSize="2771.44310467895" ySize="1805.47119970641" />
      <NODATA>-9999</NODATA>
    </ComplexSource>
    <ComplexSource>
      <SourceFilename relativeToVRT="1">KolobrzegDTM/76023_1182939_N-33-67-D-b-2-1_4326.vrt</SourceFilename>
      <SourceBand>1</SourceBand>
      <SourceProperties RasterXSize="2783" RasterYSize="1813" DataType="Float32" BlockXSize="512" BlockYSize="128" />
      <SrcRect xOff="0" yOff="0" xSize="2783" ySize="1813" />
      <DstRect xOff="2489.93410872264" yOff="4972.23650906082" xSize="2772.17405276612" ySize="1805.94737968558" />
      <NODATA>-9999</NODATA>
    </ComplexSource>
    <ComplexSource>
      <SourceFilename relativeToVRT="1">KolobrzegDTM/76024_1184160_N-33-68-C-b-4-1_4326.vrt</SourceFilename>
      <SourceBand>1</SourceBand>
      <SourceProperties RasterXSize="2769" RasterYSize="1807" DataType="Float32" BlockXSize="512" BlockYSize="128" />
      <SrcRect xOff="0" yOff="0" xSize="2769" ySize="1807" />
      <DstRect xOff="22412.5940889113" yOff="8295.8075934639" xSize="2751.40843721788" ySize="1795.52005996848" />
      <NODATA>-9999</NODATA>
    </ComplexSource>
    <ComplexSource>
      <SourceFilename relativeToVRT="1">KolobrzegDTM/76024_1184116_N-33-68-C-a-1-4_4326.vrt</SourceFilename>
      <SourceBand>1</SourceBand>
      <SourceProperties RasterXSize="2778" RasterYSize="1810" DataType="Float32" BlockXSize="512" BlockYSize="128" />
      <SrcRect xOff="0" yOff="0" xSize="2778" ySize="1810" />
      <DstRect xOff="9961.40131629296" yOff="6633.80194005608" xSize="2764.6546242006" ySize="1801.30484874121" />
      <NODATA>-9999</NODATA>
    </ComplexSource>
