<VRTDataset rasterXSize="5025" rasterYSize="5046" subClass="VRTWarpedDataset">
  <SRS dataAxisToSRSAxisMapping="1,2">PROJCS["WGS 84 / Pseudo-Mercator",GEOGCS["WGS 84",DATUM["WGS_1984",SPHEROID["WGS 84",6378137,298.257223563,AUTHORITY["EPSG","7030"]],AUTHORITY["EPSG","6326"]],PRIMEM["Greenwich",0,AUTHORITY["EPSG","8901"]],UNIT["degree",0.0174532925199433,AUTHORITY["EPSG","9122"]],AUTHORITY["EPSG","4326"]],PROJECTION["Mercator_1SP"],PARAMETER["central_meridian",0],PARAMETER["scale_factor",1],PARAMETER["false_easting",0],PARAMETER["false_northing",0],UNIT["metre",1,AUTHORITY["EPSG","9001"]],AXIS["Easting",EAST],AXIS["Northing",NORTH],EXTENSION["PROJ4","+proj=merc +a=6378137 +b=6378137 +lat_ts=0 +lon_0=0 +x_0=0 +y_0=0 +k=1 +units=m +nadgrids=@null +wktext +no_defs"],AUTHORITY["EPSG","3857"]]</SRS>
  <GeoTransform> -1.3619923947431665e+07,  3.8510827750856302e-01,  0.0000000000000000e+00,  4.6869083340132004e+06,  0.0000000000000000e+00, -3.8510827750856302e-01</GeoTransform>
  <Metadata>
    <MDI key="AREA_OR_POINT">Area</MDI>
    <MDI key="TIFFTAG_IMAGEDESCRIPTION">OrthoVista</MDI>
    <MDI key="TIFFTAG_RESOLUTIONUNIT">1 (unitless)</MDI>
    <MDI key="TIFFTAG_SOFTWARE">Inpho GmbH</MDI>
    <MDI key="TIFFTAG_XRESOLUTION">1</MDI>
    <MDI key="TIFFTAG_YRESOLUTION">1</MDI>
  </Metadata>
  <Metadata domain="IMAGE_STRUCTURE">
    <MDI key="INTERLEAVE">PIXEL</MDI>
  </Metadata>
  <VRTRasterBand dataType="Byte" band="1" subClass="VRTWarpedRasterBand">
    <ColorInterp>Red</ColorInterp>
  </VRTRasterBand>
  <VRTRasterBand dataType="Byte" band="2" subClass="VRTWarpedRasterBand">
    <ColorInterp>Green</ColorInterp>
  </VRTRasterBand>
  <VRTRasterBand dataType="Byte" band="3" subClass="VRTWarpedRasterBand">
    <ColorInterp>Blue</ColorInterp>
  </VRTRasterBand>
  <VRTRasterBand dataType="Byte" band="4" subClass="VRTWarpedRasterBand" />
  <BlockXSize>512</BlockXSize>
  <BlockYSize>128</BlockYSize>
  <GDALWarpOptions>
    <WarpMemoryLimit>6.71089e+07</WarpMemoryLimit>
    <ResampleAlg>Average</ResampleAlg>
    <WorkingDataType>Byte</WorkingDataType>
    <Option name="INIT_DEST">0</Option>
    <Option name="ERROR_OUT_IF_EMPTY_SOURCE_WINDOW">FALSE</Option>
    <SourceDataset relativeToVRT="0">/home/01_ORIGINAL/world/usa/california/napa/albedo/unzipped/10seh565885.tif</SourceDataset>
    <Transformer>
      <ApproxTransformer>
        <MaxError>0.125</MaxError>
        <BaseTransformer>
          <GenImgProjTransformer>
            <SrcGeoTransform>556499.997595253401,0.299999999999999989,0,4290000.01147037372,0,-0.299999999999999989</SrcGeoTransform>
            <SrcInvGeoTransform>-1854999.99198417808,3.33333333333333348,0,14300000.0382345803,0,-3.33333333333333348</SrcInvGeoTransform>
            <DstGeoTransform>-13619923.9474316649,0.385108277508563024,0,4686908.33401320037,0,-0.385108277508563024</DstGeoTransform>
            <DstInvGeoTransform>35366479.3588572517,2.59667230855032605,0,12170365.0836458206,0,-2.59667230855032605</DstInvGeoTransform>
            <ReprojectTransformer>
              <ReprojectionTransformer>
                <SourceSRS>PROJCS["NAD83 / UTM zone 10N",GEOGCS["NAD83",DATUM["North_American_Datum_1983",SPHEROID["GRS 1980",6378137,298.257222101,AUTHORITY["EPSG","7019"]],AUTHORITY["EPSG","6269"]],PRIMEM["Greenwich",0,AUTHORITY["EPSG","8901"]],UNIT["degree",0.0174532925199433,AUTHORITY["EPSG","9122"]],AUTHORITY["EPSG","4269"]],PROJECTION["Transverse_Mercator"],PARAMETER["latitude_of_origin",0],PARAMETER["central_meridian",-123],PARAMETER["scale_factor",0.9996],PARAMETER["false_easting",500000],PARAMETER["false_northing",0],UNIT["metre",1,AUTHORITY["EPSG","9001"]],AXIS["Easting",EAST],AXIS["Northing",NORTH],AUTHORITY["EPSG","26910"]]</SourceSRS>
                <TargetSRS>PROJCS["WGS 84 / Pseudo-Mercator",GEOGCS["WGS 84",DATUM["WGS_1984",SPHEROID["WGS 84",6378137,298.257223563,AUTHORITY["EPSG","7030"]],AUTHORITY["EPSG","6326"]],PRIMEM["Greenwich",0,AUTHORITY["EPSG","8901"]],UNIT["degree",0.0174532925199433,AUTHORITY["EPSG","9122"]],AUTHORITY["EPSG","4326"]],PROJECTION["Mercator_1SP"],PARAMETER["central_meridian",0],PARAMETER["scale_factor",1],PARAMETER["false_easting",0],PARAMETER["false_northing",0],UNIT["metre",1,AUTHORITY["EPSG","9001"]],AXIS["Easting",EAST],AXIS["Northing",NORTH],EXTENSION["PROJ4","+proj=merc +a=6378137 +b=6378137 +lat_ts=0 +lon_0=0 +x_0=0 +y_0=0 +k=1 +units=m +nadgrids=@null +wktext +no_defs"],AUTHORITY["EPSG","3857"]]</TargetSRS>
                <Options>
                  <Option key="AREA_OF_INTEREST">-122.3498579495499,38.74327893521347,-122.3324727480087,38.75689294463334</Option>
                </Options>
              </ReprojectionTransformer>
            </ReprojectTransformer>
          </GenImgProjTransformer>
        </BaseTransformer>
      </ApproxTransformer>
    </Transformer>
    <BandList>
      <BandMapping src="1" dst="1" />
      <BandMapping src="2" dst="2" />
      <BandMapping src="3" dst="3" />
      <BandMapping src="4" dst="4" />
    </BandList>
  </GDALWarpOptions>
</VRTDataset>
