<VRTDataset rasterXSize="178855" rasterYSize="266067">
  <SRS dataAxisToSRSAxisMapping="1,2">PROJCS["WGS 84 / Pseudo-Mercator",GEOGCS["WGS 84",DATUM["WGS_1984",SPHEROID["WGS 84",6378137,298.257223563,AUTHORITY["EPSG","7030"]],AUTHORITY["EPSG","6326"]],PRIMEM["Greenwich",0,AUTHORITY["EPSG","8901"]],UNIT["degree",0.0174532925199433,AUTHORITY["EPSG","9122"]],AUTHORITY["EPSG","4326"]],PROJECTION["Mercator_1SP"],PARAMETER["central_meridian",0],PARAMETER["scale_factor",1],PARAMETER["false_easting",0],PARAMETER["false_northing",0],UNIT["metre",1,AUTHORITY["EPSG","9001"]],AXIS["Easting",EAST],AXIS["Northing",NORTH],EXTENSION["PROJ4","+proj=merc +a=6378137 +b=6378137 +lat_ts=0 +lon_0=0 +x_0=0 +y_0=0 +k=1 +units=m +nadgrids=@null +wktext +no_defs"],AUTHORITY["EPSG","3857"]]</SRS>
  <GeoTransform> -1.3654586879638216e+07,  3.8380747376433583e-01,  0.0000000000000000e+00,  4.7024084799363362e+06,  0.0000000000000000e+00, -3.8380747376433583e-01</GeoTransform>
  <VRTRasterBand dataType="Byte" band="1">
    <ColorInterp>Red</ColorInterp>
    <SimpleSource>
      <SourceFilename relativeToVRT="1">albedo/10seh625405_3857.vrt</SourceFilename>
      <SourceBand>1</SourceBand>
      <SourceProperties RasterXSize="5028" RasterYSize="5049" DataType="Byte" BlockXSize="512" BlockYSize="128" />
      <SrcRect xOff="0" yOff="0" xSize="5028" ySize="5049" />
      <DstRect xOff="109091.927772165" yOff="200930.300228095" xSize="5014.97475267608" ySize="5035.92035128511" />
    </SimpleSource>
    <SimpleSource>
      <SourceFilename relativeToVRT="1">albedo/10seh730750_3857.vrt</SourceFilename>
      <SourceBand>1</SourceBand>
      <SourceProperties RasterXSize="5035" RasterYSize="5056" DataType="Byte" BlockXSize="512" BlockYSize="128" />
      <SrcRect xOff="0" yOff="0" xSize="5035" ySize="5056" />
      <DstRect xOff="144965.049684435" yOff="86041.1210220048" xSize="5043.37227645647" ySize="5064.40719558369" />
    </SimpleSource>
    <SimpleSource>
      <SourceFilename relativeToVRT="1">albedo/10seh520375_3857.vrt</SourceFilename>
      <SourceBand>1</SourceBand>
      <SourceProperties RasterXSize="5022" RasterYSize="5043" DataType="Byte" BlockXSize="512" BlockYSize="128" />
      <SrcRect xOff="0" yOff="0" xSize="5022" ySize="5043" />
      <DstRect xOff="74195.7055918431" yOff="210675.655611502" xSize="5007.2363790892" ySize="5028.17464351789" />
    </SimpleSource>
    <SimpleSource>
      <SourceFilename relativeToVRT="1">albedo/10seh700720_3857.vrt</SourceFilename>
      <SourceBand>1</SourceBand>
      <SourceProperties RasterXSize="5033" RasterYSize="5054" DataType="Byte" BlockXSize="512" BlockYSize="128" />
      <SrcRect xOff="0" yOff="0" xSize="5033" ySize="5054" />
      <DstRect xOff="134883.13879929" yOff="95986.8064936133" xSize="5039.5211442791" ySize="5060.54835350419" />
    </SimpleSource>
    <SimpleSource>
      <SourceFilename relativeToVRT="1">albedo/10seh610840_3857.vrt</SourceFilename>
      <SourceBand>1</SourceBand>
      <SourceProperties RasterXSize="5028" RasterYSize="5049" DataType="Byte" BlockXSize="512" BlockYSize="128" />
      <SrcRect xOff="0" yOff="0" xSize="5028" ySize="5049" />
      <DstRect xOff="105216.040772621" yOff="55574.320750823" xSize="5042.15197743804" ySize="5063.21108474238" />
    </SimpleSource>
    <SimpleSource>
      <SourceFilename relativeToVRT="1">albedo/10seh640495_3857.vrt</SourceFilename>
      <SourceBand>1</SourceBand>
      <SourceProperties RasterXSize="5029" RasterYSize="5050" DataType="Byte" BlockXSize="512" BlockYSize="128" />
      <SrcRect xOff="0" yOff="0" xSize="5029" ySize="5050" />
      <DstRect xOff="114304.820885413" yOff="170968.033457607" xSize="5021.5349896601" ySize="5042.50381741569" />
    </SimpleSource>
    <SimpleSource>
      <SourceFilename relativeToVRT="1">albedo/10seh520450_3857.vrt</SourceFilename>
      <SourceBand>1</SourceBand>
      <SourceProperties RasterXSize="5022" RasterYSize="5043" DataType="Byte" BlockXSize="512" BlockYSize="128" />
      <SrcRect xOff="0" yOff="0" xSize="5022" ySize="5043" />
      <DstRect xOff="74355.8413362567" yOff="185685.029925049" xSize="5011.87135898561" ySize="5032.82900505067" />
    </SimpleSource>
    <SimpleSource>
      <SourceFilename relativeToVRT="1">albedo/10seh565510_3857.vrt</SourceFilename>
      <SourceBand>1</SourceBand>
      <SourceProperties RasterXSize="5025" RasterYSize="5046" DataType="Byte" BlockXSize="512" BlockYSize="128" />
      <SrcRect xOff="0" yOff="0" xSize="5025" ySize="5046" />
      <DstRect xOff="89432.042106955" yOff="165777.177379768" xSize="5018.54712834809" ySize="5039.52016112328" />
    </SimpleSource>
    <SimpleSource>
      <SourceFilename relativeToVRT="1">albedo/10seh580645_3857.vrt</SourceFilename>
      <SourceBand>1</SourceBand>
      <SourceProperties RasterXSize="5026" RasterYSize="5047" DataType="Byte" BlockXSize="512" BlockYSize="128" />
      <SrcRect xOff="0" yOff="0" xSize="5026" ySize="5047" />
      <DstRect xOff="94738.4966833496" yOff="120738.984241111" xSize="5027.9409082891" ySize="5048.94901793376" />
    </SimpleSource>
    <SimpleSource>
      <SourceFilename relativeToVRT="1">albedo/10seh685795_3857.vrt</SourceFilename>
      <SourceBand>1</SourceBand>
      <SourceProperties RasterXSize="5033" RasterYSize="5053" DataType="Byte" BlockXSize="512" BlockYSize="128" />
      <SrcRect xOff="0" yOff="0" xSize="5033" ySize="5053" />
      <DstRect xOff="130102" yOff="70847.38720466" xSize="5044.2398938899" ySize="5064.28455867786" />
    </SimpleSource>
    <SimpleSource>
      <SourceFilename relativeToVRT="1">albedo/10seh745705_3857.vrt</SourceFilename>
      <SourceBand>1</SourceBand>
      <SourceProperties RasterXSize="5036" RasterYSize="5057" DataType="Byte" BlockXSize="512" BlockYSize="128" />
      <SrcRect xOff="0" yOff="0" xSize="5036" ySize="5057" />
      <DstRect xOff="149822.636827862" yOff="101139.083294503" xSize="5041.5374611571" ySize="5062.56055223817" />
    </SimpleSource>
    <SimpleSource>
      <SourceFilename relativeToVRT="1">albedo/10seh625930_3857.vrt</SourceFilename>
      <SourceBand>1</SourceBand>
      <SourceProperties RasterXSize="5029" RasterYSize="5050" DataType="Byte" BlockXSize="512" BlockYSize="128" />
      <SrcRect xOff="0" yOff="0" xSize="5029" ySize="5050" />
      <DstRect xOff="110454.965503216" yOff="25449.6380129402" xSize="5048.84030032395" ySize="5069.92314906263" />
    </SimpleSource>
    <SimpleSource>
      <SourceFilename relativeToVRT="1">albedo/10seh385705_3857.vrt</SourceFilename>
      <SourceBand>1</SourceBand>
      <SourceProperties RasterXSize="5014" RasterYSize="5035" DataType="Byte" BlockXSize="512" BlockYSize="128" />
      <SrcRect xOff="0" yOff="0" xSize="5014" ySize="5035" />
      <DstRect xOff="29951.0815287438" yOff="100288.514889688" xSize="5019.79743960257" ySize="5040.82172086138" />
    </SimpleSource>
    <SimpleSource>
      <SourceFilename relativeToVRT="1">albedo/10seh625285_3857.vrt</SourceFilename>
      <SourceBand>1</SourceBand>
      <SourceProperties RasterXSize="5028" RasterYSize="5049" DataType="Byte" BlockXSize="512" BlockYSize="128" />
      <SrcRect xOff="0" yOff="0" xSize="5028" ySize="5049" />
      <DstRect xOff="108784.8344398" yOff="240880.912042156" xSize="5007.57571021161" ySize="5028.49040589865" />
    </SimpleSource>
    <SimpleSource>
      <SourceFilename relativeToVRT="1">albedo/10seh625510_3857.vrt</SourceFilename>
      <SourceBand>1</SourceBand>
      <SourceProperties RasterXSize="5029" RasterYSize="5049" DataType="Byte" BlockXSize="512" BlockYSize="128" />
      <SrcRect xOff="0" yOff="0" xSize="5029" ySize="5049" />
      <DstRect xOff="109361.984375949" yOff="165925.223234348" xSize="5022.48283427735" ySize="5042.45691594081" />
    </SimpleSource>
    <SimpleSource>
      <SourceFilename relativeToVRT="1">albedo/10seh535690_3857.vrt</SourceFilename>
      <SourceBand>1</SourceBand>
      <SourceProperties RasterXSize="5023" RasterYSize="5044" DataType="Byte" BlockXSize="512" BlockYSize="128" />
      <SrcRect xOff="0" yOff="0" xSize="5023" ySize="5044" />
      <DstRect xOff="79865.7056517941" yOff="105592.791029996" xSize="5027.79208291995" ySize="5048.81211750911" />
    </SimpleSource>
    <SimpleSource>
      <SourceFilename relativeToVRT="1">albedo/10seh745690_3857.vrt</SourceFilename>
      <SourceBand>1</SourceBand>
      <SourceProperties RasterXSize="5036" RasterYSize="5057" DataType="Byte" BlockXSize="512" BlockYSize="128" />
      <SrcRect xOff="0" yOff="0" xSize="5036" ySize="5057" />
      <DstRect xOff="149776.171878929" yOff="106154.426716439" xSize="5040.59874769551" ySize="5061.61792436382" />
    </SimpleSource>
    <SimpleSource>
      <SourceFilename relativeToVRT="1">albedo/10seh640525_3857.vrt</SourceFilename>
      <SourceBand>1</SourceBand>
      <SourceProperties RasterXSize="5029" RasterYSize="5050" DataType="Byte" BlockXSize="512" BlockYSize="128" />
      <SrcRect xOff="0" yOff="0" xSize="5029" ySize="5050" />
      <DstRect xOff="114384.019010259" yOff="160960.173002115" xSize="5023.3997879119" ySize="5044.37640265562" />
    </SimpleSource>
    <SimpleSource>
      <SourceFilename relativeToVRT="1">albedo/10seh610990_3857.vrt</SourceFilename>
      <SourceBand>1</SourceBand>
      <SourceProperties RasterXSize="5028" RasterYSize="5049" DataType="Byte" BlockXSize="512" BlockYSize="128" />
      <SrcRect xOff="0" yOff="0" xSize="5028" ySize="5049" />
      <DstRect xOff="105600.225912462" yOff="5282.45798136461" xSize="5051.64624952733" ySize="5072.74501071271" />
    </SimpleSource>
    <SimpleSource>
      <SourceFilename relativeToVRT="1">albedo/10seh445570_3857.vrt</SourceFilename>
      <SourceBand>1</SourceBand>
      <SourceProperties RasterXSize="5018" RasterYSize="5038" DataType="Byte" BlockXSize="512" BlockYSize="128" />
      <SrcRect xOff="0" yOff="0" xSize="5018" ySize="5038" />
      <DstRect xOff="49681.3061499694" yOff="145501.549231899" xSize="5015.3788810454" ySize="5035.3684341783" />
    </SimpleSource>
    <SimpleSource>
      <SourceFilename relativeToVRT="1">albedo/10seh325780_3857.vrt</SourceFilename>
      <SourceBand>1</SourceBand>
      <SourceProperties RasterXSize="5010" RasterYSize="5031" DataType="Byte" BlockXSize="512" BlockYSize="128" />
      <SrcRect xOff="0" yOff="0" xSize="5010" ySize="5031" />
      <DstRect xOff="10073.0667952595" yOff="75105.6728298717" xSize="5020.51086840453" ySize="5041.55492593676" />
    </SimpleSource>
    <SimpleSource>
      <SourceFilename relativeToVRT="1">albedo/10seh535345_3857.vrt</SourceFilename>
      <SourceBand>1</SourceBand>
      <SourceProperties RasterXSize="5023" RasterYSize="5044" DataType="Byte" BlockXSize="512" BlockYSize="128" />
      <SrcRect xOff="0" yOff="0" xSize="5023" ySize="5044" />
      <DstRect xOff="79104.210076823" yOff="220698.044415276" xSize="5006.37077320523" ySize="5027.30125025825" />
    </SimpleSource>
    <SimpleSource>
      <SourceFilename relativeToVRT="1">albedo/10seh625855_3857.vrt</SourceFilename>
      <SourceBand>1</SourceBand>
      <SourceProperties RasterXSize="5029" RasterYSize="5050" DataType="Byte" BlockXSize="512" BlockYSize="128" />
      <SrcRect xOff="0" yOff="0" xSize="5029" ySize="5050" />
      <DstRect xOff="110258.333675034" yOff="50588.3700598685" xSize="5044.08558733703" ySize="5065.14858143806" />
    </SimpleSource>
    <SimpleSource>
      <SourceFilename relativeToVRT="1">albedo/10seh475510_3857.vrt</SourceFilename>
      <SourceBand>1</SourceBand>
      <SourceProperties RasterXSize="5019" RasterYSize="5040" DataType="Byte" BlockXSize="512" BlockYSize="128" />
      <SrcRect xOff="0" yOff="0" xSize="5019" ySize="5040" />
      <DstRect xOff="59536.4379019031" yOff="165583.080312862" xSize="5012.62985978747" ySize="5033.60320648114" />
    </SimpleSource>
    <SimpleSource>
      <SourceFilename relativeToVRT="1">albedo/10seh415825_3857.vrt</SourceFilename>
      <SourceBand>1</SourceBand>
      <SourceProperties RasterXSize="5016" RasterYSize="5037" DataType="Byte" BlockXSize="512" BlockYSize="128" />
      <SrcRect xOff="0" yOff="0" xSize="5016" ySize="5037" />
      <DstRect xOff="40148.5268759459" yOff="60178.1231831695" xSize="5029.30349834553" ySize="5050.3591948099" />
    </SimpleSource>
    <SimpleSource>
      <SourceFilename relativeToVRT="1">albedo/10seh595720_3857.vrt</SourceFilename>
      <SourceBand>1</SourceBand>
      <SourceProperties RasterXSize="5027" RasterYSize="5048" DataType="Byte" BlockXSize="512" BlockYSize="128" />
      <SrcRect xOff="0" yOff="0" xSize="5027" ySize="5048" />
      <DstRect xOff="99914.8823793826" yOff="95702.3315071856" xSize="5033.62092592873" ySize="5054.64858446156" />
    </SimpleSource>
    <SimpleSource>
      <SourceFilename relativeToVRT="1">albedo/10seh655225_3857.vrt</SourceFilename>
      <SourceBand>1</SourceBand>
      <SourceProperties RasterXSize="5030" RasterYSize="5051" DataType="Byte" BlockXSize="512" BlockYSize="128" />
      <SrcRect xOff="0" yOff="0" xSize="5030" ySize="5051" />
      <DstRect xOff="118561.653270112" yOff="260912.860686039" xSize="5005.86021211356" ySize="5026.75942969892" />
    </SimpleSource>
    <SimpleSource>
      <SourceFilename relativeToVRT="1">albedo/10seh475765_3857.vrt</SourceFilename>
      <SourceBand>1</SourceBand>
      <SourceProperties RasterXSize="5020" RasterYSize="5040" DataType="Byte" BlockXSize="512" BlockYSize="128" />
      <SrcRect xOff="0" yOff="0" xSize="5020" ySize="5040" />
      <DstRect xOff="60038.8090011024" yOff="80377.8437176806" xSize="5029.53342933412" ySize="5049.5714111243" />
    </SimpleSource>
    <SimpleSource>
      <SourceFilename relativeToVRT="1">albedo/10seh385615_3857.vrt</SourceFilename>
      <SourceBand>1</SourceBand>
      <SourceProperties RasterXSize="5014" RasterYSize="5035" DataType="Byte" BlockXSize="512" BlockYSize="128" />
      <SrcRect xOff="0" yOff="0" xSize="5014" ySize="5035" />
      <DstRect xOff="29807.2114720071" yOff="130369.936715245" xSize="5014.18571515643" ySize="5035.18649298218" />
    </SimpleSource>
    <SimpleSource>
      <SourceFilename relativeToVRT="1">albedo/10seh565360_3857.vrt</SourceFilename>
      <SourceBand>1</SourceBand>
      <SourceProperties RasterXSize="5025" RasterYSize="5046" DataType="Byte" BlockXSize="512" BlockYSize="128" />
      <SrcRect xOff="0" yOff="0" xSize="5025" ySize="5046" />
      <DstRect xOff="89083.6695990851" yOff="215771.594876407" xSize="5009.26253225049" ySize="5030.19676372855" />
    </SimpleSource>
    <SimpleSource>
      <SourceFilename relativeToVRT="1">albedo/10seh325735_3857.vrt</SourceFilename>
      <SourceBand>1</SourceBand>
      <SourceProperties RasterXSize="5010" RasterYSize="5031" DataType="Byte" BlockXSize="512" BlockYSize="128" />
      <SrcRect xOff="0" yOff="0" xSize="5010" ySize="5031" />
      <DstRect xOff="10012.0673840235" yOff="90164.7649428789" xSize="5017.69492116958" ySize="5038.72717533018" />
    </SimpleSource>
    <SimpleSource>
      <SourceFilename relativeToVRT="1">albedo/10seh685330_3857.vrt</SourceFilename>
      <SourceBand>1</SourceBand>
      <SourceProperties RasterXSize="5032" RasterYSize="5053" DataType="Byte" BlockXSize="512" BlockYSize="128" />
      <SrcRect xOff="0" yOff="0" xSize="5032" ySize="5053" />
      <DstRect xOff="128784.952287828" yOff="226068.016931458" xSize="5014.28380325479" ySize="5035.20986841146" />
    </SimpleSource>
    <SimpleSource>
      <SourceFilename relativeToVRT="1">albedo/10seh760675_3857.vrt</SourceFilename>
      <SourceBand>1</SourceBand>
      <SourceProperties RasterXSize="5037" RasterYSize="5058" DataType="Byte" BlockXSize="512" BlockYSize="128" />
      <SrcRect xOff="0" yOff="0" xSize="5037" ySize="5058" />
      <DstRect xOff="154722.211112699" yOff="111215.962637107" xSize="5040.64443380847" ySize="5061.6596279935" />
    </SimpleSource>
    <SimpleSource>
      <SourceFilename relativeToVRT="1">albedo/10seh640630_3857.vrt</SourceFilename>
      <SourceBand>1</SourceBand>
      <SourceProperties RasterXSize="5030" RasterYSize="5050" DataType="Byte" BlockXSize="512" BlockYSize="128" />
      <SrcRect xOff="0" yOff="0" xSize="5030" ySize="5050" />
      <DstRect xOff="114662.052626791" yOff="125903.479795622" xSize="5030.94612290135" ySize="5050.94988482143" />
    </SimpleSource>
    <SimpleSource>
      <SourceFilename relativeToVRT="1">albedo/10seh475570_3857.vrt</SourceFilename>
      <SourceBand>1</SourceBand>
      <SourceProperties RasterXSize="5019" RasterYSize="5040" DataType="Byte" BlockXSize="512" BlockYSize="128" />
      <SrcRect xOff="0" yOff="0" xSize="5019" ySize="5040" />
      <DstRect xOff="59654.1148325012" yOff="145558.940844982" xSize="5016.35690323034" ySize="5037.34584424804" />
    </SimpleSource>
    <SimpleSource>
      <SourceFilename relativeToVRT="1">albedo/10seh655525_3857.vrt</SourceFilename>
      <SourceBand>1</SourceBand>
      <SourceProperties RasterXSize="5030" RasterYSize="5051" DataType="Byte" BlockXSize="512" BlockYSize="128" />
      <SrcRect xOff="0" yOff="0" xSize="5030" ySize="5051" />
      <DstRect xOff="119367.344604064" yOff="161000.474265746" xSize="5024.39772320129" ySize="5045.3743339741" />
    </SimpleSource>
    <SimpleSource>
      <SourceFilename relativeToVRT="1">albedo/10seh580525_3857.vrt</SourceFilename>
      <SourceBand>1</SourceBand>
      <SourceProperties RasterXSize="5026" RasterYSize="5047" DataType="Byte" BlockXSize="512" BlockYSize="128" />
      <SrcRect xOff="0" yOff="0" xSize="5026" ySize="5047" />
      <DstRect xOff="94450.4596214465" yOff="160808.296830643" xSize="5020.46380632759" ySize="5041.44067459916" />
    </SimpleSource>
    <SimpleSource>
      <SourceFilename relativeToVRT="1">albedo/10seh670585_3857.vrt</SourceFilename>
      <SourceBand>1</SourceBand>
      <SourceProperties RasterXSize="5031" RasterYSize="5052" DataType="Byte" BlockXSize="512" BlockYSize="128" />
      <SrcRect xOff="0" yOff="0" xSize="5031" ySize="5052" />
      <DstRect xOff="124516.845181104" yOff="141015.084666212" xSize="5029.11688699627" ySize="5050.10902665577" />
    </SimpleSource>
    <SimpleSource>
      <SourceFilename relativeToVRT="1">albedo/10seh610870_3857.vrt</SourceFilename>
      <SourceBand>1</SourceBand>
      <SourceProperties RasterXSize="5028" RasterYSize="5049" DataType="Byte" BlockXSize="512" BlockYSize="128" />
      <SrcRect xOff="0" yOff="0" xSize="5028" ySize="5049" />
      <DstRect xOff="105292.702553013" yOff="45523.4905647814" xSize="5044.04444240956" ySize="5065.11145380387" />
    </SimpleSource>
    <SimpleSource>
      <SourceFilename relativeToVRT="1">albedo/10seh370630_3857.vrt</SourceFilename>
      <SourceBand>1</SourceBand>
      <SourceProperties RasterXSize="5013" RasterYSize="5034" DataType="Byte" BlockXSize="512" BlockYSize="128" />
      <SrcRect xOff="0" yOff="0" xSize="5013" ySize="5034" />
      <DstRect xOff="24840.9376388706" yOff="125335.107771083" xSize="5014.12685850348" ySize="5035.13157903582" />
    </SimpleSource>
    <SimpleSource>
      <SourceFilename relativeToVRT="1">albedo/10seh400705_3857.vrt</SourceFilename>
      <SourceBand>1</SourceBand>
      <SourceProperties RasterXSize="5015" RasterYSize="5036" DataType="Byte" BlockXSize="512" BlockYSize="128" />
      <SrcRect xOff="0" yOff="0" xSize="5015" ySize="5036" />
      <DstRect xOff="34945.9459108955" yOff="100313.123497723" xSize="5020.79046346049" ySize="5041.81471066541" />
    </SimpleSource>
    <SimpleSource>
      <SourceFilename relativeToVRT="1">albedo/10seh460660_3857.vrt</SourceFilename>
      <SourceBand>1</SourceBand>
      <SourceProperties RasterXSize="5019" RasterYSize="5039" DataType="Byte" BlockXSize="512" BlockYSize="128" />
      <SrcRect xOff="0" yOff="0" xSize="5019" ySize="5039" />
      <DstRect xOff="54839.2455219388" yOff="115465.632616607" xSize="5021.97188795936" ySize="5041.98373050951" />
    </SimpleSource>
    <SimpleSource>
      <SourceFilename relativeToVRT="1">albedo/10seh670510_3857.vrt</SourceFilename>
      <SourceBand>1</SourceBand>
      <SourceProperties RasterXSize="5031" RasterYSize="5052" DataType="Byte" BlockXSize="512" BlockYSize="128" />
      <SrcRect xOff="0" yOff="0" xSize="5031" ySize="5052" />
      <DstRect xOff="124309.203777938" yOff="166046.044812099" xSize="5024.44743202902" ySize="5045.42008082104" />
    </SimpleSource>
    <SimpleSource>
      <SourceFilename relativeToVRT="1">albedo/10seh580375_3857.vrt</SourceFilename>
      <SourceBand>1</SourceBand>
      <SourceProperties RasterXSize="5026" RasterYSize="5046" DataType="Byte" BlockXSize="512" BlockYSize="128" />
      <SrcRect xOff="0" yOff="0" xSize="5026" ySize="5046" />
      <DstRect xOff="94092.5881660791" yOff="210811.697005533" xSize="5011.1712217417" ySize="5031.11221347167" />
    </SimpleSource>
    <SimpleSource>
      <SourceFilename relativeToVRT="1">albedo/10seh535960_3857.vrt</SourceFilename>
      <SourceBand>1</SourceBand>
      <SourceProperties RasterXSize="5024" RasterYSize="5044" DataType="Byte" BlockXSize="512" BlockYSize="128" />
      <SrcRect xOff="0" yOff="0" xSize="5024" ySize="5044" />
      <DstRect xOff="80469.9444980507" yOff="15166.7646266245" xSize="5045.79102383728" ySize="5065.87777154364" />
    </SimpleSource>
    <SimpleSource>
      <SourceFilename relativeToVRT="1">albedo/10seh370735_3857.vrt</SourceFilename>
      <SourceBand>1</SourceBand>
      <SourceProperties RasterXSize="5013" RasterYSize="5034" DataType="Byte" BlockXSize="512" BlockYSize="128" />
      <SrcRect xOff="0" yOff="0" xSize="5013" ySize="5034" />
      <DstRect xOff="25002.4146800747" yOff="90230.2163738653" xSize="5020.67919993841" ySize="5041.71136893875" />
    </SimpleSource>
    <SimpleSource>
      <SourceFilename relativeToVRT="1">albedo/10seh520495_3857.vrt</SourceFilename>
      <SourceBand>1</SourceBand>
      <SourceProperties RasterXSize="5022" RasterYSize="5043" DataType="Byte" BlockXSize="512" BlockYSize="128" />
      <SrcRect xOff="0" yOff="0" xSize="5022" ySize="5043" />
      <DstRect xOff="74452.1808260843" yOff="170679.592685552" xSize="5014.65981504234" ySize="5035.62912131791" />
    </SimpleSource>
    <SimpleSource>
      <SourceFilename relativeToVRT="1">albedo/10seh490735_3857.vrt</SourceFilename>
      <SourceBand>1</SourceBand>
      <SourceProperties RasterXSize="5021" RasterYSize="5041" DataType="Byte" BlockXSize="512" BlockYSize="128" />
      <SrcRect xOff="0" yOff="0" xSize="5021" ySize="5041" />
      <DstRect xOff="64976.0621127185" yOff="90446.2739456885" xSize="5028.64309744379" ySize="5048.67354196657" />
    </SimpleSource>
    <SimpleSource>
      <SourceFilename relativeToVRT="1">albedo/10seh625885_3857.vrt</SourceFilename>
      <SourceBand>1</SourceBand>
      <SourceProperties RasterXSize="5029" RasterYSize="5050" DataType="Byte" BlockXSize="512" BlockYSize="128" />
      <SrcRect xOff="0" yOff="0" xSize="5029" ySize="5050" />
      <DstRect xOff="110336.934367373" yOff="40535.7075945567" xSize="5045.98860162507" ySize="5067.059542296" />
    </SimpleSource>
    <SimpleSource>
      <SourceFilename relativeToVRT="1">albedo/10seh415615_3857.vrt</SourceFilename>
      <SourceBand>1</SourceBand>
      <SourceProperties RasterXSize="5016" RasterYSize="5036" DataType="Byte" BlockXSize="512" BlockYSize="128" />
      <SrcRect xOff="0" yOff="0" xSize="5016" ySize="5036" />
      <DstRect xOff="39785.7231323337" yOff="130419.88495893" xSize="5016.16913503596" ySize="5036.16980941808" />
    </SimpleSource>
    <SimpleSource>
      <SourceFilename relativeToVRT="1">albedo/10seh670720_3857.vrt</SourceFilename>
      <SourceBand>1</SourceBand>
      <SourceProperties RasterXSize="5032" RasterYSize="5052" DataType="Byte" BlockXSize="512" BlockYSize="128" />
      <SrcRect xOff="0" yOff="0" xSize="5032" ySize="5052" />
      <DstRect xOff="124892.328721206" yOff="95900.8442360269" xSize="5038.54969921056" ySize="5058.57573140138" />
    </SimpleSource>
    <SimpleSource>
