<VRTDataset rasterXSize="3139" rasterYSize="4010" subClass="VRTWarpedDataset">
  <SRS dataAxisToSRSAxisMapping="1,2">PROJCS["WGS 84 / Pseudo-Mercator",GEOGCS["WGS 84",DATUM["WGS_1984",SPHEROID["WGS 84",6378137,298.257223563,AUTHORITY["EPSG","7030"]],AUTHORITY["EPSG","6326"]],PRIMEM["Greenwich",0,AUTHORITY["EPSG","8901"]],UNIT["degree",0.0174532925199433,AUTHORITY["EPSG","9122"]],AUTHORITY["EPSG","4326"]],PROJECTION["Mercator_1SP"],PARAMETER["central_meridian",0],PARAMETER["scale_factor",1],PARAMETER["false_easting",0],PARAMETER["false_northing",0],UNIT["metre",1,AUTHORITY["EPSG","9001"]],AXIS["Easting",EAST],AXIS["Northing",NORTH],EXTENSION["PROJ4","+proj=merc +a=6378137 +b=6378137 +lat_ts=0 +lon_0=0 +x_0=0 +y_0=0 +k=1 +units=m +nadgrids=@null +wktext +no_defs"],AUTHORITY["EPSG","3857"]]</SRS>
  <GeoTransform> -1.3692312828613037e+07,  3.5478369906093711e+01,  0.0000000000000000e+00,  4.7216914672412528e+06,  0.0000000000000000e+00, -3.5478369906093711e+01</GeoTransform>
  <Metadata>
    <MDI key="AREA_OR_POINT">Point</MDI>
    <MDI key="DTED_CompilationDate">0002</MDI>
    <MDI key="DTED_DataEdition">02</MDI>
    <MDI key="DTED_DigitizingSystem">SRTM      </MDI>
    <MDI key="DTED_HorizontalAccuracy">0013</MDI>
    <MDI key="DTED_HorizontalDatum">WGS84</MDI>
    <MDI key="DTED_MaintenanceDate">0000</MDI>
    <MDI key="DTED_MaintenanceDescription">0000</MDI>
    <MDI key="DTED_MatchMergeDate">0000</MDI>
    <MDI key="DTED_MatchMergeVersion">A</MDI>
    <MDI key="DTED_NimaDesignator">DTED2</MDI>
    <MDI key="DTED_OriginLatitude">0380000N</MDI>
    <MDI key="DTED_OriginLongitude">1230000W</MDI>
    <MDI key="DTED_Producer">USCNIMA </MDI>
    <MDI key="DTED_RelHorizontalAccuracy">NA  </MDI>
    <MDI key="DTED_RelVerticalAccuracy">0006</MDI>
    <MDI key="DTED_SecurityCode_DSI">U</MDI>
    <MDI key="DTED_SecurityCode_UHL">U  </MDI>
    <MDI key="DTED_UniqueRef_DSI">G18 087        </MDI>
    <MDI key="DTED_UniqueRef_UHL">G18 087     </MDI>
    <MDI key="DTED_VerticalAccuracy_ACC">0006</MDI>
    <MDI key="DTED_VerticalAccuracy_UHL">0006</MDI>
    <MDI key="DTED_VerticalDatum">E96</MDI>
  </Metadata>
  <VRTRasterBand dataType="Int16" band="1" subClass="VRTWarpedRasterBand">
    <NoDataValue>-32767</NoDataValue>
    <UnitType>m</UnitType>
    <ColorInterp>Gray</ColorInterp>
  </VRTRasterBand>
  <BlockXSize>512</BlockXSize>
  <BlockYSize>128</BlockYSize>
  <GDALWarpOptions>
    <WarpMemoryLimit>6.71089e+07</WarpMemoryLimit>
    <ResampleAlg>Average</ResampleAlg>
    <WorkingDataType>Int16</WorkingDataType>
    <Option name="INIT_DEST">NO_DATA</Option>
    <Option name="ERROR_OUT_IF_EMPTY_SOURCE_WINDOW">FALSE</Option>
    <SourceDataset relativeToVRT="0">/home/01_ORIGINAL/world/usa/california/napa/dtm/n38_w123_1arc_v2.tif</SourceDataset>
    <Transformer>
      <ApproxTransformer>
        <MaxError>0.125</MaxError>
        <BaseTransformer>
          <GenImgProjTransformer>
            <SrcGeoTransform>-123.000138888888884,0.000277777777777777778,0,39.000138888888884,0,-0.000277777777777777778</SrcGeoTransform>
            <SrcInvGeoTransform>442800.5,3600,0,140400.499999999971,0,-3600</SrcInvGeoTransform>
            <DstGeoTransform>-13692312.8286130372,35.478369906093711,0,4721691.46724125277,0,-35.478369906093711</DstGeoTransform>
            <DstInvGeoTransform>385934.101957183389,0.028186187884247791,0,133086.482827111584,0,-0.028186187884247791</DstInvGeoTransform>
            <ReprojectTransformer>
              <ReprojectionTransformer>
                <SourceSRS>GEOGCS["WGS 84",DATUM["WGS_1984",SPHEROID["WGS 84",6378137,298.257223563,AUTHORITY["EPSG","7030"]],AUTHORITY["EPSG","6326"]],PRIMEM["Greenwich",0,AUTHORITY["EPSG","8901"]],UNIT["degree",0.0174532925199433,AUTHORITY["EPSG","9122"]],AXIS["Latitude",NORTH],AXIS["Longitude",EAST],AUTHORITY["EPSG","4326"]]</SourceSRS>
                <TargetSRS>PROJCS["WGS 84 / Pseudo-Mercator",GEOGCS["WGS 84",DATUM["WGS_1984",SPHEROID["WGS 84",6378137,298.257223563,AUTHORITY["EPSG","7030"]],AUTHORITY["EPSG","6326"]],PRIMEM["Greenwich",0,AUTHORITY["EPSG","8901"]],UNIT["degree",0.0174532925199433,AUTHORITY["EPSG","9122"]],AUTHORITY["EPSG","4326"]],PROJECTION["Mercator_1SP"],PARAMETER["central_meridian",0],PARAMETER["scale_factor",1],PARAMETER["false_easting",0],PARAMETER["false_northing",0],UNIT["metre",1,AUTHORITY["EPSG","9001"]],AXIS["Easting",EAST],AXIS["Northing",NORTH],EXTENSION["PROJ4","+proj=merc +a=6378137 +b=6378137 +lat_ts=0 +lon_0=0 +x_0=0 +y_0=0 +k=1 +units=m +nadgrids=@null +wktext +no_defs"],AUTHORITY["EPSG","3857"]]</TargetSRS>
                <Options>
                  <Option key="CENTER_LONG">-122.5</Option>
                  <Option key="AREA_OF_INTEREST">-123.0001388888889,37.99986111111111,-121.9998611111111,39.00013888888888</Option>
                </Options>
              </ReprojectionTransformer>
            </ReprojectTransformer>
          </GenImgProjTransformer>
        </BaseTransformer>
      </ApproxTransformer>
    </Transformer>
    <BandList>
      <BandMapping src="1" dst="1">
        <SrcNoDataReal>-32767</SrcNoDataReal>
        <SrcNoDataImag>0</SrcNoDataImag>
        <DstNoDataReal>-32767</DstNoDataReal>
        <DstNoDataImag>0</DstNoDataImag>
      </BandMapping>
    </BandList>
  </GDALWarpOptions>
</VRTDataset>
