<?xml version="1.0" encoding="ISO-8859-1"?>
<!DOCTYPE metadata SYSTEM "http://www.fgdc.gov/metadata/fgdc-std-001-1998.dtd">
<metadata>
	<idinfo>
		<citation>
			<citeinfo>
				<origin>Woolpert, Inc.</origin>
				<pubdate>20110708</pubdate>
				<pubtime>Unknown</pubtime>
				<title Sync="TRUE">10SEH505225.tif</title>
				<geoform>remote-sensing image</geoform>
				<ftname Sync="TRUE">10SEH505225.tif</ftname><onlink Sync="TRUE">\\PH88NS80G1\V1$\PH\Projects\71380_UA133_SanFrancisco_2011\PRS\Delivery\Lot5\Napa_County_CA_133UA\30cm\UTM\ImageTiles\10SEH505225.tif</onlink></citeinfo>
		</citation>
		<descript>
			<abstract>TASK NAME: San Francisco, Stockton, Modesto, Napa, CA 133UA 1-Foot Ortho with Upgrades
Aerial Imagery Acquisition and Digital Orthophoto Production Task
USGS CONTRACT NO: G10PC00057
TASK ORDER NO: G11PD00296
CONTRACTOR: Woolpert Inc.</abstract>
			<purpose>This task consists of color digital aerial imagery acquisition and color digital orthophoto production at 0.3 meters ground sample distance (GSD) for approximately 637 square miles of the San Francisco, CA 133UA. The aerial photography plan and the 1500 meter x 1500 meter digital orthophoto tiles were based on the U.S. National Grid.The final product consisted of color digital orthophoto tiles at a 0.3 meter pixel in TIFF format with ASCII TFW file.</purpose>
			<supplinf>USGS CONTRACT:	 G10PC00057
CONTRACTOR: Woolpert Inc.</supplinf>
			<langdata Sync="TRUE">en</langdata></descript>
		<timeperd>
			<timeinfo>
				<mdattim><sngdate><caldate>20110409</caldate><time>unknown</time></sngdate><sngdate><caldate>20110412</caldate><time>unknown</time></sngdate><sngdate><caldate>20110426</caldate><time>unknown</time></sngdate><sngdate><caldate>20110428</caldate><time>unknown</time></sngdate></mdattim></timeinfo>
			<current>publication date</current>
		</timeperd>
		<status>
			<progress>Complete</progress>
			<update>As needed</update>
		</status>
		<spdom>
			<bounding>
				<westbc Sync="TRUE">-122.423646</westbc>
				<eastbc Sync="TRUE">-122.406418</eastbc>
				<northbc Sync="TRUE">38.162482</northbc>
				<southbc Sync="TRUE">38.148879</southbc>
			</bounding>
			<lboundng><leftbc Sync="TRUE">550499.997595</leftbc><rightbc Sync="TRUE">551999.997595</rightbc><bottombc Sync="TRUE">4222500.011470</bottombc><topbc Sync="TRUE">4224000.011470</topbc></lboundng></spdom>
		<keywords>
			<theme>
				<themekt>Raster</themekt>
				<themekey>Orthophoto</themekey>
			</theme>
			<place>
				<placekt>none</placekt>
				<placekey>United States</placekey>
			</place>
		</keywords>
		<accconst>no restrictions apply to this data.</accconst>
		<useconst>no restrictions apply to this data.</useconst>
		<ptcontac>
			<cntinfo>
				<cntorgp>
					<cntorg>USGS (United States Geological Survey)</cntorg>
				</cntorgp>
				<cntaddr>
					<addrtype>mailing and physical address</addrtype>
					<address>1400 Independence Road</address>
					<city>Rolla</city>
					<state>MO</state>
					<postal>65401</postal>
					<country>USA</country>
				</cntaddr>
				<cntvoice>(573) 308-3654</cntvoice>
				<cntpos>NGTOC (National Geospatial Technical Operations Center)</cntpos><cntfax>(573) 308-3810</cntfax><hours>8:00 a.m. to 5:00 p.m. Central Time</hours></cntinfo>
		</ptcontac>
		<browse>
			<browsen>Napa, CA</browsen>
			<browsed>Tiff image file</browsed>
			<browset>TIFF</browset>
		</browse>
		<secinfo>
			<secsys>Unclassified</secsys>
			<secclass>Unclassified</secclass>
			<sechandl>Unclassified</sechandl>
		</secinfo>
		<native>Microsoft Windows XP Version 5.1 (Build 2600) Service Pack 3; ESRI ArcCatalog 9.2.4.1420</native>
		<crossref>
			<citeinfo>
				<origin>USGS</origin>
				<pubdate>Unpublished Material</pubdate>
				<title>San Francisco, Sacramento, Stockton, Modesto, Napa, CA 133UA 1-Foot Ortho with Upgrades</title>
				<geoform>raster digital data</geoform>
			</citeinfo>
		</crossref>
		<natvform>Raster</natvform></idinfo>
	<dataqual>
		<attracc>
			<attraccr>For the 0.3 meter pixel digital orthophoto imagery, the horizontal positional accuracy shall not exceed 1.52-meters (4.98 feet) NSSDA 95% confidence (0.88-meters (2.88 feet) Root Mean Squared (RMSE) Error XY (0.62 meter (2.03 foot) RMSE X or Y).</attraccr>
			<qattracc>
				<attraccv>0.88-meter RMSE</attraccv>
				<attracce>Points measured will produce less an error less than 0.88-meter RMSE.</attracce>
			</qattracc>
		</attracc>
		<logic>Unknown</logic>
		<complete>San Francisco, Sacramento, Stockton, Modesto, Napa, CA 133UA 1-Foot Ortho with Upgrades</complete>
		<posacc>
			<horizpa>
				<horizpar>The horizontal accuracy requirement meets the FGDC Geospatial Positioning Accuracy Standards, Part 3: National Standard for Spatial Data Accuracy (http://www.fgdc.gov/standards/projects/FGDC-standards-projects/accuracy/part3/index_html).For the 0.3 meter pixel digital orthophoto imagery, the horizontal positional accuracy shall not exceed 1.52-meters (4.98 feet) NSSDA 95% confidence (0.88-meters (2.88 feet) Root Mean Squared (RMSE) Error XY (0.62 meter (2.03 foot) RMSE X or Y).</horizpar>
				<qhorizpa>
					<horizpav>0.62</horizpav>
					<horizpae>Number of Points: Twenty (20) ground control points.
Point Type: Semi-permanent
Control Type: Photo ID
Horizontal Unit: Meter
Vertical Unit: Meter
Horizontal Datum: NAD 83, Universal Transverse Mercator (UTM)
Vertical Datum: NAVD 88
Ground Control System: Zone 10 
The horizontal coordinate system and projection used for this project will be NAD83, UTM Zone 10, meters. If the project extends into a second UTM zone, the predominate zone shall be used for the entire area.</horizpae>
				</qhorizpa>
			</horizpa>
		</posacc>
		<lineage>
			<srcinfo>
				<srccite>
					<citeinfo>
						<origin>USGS</origin>
						<pubdate>20110708</pubdate>
						<pubtime>Unknown</pubtime>
						<title>USGS</title>
						<geoform>raster digital data</geoform>
					</citeinfo>
				</srccite>
				<srcscale>9600</srcscale>
				<typesrc>disc</typesrc>
				<srctime>
					<timeinfo>
						<mdattim><sngdate><caldate>20110409</caldate><time>unknown</time></sngdate><sngdate><caldate>20110412</caldate><time>unknown</time></sngdate><sngdate><caldate>20110426</caldate><time>unknown</time></sngdate><sngdate><caldate>20110428</caldate><time>unknown</time></sngdate></mdattim></timeinfo>
					<srccurr>ground condition</srccurr>
				</srctime>
				<srccitea>Orthophoto</srccitea>
				<srccontr>Digital aerial imagery was acquired at 32-bit 4-band stack red, green, blue, and CIR bands. This imagery was orthorectified to the terrain data and the ground control survey.</srccontr>
			</srcinfo>
			<procstep>
				<procdesc>To produce the color digital orthophotos with a 0.3 meter pixel GSD, Woolpert obtained aerial photography according to the following specifications:
Camera: Leica ADS80-SH81/82 Airborne Digital Sensor
Flying Height: 9,600' AGL for a nominal 0.3 meter pixel GSD
Imagery Type: RGB+NIR
Side Lap: 30%

The imagery was acquired using the Leica ADS80-SH81/82 multispectral scanner. The fundamental resolution of the imagery was 1.0 foot. The ADS80-SH81/82 utilizes the Applanix POSAV direct positioning and orientation system that is based on airborne GPS and inertial measurement unit (IMU) technology. POSAV data were reduced using the Applanix POSPAC software package (V4.3). All of the source imagery was processed using the Leica GPRO (V3.2) software package. This package provides the capability to perform digital mage processing, aerial triangulation, and image rectification. The strips of imagery were ortho rectified to existing digtial elevation model (DEM) data. The individual rectified strips of ortho rectified imagery were then mosaicked together to form a seamless imagery database over the entire task order area using the OrthoVista software (V4.3) by Inpho GmbH. The final digital orthophoto imagery tiles were extracted using OrthoVista.</procdesc>
				<procdate>Unknown</procdate>
				<proctime>1200</proctime>
				<proccont>
					<cntinfo>
						<cntorgp>
							<cntorg>Woolpert, Inc.</cntorg>
							<cntper>Geospatial Services</cntper></cntorgp>
						<cntaddr>
							<addrtype>mailing and physical address</addrtype>
							<address>4454 Idea Center Blvd.</address>
							<city>Dayton</city>
							<state>OH</state>
							<postal>45430</postal>
							<country>USA</country>
						</cntaddr>
						<cntvoice>(937) 461-5660</cntvoice>
						<cntfax>(937) 461-0743</cntfax><hours>8:00 a.m. to 5:00 p.m. Eastern Time</hours></cntinfo>
				</proccont>
			</procstep>
		</lineage>
		<cloud>0</cloud>
	</dataqual>
	<spdoinfo>
		<direct>Raster</direct>
		<rastinfo><rasttype Sync="TRUE">Pixel</rasttype><rowcount Sync="TRUE">5000</rowcount><colcount Sync="TRUE">5000</colcount><rastxsz Sync="TRUE">0.300000</rastxsz><rastysz Sync="TRUE">0.300000</rastysz><rastbpp Sync="TRUE">8</rastbpp><vrtcount Sync="TRUE">1</vrtcount><rastorig Sync="TRUE">Upper Left</rastorig><rastcmap Sync="TRUE">FALSE</rastcmap><rastcomp Sync="TRUE">None</rastcomp><rastband Sync="TRUE">4</rastband><rastdtyp Sync="TRUE">pixel codes</rastdtyp><rastplyr Sync="TRUE">FALSE</rastplyr><rastifor Sync="TRUE">TIFF</rastifor></rastinfo></spdoinfo>
	<spref>
		<horizsys>
			<planar>
				<planci>
					<plance>row and column</plance>
					<coordrep>
						<absres>0.300000</absres>
						<ordres>0.300000</ordres>
					</coordrep>
					<plandu>meters</plandu>
				</planci>
				<gridsys><gridsysn Sync="TRUE">Universal Transverse Mercator</gridsysn><utm><utmzone Sync="TRUE">10</utmzone><transmer><sfctrmer Sync="TRUE">0.999600</sfctrmer><longcm Sync="TRUE">-123.000000</longcm><latprjo Sync="TRUE">0.000000</latprjo><feast Sync="TRUE">500000.000000</feast><fnorth Sync="TRUE">0.000000</fnorth></transmer></utm></gridsys></planar>
			<geodetic>
				<horizdn>North American Datum of 1983</horizdn>
				<ellips>Geodetic Reference System 80</ellips>
				<semiaxis>6378137.000000</semiaxis>
				<denflat>298.257222</denflat>
			</geodetic>
			<cordsysn><geogcsn Sync="TRUE">GCS_North_American_1983</geogcsn><projcsn Sync="TRUE">NAD_1983_UTM_Zone_10N</projcsn></cordsysn></horizsys>
		<vertdef>
			<altsys>
				<altdatum>North American Vertical Datum of 1988</altdatum>
				<altres>.3</altres>
				<altunits>meters</altunits>
				<altenc>Explicit elevation coordinate included with horizontal coordinates</altenc>
			</altsys>
		</vertdef>
	</spref>
	<eainfo>
		<detailed Name="delivery_tiles">
			<enttyp>
				<enttypl>
delivery_tiles</enttypl>
				<enttypt Sync="TRUE">Feature Class</enttypt><enttypc Sync="TRUE">3586</enttypc><enttypd>Orthophoto image tiles</enttypd><enttypds>ESRI</enttypds></enttyp>
			<attr><attrlabl>Raster</attrlabl><attrdef>Orthophoto image tile</attrdef><attrdefs>USNG</attrdefs><attrdomv><edom><edomv>Orthophoto image tile</edomv><edomvd>Orthophoto image tile name</edomvd><edomvds>USNG</edomvds></edom></attrdomv></attr></detailed>
	</eainfo>
	<distinfo>
		<distrib>
			<cntinfo>
				<cntorgp>
					<cntorg>USGS (United States Geological Survey)</cntorg>
				</cntorgp>
				<cntaddr>
					<addrtype>mailing and physical address</addrtype>
					<address>1400 Independence Road</address>
					<city>Rolla</city>
					<state>MO</state>
					<postal>65401</postal>
					<country>USA</country>
				</cntaddr>
				<cntvoice>(573) 308-3654</cntvoice>
				<cntpos>NGTOC (National Geospatial Technical Operations Center)</cntpos><cntfax>(573) 308-3810</cntfax><hours>8:00 a.m. to 5:00 p.m. Central Time</hours></cntinfo>
		</distrib>
		<resdesc>Downloadable Data</resdesc>
		<distliab>None.</distliab>
		<stdorder>
			<digform>
				<digtinfo>
					<formname>TIFF</formname>
					<transize>72.000</transize>
					<dssize Sync="TRUE">0.000</dssize></digtinfo>
				<digtopt>
					<offoptn>
						<offmedia>CD-ROM</offmedia>
						<recfmt>Digital</recfmt>
					</offoptn>
				</digtopt>
			</digform>
			<fees>None.</fees>
		</stdorder>
		<availabl>
			<timeinfo>
				<sngdate>
					<caldate>unknown</caldate>
					<time>unknown</time>
				</sngdate>
			</timeinfo>
		</availabl>
	</distinfo>
	<metainfo>
		<metd>20110708</metd>
		<metc>
			<cntinfo>
				<cntorgp>
					<cntorg>Woolpert, Inc.</cntorg>
					<cntper>Geospatial Services</cntper>
				</cntorgp>
				<cntaddr>
					<addrtype>mailing and physical address</addrtype>
					<address>4454 Idea Center Blvd.</address>
					<city>Dayton</city>
					<state>OH</state>
					<postal>45430</postal>
					<country>USA</country>
				</cntaddr>
				<cntvoice>(937) 461-5660</cntvoice>
				<cntfax>(937) 461-0743</cntfax><hours>8:00 a.m. to 5:00 p.m. Eastern Time</hours></cntinfo>
		</metc>
		<metstdn>FGDC Content Standards for Digital Geospatial Metadata</metstdn>
		<metstdv>FGDC-STD-001-1998</metstdv>
		<mettc>local time</mettc>
		<metsi>
			<metscs>Unclassified</metscs>
			<metsc>Unclassified</metsc>
			<metshd>Unclassified</metshd>
		</metsi>
		<metextns>
			<onlink>http://www.esri.com/metadata/esriprof80.html</onlink>
			<metprof>ESRI Metadata Profile</metprof>
		</metextns>
		<langmeta Sync="TRUE">en</langmeta><metextns><onlink Sync="TRUE">http://www.esri.com/metadata/esriprof80.html</onlink><metprof Sync="TRUE">ESRI Metadata Profile</metprof></metextns></metainfo>
	<dataIdInfo><envirDesc Sync="TRUE">Microsoft Windows 2000 Version 5.2 (Build 3790) Service Pack 2; ESRI ArcCatalog 9.3.1.3000</envirDesc><dataLang><languageCode Sync="TRUE" value="en"></languageCode></dataLang><idCitation><resTitle Sync="TRUE">10SEH505225.tif</resTitle><presForm><PresFormCd Sync="TRUE" value="005"></PresFormCd></presForm></idCitation><spatRpType><SpatRepTypCd Sync="TRUE" value="002"></SpatRepTypCd></spatRpType><dataExt><geoEle><GeoBndBox esriExtentType="native"><westBL Sync="TRUE">550499.997595</westBL><eastBL Sync="TRUE">551999.997595</eastBL><northBL Sync="TRUE">4224000.01147</northBL><southBL Sync="TRUE">4222500.01147</southBL><exTypeCode Sync="TRUE">1</exTypeCode></GeoBndBox></geoEle></dataExt><geoBox esriExtentType="decdegrees"><westBL Sync="TRUE">-122.423646</westBL><eastBL Sync="TRUE">-122.406418</eastBL><northBL Sync="TRUE">38.162482</northBL><southBL Sync="TRUE">38.148879</southBL><exTypeCode Sync="TRUE">1</exTypeCode></geoBox></dataIdInfo><mdLang><languageCode Sync="TRUE" value="en"></languageCode></mdLang><mdStanName Sync="TRUE">ISO 19115 Geographic Information - Metadata</mdStanName><mdStanVer Sync="TRUE">DIS_ESRI1.0</mdStanVer><mdChar><CharSetCd Sync="TRUE" value="004"></CharSetCd></mdChar><mdHrLv><ScopeCd Sync="TRUE" value="005"></ScopeCd></mdHrLv><mdHrLvName Sync="TRUE">dataset</mdHrLvName><distInfo><distributor><distorTran><onLineSrc><orDesc Sync="TRUE">002</orDesc><linkage Sync="TRUE">file://\\PH88NS80G1\V1$\PH\Projects\71380_UA133_SanFrancisco_2011\PRS\Delivery\Lot5\Napa_County_CA_133UA\30cm\UTM\ImageTiles\10SEH505225.tif</linkage><protocol Sync="TRUE">Local Area Network</protocol></onLineSrc><transSize Sync="TRUE">0.000</transSize></distorTran><distorFormat><formatName Sync="TRUE">Raster Dataset</formatName></distorFormat></distributor></distInfo><refSysInfo><RefSystem><refSysID><identCode Sync="TRUE">NAD_1983_UTM_Zone_10N</identCode></refSysID></RefSystem></refSysInfo><spatRepInfo><VectSpatRep><topLvl><TopoLevCd Sync="TRUE" value="001"></TopoLevCd></topLvl><geometObjs Name="delivery_tiles"><geoObjTyp><GeoObjTypCd Sync="TRUE" value="001"></GeoObjTypCd></geoObjTyp><geoObjCnt Sync="TRUE">3586</geoObjCnt></geometObjs></VectSpatRep><GridSpatRep><numDims Sync="TRUE">2</numDims><axDimProps><Dimen><dimName><DimNameTypCd Sync="TRUE" value="002"></DimNameTypCd></dimName><dimSize Sync="TRUE">5000</dimSize><dimResol><value Sync="TRUE">0.3</value><uom><UomLength><uomName Sync="TRUE">Meter</uomName><conversionToISOstandardUnit Sync="TRUE">1 Meter = 1 Meter(s)</conversionToISOstandardUnit></UomLength></uom></dimResol></Dimen><Dimen><dimName><DimNameTypCd Sync="TRUE" value="001"></DimNameTypCd></dimName><dimSize Sync="TRUE">5000</dimSize><dimResol><value Sync="TRUE">0.3</value><uom><UomLength><uomName Sync="TRUE">Meter</uomName><conversionToISOstandardUnit Sync="TRUE">1 Meter = 1 Meter(s)</conversionToISOstandardUnit></UomLength></uom></dimResol></Dimen></axDimProps><cellGeo><CellGeoCd Sync="TRUE" value="002"></CellGeoCd></cellGeo><tranParaAv Sync="TRUE">1</tranParaAv></GridSpatRep></spatRepInfo><Esri><SyncDate>20120104</SyncDate><SyncTime>13083600</SyncTime><ModDate>20120104</ModDate><ModTime>13083600</ModTime><CreaDate>20120104</CreaDate><CreaTime>13024400</CreaTime><SyncOnce>FALSE</SyncOnce><MetaID>{8A497BB3-6667-4653-BF62-16EA78C2DCF7}</MetaID></Esri><mdDateSt Sync="TRUE">20120104</mdDateSt></metadata>
