<VRTDataset rasterXSize="180000" rasterYSize="265000">
  <SRS dataAxisToSRSAxisMapping="1,2">PROJCS["NAD83 / UTM zone 10N",GEOGCS["NAD83",DATUM["North_American_Datum_1983",SPHEROID["GRS 1980",6378137,298.257222101,AUTHORITY["EPSG","7019"]],AUTHORITY["EPSG","6269"]],PRIMEM["Greenwich",0,AUTHORITY["EPSG","8901"]],UNIT["degree",0.0174532925199433,AUTHORITY["EPSG","9122"]],AUTHORITY["EPSG","4269"]],PROJECTION["Transverse_Mercator"],PARAMETER["latitude_of_origin",0],PARAMETER["central_meridian",-123],PARAMETER["scale_factor",0.9996],PARAMETER["false_easting",500000],PARAMETER["false_northing",0],UNIT["metre",1,AUTHORITY["EPSG","9001"]],AXIS["Easting",EAST],AXIS["Northing",NORTH],AUTHORITY["EPSG","26910"]]</SRS>
  <GeoTransform>  5.2949999759525340e+05,  3.0000000000000548e-01,  0.0000000000000000e+00,  4.3020000114700003e+06,  0.0000000000000000e+00, -3.0000000000000571e-01</GeoTransform>
  <VRTRasterBand dataType="Byte" band="1">
    <ColorInterp>Red</ColorInterp>
    <SimpleSource>
      <SourceFilename relativeToVRT="0">/home/01_ORIGINAL/world/usa/california/napa/albedo/unzipped/10seh655645.tif</SourceFilename>
      <SourceBand>1</SourceBand>
      <SourceProperties RasterXSize="5000" RasterYSize="5000" DataType="Byte" BlockXSize="5000" BlockYSize="26" />
      <SrcRect xOff="0" yOff="0" xSize="5000" ySize="5000" />
      <DstRect xOff="120000" yOff="120000" xSize="5000" ySize="5000" />
    </SimpleSource>
    <SimpleSource>
      <SourceFilename relativeToVRT="0">/home/01_ORIGINAL/world/usa/california/napa/albedo/unzipped/10seh520645.tif</SourceFilename>
      <SourceBand>1</SourceBand>
      <SourceProperties RasterXSize="5000" RasterYSize="5000" DataType="Byte" BlockXSize="5000" BlockYSize="26" />
      <SrcRect xOff="0" yOff="0" xSize="5000" ySize="5000" />
      <DstRect xOff="75000" yOff="120000" xSize="5000" ySize="5000" />
    </SimpleSource>
    <SimpleSource>
      <SourceFilename relativeToVRT="0">/home/01_ORIGINAL/world/usa/california/napa/albedo/unzipped/10seh325690.tif</SourceFilename>
      <SourceBand>1</SourceBand>
      <SourceProperties RasterXSize="5000" RasterYSize="5000" DataType="Byte" BlockXSize="5000" BlockYSize="26" />
      <SrcRect xOff="0" yOff="0" xSize="5000" ySize="5000" />
      <DstRect xOff="10000" yOff="105000" xSize="5000" ySize="5000" />
    </SimpleSource>
    <SimpleSource>
      <SourceFilename relativeToVRT="0">/home/01_ORIGINAL/world/usa/california/napa/albedo/unzipped/10seh760600.tif</SourceFilename>
      <SourceBand>1</SourceBand>
      <SourceProperties RasterXSize="5000" RasterYSize="5000" DataType="Byte" BlockXSize="5000" BlockYSize="26" />
      <SrcRect xOff="0" yOff="0" xSize="5000" ySize="5000" />
      <DstRect xOff="155000" yOff="135000" xSize="5000" ySize="5000" />
    </SimpleSource>
    <SimpleSource>
      <SourceFilename relativeToVRT="0">/home/01_ORIGINAL/world/usa/california/napa/albedo/unzipped/10seh610600.tif</SourceFilename>
      <SourceBand>1</SourceBand>
      <SourceProperties RasterXSize="5000" RasterYSize="5000" DataType="Byte" BlockXSize="5000" BlockYSize="26" />
      <SrcRect xOff="0" yOff="0" xSize="5000" ySize="5000" />
      <DstRect xOff="105000" yOff="135000" xSize="5000" ySize="5000" />
    </SimpleSource>
    <SimpleSource>
      <SourceFilename relativeToVRT="0">/home/01_ORIGINAL/world/usa/california/napa/albedo/unzipped/10seh565360.tif</SourceFilename>
      <SourceBand>1</SourceBand>
      <SourceProperties RasterXSize="5000" RasterYSize="5000" DataType="Byte" BlockXSize="5000" BlockYSize="26" />
      <SrcRect xOff="0" yOff="0" xSize="5000" ySize="5000" />
      <DstRect xOff="90000" yOff="215000" xSize="5000" ySize="5000" />
    </SimpleSource>
    <SimpleSource>
      <SourceFilename relativeToVRT="0">/home/01_ORIGINAL/world/usa/california/napa/albedo/unzipped/10seh610555.tif</SourceFilename>
      <SourceBand>1</SourceBand>
      <SourceProperties RasterXSize="5000" RasterYSize="5000" DataType="Byte" BlockXSize="5000" BlockYSize="26" />
      <SrcRect xOff="0" yOff="0" xSize="5000" ySize="5000" />
      <DstRect xOff="105000" yOff="150000" xSize="5000" ySize="5000" />
    </SimpleSource>
    <SimpleSource>
      <SourceFilename relativeToVRT="0">/home/01_ORIGINAL/world/usa/california/napa/albedo/unzipped/10seh595765.tif</SourceFilename>
      <SourceBand>1</SourceBand>
      <SourceProperties RasterXSize="5000" RasterYSize="5000" DataType="Byte" BlockXSize="5000" BlockYSize="26" />
      <SrcRect xOff="0" yOff="0" xSize="5000" ySize="5000" />
      <DstRect xOff="100000" yOff="80000" xSize="5000" ySize="5000" />
    </SimpleSource>
    <SimpleSource>
      <SourceFilename relativeToVRT="0">/home/01_ORIGINAL/world/usa/california/napa/albedo/unzipped/10seh550855.tif</SourceFilename>
      <SourceBand>1</SourceBand>
      <SourceProperties RasterXSize="5000" RasterYSize="5000" DataType="Byte" BlockXSize="5000" BlockYSize="26" />
      <SrcRect xOff="0" yOff="0" xSize="5000" ySize="5000" />
      <DstRect xOff="85000" yOff="50000" xSize="5000" ySize="5000" />
    </SimpleSource>
    <SimpleSource>
      <SourceFilename relativeToVRT="0">/home/01_ORIGINAL/world/usa/california/napa/albedo/unzipped/10seh430825.tif</SourceFilename>
      <SourceBand>1</SourceBand>
      <SourceProperties RasterXSize="5000" RasterYSize="5000" DataType="Byte" BlockXSize="5000" BlockYSize="26" />
      <SrcRect xOff="0" yOff="0" xSize="5000" ySize="5000" />
      <DstRect xOff="45000" yOff="60000" xSize="5000" ySize="5000" />
    </SimpleSource>
    <SimpleSource>
      <SourceFilename relativeToVRT="0">/home/01_ORIGINAL/world/usa/california/napa/albedo/unzipped/10seh655735.tif</SourceFilename>
      <SourceBand>1</SourceBand>
      <SourceProperties RasterXSize="5000" RasterYSize="5000" DataType="Byte" BlockXSize="5000" BlockYSize="26" />
      <SrcRect xOff="0" yOff="0" xSize="5000" ySize="5000" />
      <DstRect xOff="120000" yOff="90000" xSize="5000" ySize="5000" />
    </SimpleSource>
    <SimpleSource>
      <SourceFilename relativeToVRT="0">/home/01_ORIGINAL/world/usa/california/napa/albedo/unzipped/10seh595720.tif</SourceFilename>
      <SourceBand>1</SourceBand>
      <SourceProperties RasterXSize="5000" RasterYSize="5000" DataType="Byte" BlockXSize="5000" BlockYSize="26" />
      <SrcRect xOff="0" yOff="0" xSize="5000" ySize="5000" />
      <DstRect xOff="100000" yOff="95000" xSize="5000" ySize="5000" />
    </SimpleSource>
    <SimpleSource>
      <SourceFilename relativeToVRT="0">/home/01_ORIGINAL/world/usa/california/napa/albedo/unzipped/10seh595390.tif</SourceFilename>
      <SourceBand>1</SourceBand>
      <SourceProperties RasterXSize="5000" RasterYSize="5000" DataType="Byte" BlockXSize="5000" BlockYSize="26" />
      <SrcRect xOff="0" yOff="0" xSize="5000" ySize="5000" />
      <DstRect xOff="100000" yOff="205000" xSize="5000" ySize="5000" />
    </SimpleSource>
    <SimpleSource>
      <SourceFilename relativeToVRT="0">/home/01_ORIGINAL/world/usa/california/napa/albedo/unzipped/10seh535675.tif</SourceFilename>
      <SourceBand>1</SourceBand>
      <SourceProperties RasterXSize="5000" RasterYSize="5000" DataType="Byte" BlockXSize="5000" BlockYSize="26" />
      <SrcRect xOff="0" yOff="0" xSize="5000" ySize="5000" />
      <DstRect xOff="80000" yOff="110000" xSize="5000" ySize="5000" />
    </SimpleSource>
    <SimpleSource>
      <SourceFilename relativeToVRT="0">/home/01_ORIGINAL/world/usa/california/napa/albedo/unzipped/10seh565420.tif</SourceFilename>
      <SourceBand>1</SourceBand>
      <SourceProperties RasterXSize="5000" RasterYSize="5000" DataType="Byte" BlockXSize="5000" BlockYSize="26" />
      <SrcRect xOff="0" yOff="0" xSize="5000" ySize="5000" />
      <DstRect xOff="90000" yOff="195000" xSize="5000" ySize="5000" />
    </SimpleSource>
    <SimpleSource>
      <SourceFilename relativeToVRT="0">/home/01_ORIGINAL/world/usa/california/napa/albedo/unzipped/10seh655420.tif</SourceFilename>
      <SourceBand>1</SourceBand>
      <SourceProperties RasterXSize="5000" RasterYSize="5000" DataType="Byte" BlockXSize="5000" BlockYSize="26" />
      <SrcRect xOff="0" yOff="0" xSize="5000" ySize="5000" />
      <DstRect xOff="120000" yOff="195000" xSize="5000" ySize="5000" />
    </SimpleSource>
    <SimpleSource>
      <SourceFilename relativeToVRT="0">/home/01_ORIGINAL/world/usa/california/napa/albedo/unzipped/10seh715645.tif</SourceFilename>
      <SourceBand>1</SourceBand>
      <SourceProperties RasterXSize="5000" RasterYSize="5000" DataType="Byte" BlockXSize="5000" BlockYSize="26" />
      <SrcRect xOff="0" yOff="0" xSize="5000" ySize="5000" />
      <DstRect xOff="140000" yOff="120000" xSize="5000" ySize="5000" />
    </SimpleSource>
    <SimpleSource>
      <SourceFilename relativeToVRT="0">/home/01_ORIGINAL/world/usa/california/napa/albedo/unzipped/10seh535840.tif</SourceFilename>
      <SourceBand>1</SourceBand>
      <SourceProperties RasterXSize="5000" RasterYSize="5000" DataType="Byte" BlockXSize="5000" BlockYSize="26" />
      <SrcRect xOff="0" yOff="0" xSize="5000" ySize="5000" />
      <DstRect xOff="80000" yOff="55000" xSize="5000" ySize="5000" />
    </SimpleSource>
    <SimpleSource>
      <SourceFilename relativeToVRT="0">/home/01_ORIGINAL/world/usa/california/napa/albedo/unzipped/10seh625495.tif</SourceFilename>
      <SourceBand>1</SourceBand>
      <SourceProperties RasterXSize="5000" RasterYSize="5000" DataType="Byte" BlockXSize="5000" BlockYSize="26" />
      <SrcRect xOff="0" yOff="0" xSize="5000" ySize="5000" />
      <DstRect xOff="110000.177271656" yOff="169999.751353497" xSize="5000" ySize="5000" />
    </SimpleSource>
    <SimpleSource>
      <SourceFilename relativeToVRT="0">/home/01_ORIGINAL/world/usa/california/napa/albedo/unzipped/10seh625750.tif</SourceFilename>
      <SourceBand>1</SourceBand>
      <SourceProperties RasterXSize="5000" RasterYSize="5000" DataType="Byte" BlockXSize="5000" BlockYSize="26" />
      <SrcRect xOff="0" yOff="0" xSize="5000" ySize="5000" />
      <DstRect xOff="110000" yOff="85000" xSize="5000" ySize="5000" />
    </SimpleSource>
    <SimpleSource>
      <SourceFilename relativeToVRT="0">/home/01_ORIGINAL/world/usa/california/napa/albedo/unzipped/10seh400735.tif</SourceFilename>
      <SourceBand>1</SourceBand>
      <SourceProperties RasterXSize="5000" RasterYSize="5000" DataType="Byte" BlockXSize="5000" BlockYSize="26" />
      <SrcRect xOff="0" yOff="0" xSize="5000" ySize="5000" />
      <DstRect xOff="35000" yOff="90000" xSize="5000" ySize="5000" />
    </SimpleSource>
    <SimpleSource>
      <SourceFilename relativeToVRT="0">/home/01_ORIGINAL/world/usa/california/napa/albedo/unzipped/10seh610315.tif</SourceFilename>
      <SourceBand>1</SourceBand>
      <SourceProperties RasterXSize="5000" RasterYSize="5000" DataType="Byte" BlockXSize="5000" BlockYSize="26" />
      <SrcRect xOff="0" yOff="0" xSize="5000" ySize="5000" />
      <DstRect xOff="105000" yOff="230000" xSize="5000" ySize="5000" />
    </SimpleSource>
    <SimpleSource>
      <SourceFilename relativeToVRT="0">/home/01_ORIGINAL/world/usa/california/napa/albedo/unzipped/10seh535705.tif</SourceFilename>
      <SourceBand>1</SourceBand>
      <SourceProperties RasterXSize="5000" RasterYSize="5000" DataType="Byte" BlockXSize="5000" BlockYSize="26" />
      <SrcRect xOff="0" yOff="0" xSize="5000" ySize="5000" />
      <DstRect xOff="80000" yOff="100000" xSize="5000" ySize="5000" />
    </SimpleSource>
    <SimpleSource>
      <SourceFilename relativeToVRT="0">/home/01_ORIGINAL/world/usa/california/napa/albedo/unzipped/10seh550330.tif</SourceFilename>
      <SourceBand>1</SourceBand>
      <SourceProperties RasterXSize="5000" RasterYSize="5000" DataType="Byte" BlockXSize="5000" BlockYSize="26" />
      <SrcRect xOff="0" yOff="0" xSize="5000" ySize="5000" />
      <DstRect xOff="85000" yOff="225000" xSize="5000" ySize="5000" />
    </SimpleSource>
    <SimpleSource>
      <SourceFilename relativeToVRT="0">/home/01_ORIGINAL/world/usa/california/napa/albedo/unzipped/10seh595570.tif</SourceFilename>
      <SourceBand>1</SourceBand>
      <SourceProperties RasterXSize="5000" RasterYSize="5000" DataType="Byte" BlockXSize="5000" BlockYSize="26" />
      <SrcRect xOff="0" yOff="0" xSize="5000" ySize="5000" />
      <DstRect xOff="100000" yOff="145000" xSize="5000" ySize="5000" />
    </SimpleSource>
    <SimpleSource>
      <SourceFilename relativeToVRT="0">/home/01_ORIGINAL/world/usa/california/napa/albedo/unzipped/10seh685255.tif</SourceFilename>
      <SourceBand>1</SourceBand>
      <SourceProperties RasterXSize="5000" RasterYSize="5000" DataType="Byte" BlockXSize="5000" BlockYSize="26" />
      <SrcRect xOff="0" yOff="0" xSize="5000" ySize="5000" />
      <DstRect xOff="130000" yOff="250000" xSize="5000" ySize="5000" />
    </SimpleSource>
    <SimpleSource>
      <SourceFilename relativeToVRT="0">/home/01_ORIGINAL/world/usa/california/napa/albedo/unzipped/10seh805450.tif</SourceFilename>
      <SourceBand>1</SourceBand>
      <SourceProperties RasterXSize="5000" RasterYSize="5000" DataType="Byte" BlockXSize="5000" BlockYSize="26" />
      <SrcRect xOff="0" yOff="0" xSize="5000" ySize="5000" />
      <DstRect xOff="170000" yOff="185000" xSize="5000" ySize="5000" />
    </SimpleSource>
    <SimpleSource>
      <SourceFilename relativeToVRT="0">/home/01_ORIGINAL/world/usa/california/napa/albedo/unzipped/10seh490675.tif</SourceFilename>
      <SourceBand>1</SourceBand>
      <SourceProperties RasterXSize="5000" RasterYSize="5000" DataType="Byte" BlockXSize="5000" BlockYSize="26" />
      <SrcRect xOff="0" yOff="0" xSize="5000" ySize="5000" />
      <DstRect xOff="65000" yOff="110000" xSize="5000" ySize="5000" />
    </SimpleSource>
    <SimpleSource>
      <SourceFilename relativeToVRT="0">/home/01_ORIGINAL/world/usa/california/napa/albedo/unzipped/10sej505005.tif</SourceFilename>
      <SourceBand>1</SourceBand>
      <SourceProperties RasterXSize="5000" RasterYSize="5000" DataType="Byte" BlockXSize="5000" BlockYSize="26" />
      <SrcRect xOff="0" yOff="0" xSize="5000" ySize="5000" />
      <DstRect xOff="70000" yOff="0" xSize="5000" ySize="5000" />
    </SimpleSource>
    <SimpleSource>
      <SourceFilename relativeToVRT="0">/home/01_ORIGINAL/world/usa/california/napa/albedo/unzipped/10seh565330.tif</SourceFilename>
      <SourceBand>1</SourceBand>
      <SourceProperties RasterXSize="5000" RasterYSize="5000" DataType="Byte" BlockXSize="5000" BlockYSize="26" />
      <SrcRect xOff="0" yOff="0" xSize="5000" ySize="5000" />
      <DstRect xOff="90000" yOff="225000" xSize="5000" ySize="5000" />
    </SimpleSource>
    <SimpleSource>
      <SourceFilename relativeToVRT="0">/home/01_ORIGINAL/world/usa/california/napa/albedo/unzipped/10seh655345.tif</SourceFilename>
      <SourceBand>1</SourceBand>
      <SourceProperties RasterXSize="5000" RasterYSize="5000" DataType="Byte" BlockXSize="5000" BlockYSize="26" />
      <SrcRect xOff="0" yOff="0" xSize="5000" ySize="5000" />
      <DstRect xOff="120000" yOff="220000" xSize="5000" ySize="5000" />
    </SimpleSource>
    <SimpleSource>
      <SourceFilename relativeToVRT="0">/home/01_ORIGINAL/world/usa/california/napa/albedo/unzipped/10seh685240.tif</SourceFilename>
      <SourceBand>1</SourceBand>
      <SourceProperties RasterXSize="5000" RasterYSize="5000" DataType="Byte" BlockXSize="5000" BlockYSize="26" />
      <SrcRect xOff="0" yOff="0" xSize="5000" ySize="5000" />
      <DstRect xOff="130000" yOff="255000" xSize="5000" ySize="5000" />
    </SimpleSource>
    <SimpleSource>
      <SourceFilename relativeToVRT="0">/home/01_ORIGINAL/world/usa/california/napa/albedo/unzipped/10seh580930.tif</SourceFilename>
      <SourceBand>1</SourceBand>
      <SourceProperties RasterXSize="5000" RasterYSize="5000" DataType="Byte" BlockXSize="5000" BlockYSize="26" />
      <SrcRect xOff="0" yOff="0" xSize="5000" ySize="5000" />
      <DstRect xOff="95000" yOff="25000" xSize="5000" ySize="5000" />
    </SimpleSource>
    <SimpleSource>
      <SourceFilename relativeToVRT="0">/home/01_ORIGINAL/world/usa/california/napa/albedo/unzipped/10seh700795.tif</SourceFilename>
      <SourceBand>1</SourceBand>
      <SourceProperties RasterXSize="5000" RasterYSize="5000" DataType="Byte" BlockXSize="5000" BlockYSize="26" />
      <SrcRect xOff="0" yOff="0" xSize="5000" ySize="5000" />
      <DstRect xOff="135000" yOff="70000" xSize="5000" ySize="5000" />
    </SimpleSource>
    <SimpleSource>
      <SourceFilename relativeToVRT="0">/home/01_ORIGINAL/world/usa/california/napa/albedo/unzipped/10seh760555.tif</SourceFilename>
      <SourceBand>1</SourceBand>
      <SourceProperties RasterXSize="5000" RasterYSize="5000" DataType="Byte" BlockXSize="5000" BlockYSize="26" />
      <SrcRect xOff="0" yOff="0" xSize="5000" ySize="5000" />
      <DstRect xOff="155000" yOff="150000" xSize="5000" ySize="5000" />
    </SimpleSource>
    <SimpleSource>
      <SourceFilename relativeToVRT="0">/home/01_ORIGINAL/world/usa/california/napa/albedo/unzipped/10seh640465.tif</SourceFilename>
      <SourceBand>1</SourceBand>
      <SourceProperties RasterXSize="5000" RasterYSize="5000" DataType="Byte" BlockXSize="5000" BlockYSize="26" />
      <SrcRect xOff="0" yOff="0" xSize="5000" ySize="5000" />
      <DstRect xOff="115000" yOff="180000" xSize="5000" ySize="5000" />
    </SimpleSource>
    <SimpleSource>
      <SourceFilename relativeToVRT="0">/home/01_ORIGINAL/world/usa/california/napa/albedo/unzipped/10seh745405.tif</SourceFilename>
      <SourceBand>1</SourceBand>
      <SourceProperties RasterXSize="5000" RasterYSize="5000" DataType="Byte" BlockXSize="5000" BlockYSize="26" />
      <SrcRect xOff="0" yOff="0" xSize="5000" ySize="5000" />
      <DstRect xOff="150000" yOff="200000" xSize="5000" ySize="5000" />
    </SimpleSource>
    <SimpleSource>
      <SourceFilename relativeToVRT="0">/home/01_ORIGINAL/world/usa/california/napa/albedo/unzipped/10seh445825.tif</SourceFilename>
      <SourceBand>1</SourceBand>
      <SourceProperties RasterXSize="5000" RasterYSize="5000" DataType="Byte" BlockXSize="5000" BlockYSize="26" />
      <SrcRect xOff="0" yOff="0" xSize="5000" ySize="5000" />
      <DstRect xOff="50000" yOff="60000" xSize="5000" ySize="5000" />
    </SimpleSource>
    <SimpleSource>
      <SourceFilename relativeToVRT="0">/home/01_ORIGINAL/world/usa/california/napa/albedo/unzipped/10seh580675.tif</SourceFilename>
      <SourceBand>1</SourceBand>
      <SourceProperties RasterXSize="5000" RasterYSize="5000" DataType="Byte" BlockXSize="5000" BlockYSize="26" />
      <SrcRect xOff="0" yOff="0" xSize="5000" ySize="5000" />
      <DstRect xOff="95000" yOff="110000" xSize="5000" ySize="5000" />
    </SimpleSource>
    <SimpleSource>
      <SourceFilename relativeToVRT="0">/home/01_ORIGINAL/world/usa/california/napa/albedo/unzipped/10seh535360.tif</SourceFilename>
      <SourceBand>1</SourceBand>
      <SourceProperties RasterXSize="5000" RasterYSize="5000" DataType="Byte" BlockXSize="5000" BlockYSize="26" />
      <SrcRect xOff="0" yOff="0" xSize="5000" ySize="5000" />
      <DstRect xOff="80000" yOff="215000" xSize="5000" ySize="5000" />
    </SimpleSource>
    <SimpleSource>
      <SourceFilename relativeToVRT="0">/home/01_ORIGINAL/world/usa/california/napa/albedo/unzipped/10seh400765.tif</SourceFilename>
      <SourceBand>1</SourceBand>
      <SourceProperties RasterXSize="5000" RasterYSize="5000" DataType="Byte" BlockXSize="5000" BlockYSize="26" />
      <SrcRect xOff="0" yOff="0" xSize="5000" ySize="5000" />
      <DstRect xOff="35000" yOff="80000" xSize="5000" ySize="5000" />
    </SimpleSource>
    <SimpleSource>
      <SourceFilename relativeToVRT="0">/home/01_ORIGINAL/world/usa/california/napa/albedo/unzipped/10seh625735.tif</SourceFilename>
      <SourceBand>1</SourceBand>
      <SourceProperties RasterXSize="5000" RasterYSize="5000" DataType="Byte" BlockXSize="5000" BlockYSize="26" />
      <SrcRect xOff="0" yOff="0" xSize="5000" ySize="5000" />
      <DstRect xOff="110000" yOff="90000" xSize="5000" ySize="5000" />
    </SimpleSource>
    <SimpleSource>
      <SourceFilename relativeToVRT="0">/home/01_ORIGINAL/world/usa/california/napa/albedo/unzipped/10seh505885.tif</SourceFilename>
      <SourceBand>1</SourceBand>
      <SourceProperties RasterXSize="5000" RasterYSize="5000" DataType="Byte" BlockXSize="5000" BlockYSize="26" />
      <SrcRect xOff="0" yOff="0" xSize="5000" ySize="5000" />
      <DstRect xOff="70000" yOff="40000" xSize="5000" ySize="5000" />
    </SimpleSource>
    <SimpleSource>
      <SourceFilename relativeToVRT="0">/home/01_ORIGINAL/world/usa/california/napa/albedo/unzipped/10seh610645.tif</SourceFilename>
      <SourceBand>1</SourceBand>
      <SourceProperties RasterXSize="5000" RasterYSize="5000" DataType="Byte" BlockXSize="5000" BlockYSize="26" />
      <SrcRect xOff="0" yOff="0" xSize="5000" ySize="5000" />
      <DstRect xOff="105000" yOff="120000" xSize="5000" ySize="5000" />
    </SimpleSource>
    <SimpleSource>
      <SourceFilename relativeToVRT="0">/home/01_ORIGINAL/world/usa/california/napa/albedo/unzipped/10seh730705.tif</SourceFilename>
      <SourceBand>1</SourceBand>
      <SourceProperties RasterXSize="5000" RasterYSize="5000" DataType="Byte" BlockXSize="5000" BlockYSize="26" />
      <SrcRect xOff="0" yOff="0" xSize="5000" ySize="5000" />
      <DstRect xOff="145000" yOff="100000" xSize="5000" ySize="5000" />
    </SimpleSource>
    <SimpleSource>
      <SourceFilename relativeToVRT="0">/home/01_ORIGINAL/world/usa/california/napa/albedo/unzipped/10seh460705.tif</SourceFilename>
      <SourceBand>1</SourceBand>
      <SourceProperties RasterXSize="5000" RasterYSize="5000" DataType="Byte" BlockXSize="5000" BlockYSize="26" />
      <SrcRect xOff="0" yOff="0" xSize="5000" ySize="5000" />
      <DstRect xOff="55000" yOff="100000" xSize="5000" ySize="5000" />
    </SimpleSource>
    <SimpleSource>
      <SourceFilename relativeToVRT="0">/home/01_ORIGINAL/world/usa/california/napa/albedo/unzipped/10seh670480.tif</SourceFilename>
      <SourceBand>1</SourceBand>
      <SourceProperties RasterXSize="5000" RasterYSize="5000" DataType="Byte" BlockXSize="5000" BlockYSize="26" />
      <SrcRect xOff="0" yOff="0" xSize="5000" ySize="5000" />
      <DstRect xOff="125000" yOff="175000" xSize="5000" ySize="5000" />
    </SimpleSource>
    <SimpleSource>
      <SourceFilename relativeToVRT="0">/home/01_ORIGINAL/world/usa/california/napa/albedo/unzipped/10seh355705.tif</SourceFilename>
      <SourceBand>1</SourceBand>
      <SourceProperties RasterXSize="5000" RasterYSize="5000" DataType="Byte" BlockXSize="5000" BlockYSize="26" />
      <SrcRect xOff="0" yOff="0" xSize="5000" ySize="5000" />
      <DstRect xOff="20000" yOff="100000" xSize="5000" ySize="5000" />
    </SimpleSource>
    <SimpleSource>
      <SourceFilename relativeToVRT="0">/home/01_ORIGINAL/world/usa/california/napa/albedo/unzipped/10seh760585.tif</SourceFilename>
      <SourceBand>1</SourceBand>
      <SourceProperties RasterXSize="5000" RasterYSize="5000" DataType="Byte" BlockXSize="5000" BlockYSize="26" />
      <SrcRect xOff="0" yOff="0" xSize="5000" ySize="5000" />
      <DstRect xOff="155000" yOff="140000" xSize="5000" ySize="5000" />
    </SimpleSource>
    <SimpleSource>
      <SourceFilename relativeToVRT="0">/home/01_ORIGINAL/world/usa/california/napa/albedo/unzipped/10seh340795.tif</SourceFilename>
      <SourceBand>1</SourceBand>
      <SourceProperties RasterXSize="5000" RasterYSize="5000" DataType="Byte" BlockXSize="5000" BlockYSize="26" />
      <SrcRect xOff="0" yOff="0" xSize="5000" ySize="5000" />
      <DstRect xOff="15000" yOff="70000" xSize="5000" ySize="5000" />
    </SimpleSource>
    <SimpleSource>
      <SourceFilename relativeToVRT="0">/home/01_ORIGINAL/world/usa/california/napa/albedo/unzipped/10seh580510.tif</SourceFilename>
      <SourceBand>1</SourceBand>
      <SourceProperties RasterXSize="5000" RasterYSize="5000" DataType="Byte" BlockXSize="5000" BlockYSize="26" />
