<VRTDataset rasterXSize="316667" rasterYSize="214135">
  <SRS dataAxisToSRSAxisMapping="1,2">PROJCS["WGS 84 / Pseudo-Mercator",GEOGCS["WGS 84",DATUM["WGS_1984",SPHEROID["WGS 84",6378137,298.257223563,AUTHORITY["EPSG","7030"]],AUTHORITY["EPSG","6326"]],PRIMEM["Greenwich",0,AUTHORITY["EPSG","8901"]],UNIT["degree",0.0174532925199433,AUTHORITY["EPSG","9122"]],AUTHORITY["EPSG","4326"]],PROJECTION["Mercator_1SP"],PARAMETER["central_meridian",0],PARAMETER["scale_factor",1],PARAMETER["false_easting",0],PARAMETER["false_northing",0],UNIT["metre",1,AUTHORITY["EPSG","9001"]],AXIS["Easting",EAST],AXIS["Northing",NORTH],EXTENSION["PROJ4","+proj=merc +a=6378137 +b=6378137 +lat_ts=0 +lon_0=0 +x_0=0 +y_0=0 +k=1 +units=m +nadgrids=@null +wktext +no_defs"],AUTHORITY["EPSG","3857"]]</SRS>
  <GeoTransform> -5.0093925467376988e+06,  1.5819249270358050e+01,  0.0000000000000000e+00,  8.3997688119640537e+06,  0.0000000000000000e+00, -1.5819249270358050e+01</GeoTransform>
  <VRTRasterBand dataType="Int16" band="1">
    <NoDataValue>0</NoDataValue>
    <ColorInterp>Gray</ColorInterp>
    <ComplexSource>
      <SourceFilename relativeToVRT="1">dtm4buildings/Z3X3Y5_COG.tif</SourceFilename>
      <SourceBand>1</SourceBand>
      <SourceProperties RasterXSize="166981" RasterYSize="112915" DataType="Int16" BlockXSize="512" BlockYSize="512" />
      <SrcRect xOff="0" yOff="0" xSize="166981" ySize="112915" />
      <DstRect xOff="0" yOff="0" xSize="316666.733950935" ySize="214134.687563674" />
      <NODATA>0</NODATA>
    </ComplexSource>
    <ComplexSource>
      <SourceFilename relativeToVRT="1">dtm4buildings/wales_lidar_dtm_1m_32bit_cog_COG_INT16_.tif</SourceFilename>
      <SourceBand>1</SourceBand>
      <SourceProperties RasterXSize="189161" RasterYSize="238146" DataType="Int16" BlockXSize="512" BlockYSize="512" />
      <SrcRect xOff="0" yOff="0" xSize="189161" ySize="238146" />
      <DstRect xOff="278539.885829104" yOff="84058.8453463764" xSize="19592.5873069818" ySize="24666.2699859299" />
      <NODATA>-9999</NODATA>
    </ComplexSource>
  </VRTRasterBand>
</VRTDataset>
