<VRTDataset rasterXSize="32074" rasterYSize="22997">
  <SRS dataAxisToSRSAxisMapping="1,2">PROJCS["WGS 84 / Pseudo-Mercator",GEOGCS["WGS 84",DATUM["WGS_1984",SPHEROID["WGS 84",6378137,298.257223563,AUTHORITY["EPSG","7030"]],AUTHORITY["EPSG","6326"]],PRIMEM["Greenwich",0,AUTHORITY["EPSG","8901"]],UNIT["degree",0.0174532925199433,AUTHORITY["EPSG","9122"]],AUTHORITY["EPSG","4326"]],PROJECTION["Mercator_1SP"],PARAMETER["central_meridian",0],PARAMETER["scale_factor",1],PARAMETER["false_easting",0],PARAMETER["false_northing",0],UNIT["metre",1,AUTHORITY["EPSG","9001"]],AXIS["Easting",EAST],AXIS["Northing",NORTH],EXTENSION["PROJ4","+proj=merc +a=6378137 +b=6378137 +lat_ts=0 +lon_0=0 +x_0=0 +y_0=0 +k=1 +units=m +nadgrids=@null +wktext +no_defs"],AUTHORITY["EPSG","3857"]]</SRS>
  <GeoTransform> -2.5219273024632427e+05,  1.0000000000000000e+00,  0.0000000000000000e+00,  6.3200260582607947e+06,  0.0000000000000000e+00, -1.0000000000000000e+00</GeoTransform>
  <VRTRasterBand dataType="Byte" band="1">
    <ColorInterp>Red</ColorInterp>
    <SimpleSource>
      <SourceFilename relativeToVRT="1">Jersey/DTM_465665_3857_bt_rgb.tif</SourceFilename>
      <SourceBand>1</SourceBand>
      <SourceProperties RasterXSize="766" RasterYSize="768" DataType="Byte" BlockXSize="766" BlockYSize="3" />
      <SrcRect xOff="0" yOff="0" xSize="766" ySize="768" />
      <DstRect xOff="24452.1045482866" yOff="11502.0338999974" xSize="766" ySize="768" />
    </SimpleSource>
    <SimpleSource>
      <SourceFilename relativeToVRT="1">Jersey/DTM_380675_3857_bt_rgb.tif</SourceFilename>
      <SourceBand>1</SourceBand>
      <SourceProperties RasterXSize="765" RasterYSize="768" DataType="Byte" BlockXSize="765" BlockYSize="3" />
      <SrcRect xOff="0" yOff="0" xSize="765" ySize="768" />
      <DstRect xOff="11469.4817936394" yOff="9964.53861699905" xSize="765" ySize="768" />
    </SimpleSource>
    <SimpleSource>
      <SourceFilename relativeToVRT="1">Jersey/DTM_480710_3857_bt_rgb.tif</SourceFilename>
      <SourceBand>1</SourceBand>
      <SourceProperties RasterXSize="767" RasterYSize="768" DataType="Byte" BlockXSize="767" BlockYSize="3" />
      <SrcRect xOff="0" yOff="0" xSize="767" ySize="768" />
      <DstRect xOff="26752.9804142636" yOff="4609.15581422672" xSize="767" ySize="768" />
    </SimpleSource>
    <SimpleSource>
      <SourceFilename relativeToVRT="1">Jersey/DTM_340705_3857_bt_rgb.tif</SourceFilename>
      <SourceBand>1</SourceBand>
      <SourceProperties RasterXSize="767" RasterYSize="768" DataType="Byte" BlockXSize="767" BlockYSize="3" />
      <SrcRect xOff="0" yOff="0" xSize="767" ySize="768" />
      <DstRect xOff="5353.7521584694" yOff="5370.94831162132" xSize="767" ySize="768" />
    </SimpleSource>
    <SimpleSource>
      <SourceFilename relativeToVRT="1">Jersey/DTM_385685_3857_bt_rgb.tif</SourceFilename>
      <SourceBand>1</SourceBand>
      <SourceProperties RasterXSize="765" RasterYSize="768" DataType="Byte" BlockXSize="765" BlockYSize="3" />
      <SrcRect xOff="0" yOff="0" xSize="765" ySize="768" />
      <DstRect xOff="12232.9089006603" yOff="8432.14636512566" xSize="765" ySize="768" />
    </SimpleSource>
    <SimpleSource>
      <SourceFilename relativeToVRT="1">Jersey/DTM_410640_3857_bt_rgb.tif</SourceFilename>
      <SourceBand>1</SourceBand>
      <SourceProperties RasterXSize="764" RasterYSize="767" DataType="Byte" BlockXSize="764" BlockYSize="3" />
      <SrcRect xOff="0" yOff="0" xSize="764" ySize="767" />
      <DstRect xOff="16051.4328063772" yOff="15324.9561200012" xSize="764" ySize="767" />
    </SimpleSource>
    <SimpleSource>
      <SourceFilename relativeToVRT="1">Jersey/DTM_355665_3857_bt_rgb.tif</SourceFilename>
      <SourceBand>1</SourceBand>
      <SourceProperties RasterXSize="766" RasterYSize="768" DataType="Byte" BlockXSize="766" BlockYSize="3" />
      <SrcRect xOff="0" yOff="0" xSize="766" ySize="768" />
      <DstRect xOff="7651.51519114673" yOff="11498.3896994749" xSize="766" ySize="768" />
    </SimpleSource>
    <SimpleSource>
      <SourceFilename relativeToVRT="1">Jersey/DTM_335665_3857_bt_rgb.tif</SourceFilename>
      <SourceBand>1</SourceBand>
      <SourceProperties RasterXSize="766" RasterYSize="768" DataType="Byte" BlockXSize="766" BlockYSize="3" />
      <SrcRect xOff="0" yOff="0" xSize="766" ySize="768" />
      <DstRect xOff="4596.70136385044" yOff="11501.1662204452" xSize="766" ySize="768" />
    </SimpleSource>
    <SimpleSource>
      <SourceFilename relativeToVRT="1">Jersey/DTM_435640_3857_bt_rgb.tif</SourceFilename>
      <SourceBand>1</SourceBand>
      <SourceProperties RasterXSize="766" RasterYSize="767" DataType="Byte" BlockXSize="766" BlockYSize="3" />
      <SrcRect xOff="0" yOff="0" xSize="766" ySize="767" />
      <DstRect xOff="19867.8786361091" yOff="15326.515785085" xSize="766" ySize="767" />
    </SimpleSource>
    <SimpleSource>
      <SourceFilename relativeToVRT="1">Jersey/DTM_365665_3857_bt_rgb.tif</SourceFilename>
      <SourceBand>1</SourceBand>
      <SourceProperties RasterXSize="766" RasterYSize="768" DataType="Byte" BlockXSize="766" BlockYSize="3" />
      <SrcRect xOff="0" yOff="0" xSize="766" ySize="768" />
      <DstRect xOff="9178.92310463416" yOff="11497.4179580873" xSize="766" ySize="768" />
    </SimpleSource>
    <SimpleSource>
      <SourceFilename relativeToVRT="1">Jersey/DTM_415660_3857_bt_rgb.tif</SourceFilename>
      <SourceBand>1</SourceBand>
      <SourceProperties RasterXSize="765" RasterYSize="768" DataType="Byte" BlockXSize="765" BlockYSize="3" />
      <SrcRect xOff="0" yOff="0" xSize="765" ySize="768" />
      <DstRect xOff="16815.5516563765" yOff="12262.348645824" xSize="765" ySize="768" />
    </SimpleSource>
    <SimpleSource>
      <SourceFilename relativeToVRT="1">Jersey/DTM_440610_3857_bt_rgb.tif</SourceFilename>
      <SourceBand>1</SourceBand>
      <SourceProperties RasterXSize="766" RasterYSize="767" DataType="Byte" BlockXSize="766" BlockYSize="3" />
      <SrcRect xOff="0" yOff="0" xSize="766" ySize="767" />
      <DstRect xOff="20627.8527622092" yOff="19919.1363004111" xSize="766" ySize="767" />
    </SimpleSource>
    <SimpleSource>
      <SourceFilename relativeToVRT="1">Jersey/DTM_325730_3857_bt_rgb.tif</SourceFilename>
      <SourceBand>1</SourceBand>
      <SourceProperties RasterXSize="767" RasterYSize="769" DataType="Byte" BlockXSize="767" BlockYSize="3" />
      <SrcRect xOff="0" yOff="0" xSize="767" ySize="769" />
      <DstRect xOff="3055.77491836873" yOff="1540.42541655898" xSize="767" ySize="769" />
    </SimpleSource>
    <SimpleSource>
      <SourceFilename relativeToVRT="1">Jersey/DTM_380695_3857_bt_rgb.tif</SourceFilename>
      <SourceBand>1</SourceBand>
      <SourceProperties RasterXSize="765" RasterYSize="768" DataType="Byte" BlockXSize="765" BlockYSize="3" />
      <SrcRect xOff="0" yOff="0" xSize="765" ySize="768" />
      <DstRect xOff="11468.3728789596" yOff="6899.82506203745" xSize="765" ySize="768" />
    </SimpleSource>
    <SimpleSource>
      <SourceFilename relativeToVRT="1">Jersey/DTM_415715_3857_bt_rgb.tif</SourceFilename>
      <SourceBand>1</SourceBand>
      <SourceProperties RasterXSize="765" RasterYSize="769" DataType="Byte" BlockXSize="765" BlockYSize="3" />
      <SrcRect xOff="0" yOff="0" xSize="765" ySize="769" />
      <DstRect xOff="16817.8371742931" yOff="3834.00552397594" xSize="765" ySize="769" />
    </SimpleSource>
    <SimpleSource>
      <SourceFilename relativeToVRT="1">Jersey/DTM_360675_3857_bt_rgb.tif</SourceFilename>
      <SourceBand>1</SourceBand>
      <SourceProperties RasterXSize="766" RasterYSize="768" DataType="Byte" BlockXSize="766" BlockYSize="3" />
      <SrcRect xOff="0" yOff="0" xSize="766" ySize="768" />
      <DstRect xOff="8414.11113172429" yOff="9965.92743012309" xSize="766" ySize="768" />
    </SimpleSource>
    <SimpleSource>
      <SourceFilename relativeToVRT="1">Jersey/DTM_455665_3857_bt_rgb.tif</SourceFilename>
      <SourceBand>1</SourceBand>
      <SourceProperties RasterXSize="766" RasterYSize="768" DataType="Byte" BlockXSize="766" BlockYSize="3" />
      <SrcRect xOff="0" yOff="0" xSize="766" ySize="768" />
      <DstRect xOff="22924.8367135639" yOff="11500.3679605573" xSize="766" ySize="768" />
    </SimpleSource>
    <SimpleSource>
      <SourceFilename relativeToVRT="1">Jersey/DTM_365710_3857_bt_rgb.tif</SourceFilename>
      <SourceBand>1</SourceBand>
      <SourceProperties RasterXSize="767" RasterYSize="768" DataType="Byte" BlockXSize="767" BlockYSize="3" />
      <SrcRect xOff="0" yOff="0" xSize="767" ySize="768" />
      <DstRect xOff="9174.55667798413" yOff="4601.5032155877" xSize="767" ySize="768" />
    </SimpleSource>
    <SimpleSource>
      <SourceFilename relativeToVRT="1">Jersey/DTM_415730_3857_bt_rgb.tif</SourceFilename>
      <SourceBand>1</SourceBand>
      <SourceProperties RasterXSize="766" RasterYSize="769" DataType="Byte" BlockXSize="766" BlockYSize="3" />
      <SrcRect xOff="0" yOff="0" xSize="766" ySize="769" />
      <DstRect xOff="16818.4615851312" yOff="1533.91440425813" xSize="766" ySize="769" />
    </SimpleSource>
    <SimpleSource>
      <SourceFilename relativeToVRT="1">Jersey/DTM_490635_3857_bt_rgb.tif</SourceFilename>
      <SourceBand>1</SourceBand>
      <SourceProperties RasterXSize="766" RasterYSize="769" DataType="Byte" BlockXSize="766" BlockYSize="3" />
      <SrcRect xOff="0" yOff="0" xSize="766" ySize="769" />
      <DstRect xOff="28262.8019518729" yOff="16101.5685012126" xSize="766" ySize="769" />
    </SimpleSource>
    <SimpleSource>
      <SourceFilename relativeToVRT="1">Jersey/DTM_460685_3857_bt_rgb.tif</SourceFilename>
      <SourceBand>1</SourceBand>
      <SourceProperties RasterXSize="767" RasterYSize="768" DataType="Byte" BlockXSize="767" BlockYSize="3" />
      <SrcRect xOff="0" yOff="0" xSize="767" ySize="768" />
      <DstRect xOff="23691.793878492" yOff="8437.00990297552" xSize="767" ySize="768" />
    </SimpleSource>
    <SimpleSource>
      <SourceFilename relativeToVRT="1">Jersey/DTM_335660_3857_bt_rgb.tif</SourceFilename>
      <SourceBand>1</SourceBand>
      <SourceProperties RasterXSize="766" RasterYSize="768" DataType="Byte" BlockXSize="766" BlockYSize="3" />
      <SrcRect xOff="0" yOff="0" xSize="766" ySize="768" />
      <DstRect xOff="4597.60119024626" yOff="12267.0327064348" xSize="766" ySize="768" />
    </SimpleSource>
    <SimpleSource>
      <SourceFilename relativeToVRT="1">Jersey/DTM_500640_3857_bt_rgb.tif</SourceFilename>
      <SourceBand>1</SourceBand>
      <SourceProperties RasterXSize="766" RasterYSize="769" DataType="Byte" BlockXSize="766" BlockYSize="3" />
      <SrcRect xOff="0" yOff="0" xSize="766" ySize="769" />
      <DstRect xOff="29790.618338097" yOff="15338.6829434205" xSize="766" ySize="769" />
    </SimpleSource>
    <SimpleSource>
      <SourceFilename relativeToVRT="1">Jersey/DTM_380665_3857_bt_rgb.tif</SourceFilename>
      <SourceBand>1</SourceBand>
      <SourceProperties RasterXSize="765" RasterYSize="768" DataType="Byte" BlockXSize="765" BlockYSize="3" />
      <SrcRect xOff="0" yOff="0" xSize="765" ySize="768" />
      <DstRect xOff="11470.0358368369" yOff="11496.4809957882" xSize="765" ySize="768" />
    </SimpleSource>
    <SimpleSource>
      <SourceFilename relativeToVRT="1">Jersey/DTM_405660_3857_bt_rgb.tif</SourceFilename>
      <SourceBand>1</SourceBand>
      <SourceProperties RasterXSize="765" RasterYSize="768" DataType="Byte" BlockXSize="765" BlockYSize="3" />
      <SrcRect xOff="0" yOff="0" xSize="765" ySize="768" />
      <DstRect xOff="15288.4197995557" yOff="12262.0711733894" xSize="765" ySize="768" />
    </SimpleSource>
    <SimpleSource>
      <SourceFilename relativeToVRT="1">Jersey/DTM_340670_3857_bt_rgb.tif</SourceFilename>
      <SourceBand>1</SourceBand>
      <SourceProperties RasterXSize="766" RasterYSize="768" DataType="Byte" BlockXSize="766" BlockYSize="3" />
      <SrcRect xOff="0" yOff="0" xSize="766" ySize="768" />
      <DstRect xOff="5359.57370618259" yOff="10734.4322560532" xSize="766" ySize="768" />
    </SimpleSource>
    <SimpleSource>
      <SourceFilename relativeToVRT="1">Jersey/DTM_390730_3857_bt_rgb.tif</SourceFilename>
      <SourceBand>1</SourceBand>
      <SourceProperties RasterXSize="766" RasterYSize="769" DataType="Byte" BlockXSize="766" BlockYSize="3" />
      <SrcRect xOff="0" yOff="0" xSize="766" ySize="769" />
      <DstRect xOff="12995.6411377288" yOff="1533.63596443087" xSize="766" ySize="769" />
    </SimpleSource>
    <SimpleSource>
      <SourceFilename relativeToVRT="1">Jersey/DTM_415670_3857_bt_rgb.tif</SourceFilename>
      <SourceBand>1</SourceBand>
      <SourceProperties RasterXSize="765" RasterYSize="768" DataType="Byte" BlockXSize="765" BlockYSize="3" />
      <SrcRect xOff="0" yOff="0" xSize="765" ySize="768" />
      <DstRect xOff="16815.9667395" yOff="10730.5443252539" xSize="765" ySize="768" />
    </SimpleSource>
    <SimpleSource>
      <SourceFilename relativeToVRT="1">Jersey/DTM_385710_3857_bt_rgb.tif</SourceFilename>
      <SourceBand>1</SourceBand>
      <SourceProperties RasterXSize="765" RasterYSize="768" DataType="Byte" BlockXSize="765" BlockYSize="3" />
      <SrcRect xOff="0" yOff="0" xSize="765" ySize="768" />
      <DstRect xOff="12231.8685587187" yOff="4600.39028556552" xSize="765" ySize="768" />
    </SimpleSource>
    <SimpleSource>
      <SourceFilename relativeToVRT="1">Jersey/DTM_345700_3857_bt_rgb.tif</SourceFilename>
      <SourceBand>1</SourceBand>
      <SourceProperties RasterXSize="767" RasterYSize="768" DataType="Byte" BlockXSize="767" BlockYSize="3" />
      <SrcRect xOff="0" yOff="0" xSize="767" ySize="768" />
      <DstRect xOff="6118.77276651803" yOff="6136.63753071334" xSize="767" ySize="768" />
    </SimpleSource>
    <SimpleSource>
      <SourceFilename relativeToVRT="1">Jersey/DTM_450640_3857_bt_rgb.tif</SourceFilename>
      <SourceBand>1</SourceBand>
      <SourceProperties RasterXSize="766" RasterYSize="767" DataType="Byte" BlockXSize="766" BlockYSize="3" />
      <SrcRect xOff="0" yOff="0" xSize="766" ySize="767" />
      <DstRect xOff="22157.7448266745" yOff="15328.2835892765" xSize="766" ySize="767" />
    </SimpleSource>
    <SimpleSource>
      <SourceFilename relativeToVRT="1">Jersey/DTM_310715_3857_bt_rgb.tif</SourceFilename>
      <SourceBand>1</SourceBand>
      <SourceProperties RasterXSize="767" RasterYSize="770" DataType="Byte" BlockXSize="767" BlockYSize="3" />
      <SrcRect xOff="0" yOff="0" xSize="767" ySize="770" />
      <DstRect xOff="765.713326601923" yOff="3843.74752818793" xSize="767" ySize="770" />
    </SimpleSource>
    <SimpleSource>
      <SourceFilename relativeToVRT="1">Jersey/DTM_430680_3857_bt_rgb.tif</SourceFilename>
      <SourceBand>1</SourceBand>
      <SourceProperties RasterXSize="767" RasterYSize="768" DataType="Byte" BlockXSize="767" BlockYSize="3" />
      <SrcRect xOff="0" yOff="0" xSize="767" ySize="768" />
      <DstRect xOff="19107.9100334188" yOff="9199.40151490644" xSize="767" ySize="768" />
    </SimpleSource>
    <SimpleSource>
      <SourceFilename relativeToVRT="1">Jersey/DTM_465615_3857_bt_rgb.tif</SourceFilename>
      <SourceBand>1</SourceBand>
      <SourceProperties RasterXSize="766" RasterYSize="767" DataType="Byte" BlockXSize="766" BlockYSize="3" />
      <SrcRect xOff="0" yOff="0" xSize="766" ySize="767" />
      <DstRect xOff="24443.1199805971" yOff="19157.5935413213" xSize="766" ySize="767" />
    </SimpleSource>
    <SimpleSource>
      <SourceFilename relativeToVRT="1">Jersey/DTM_450710_3857_bt_rgb.tif</SourceFilename>
      <SourceBand>1</SourceBand>
      <SourceProperties RasterXSize="767" RasterYSize="768" DataType="Byte" BlockXSize="767" BlockYSize="3" />
      <SrcRect xOff="0" yOff="0" xSize="767" ySize="768" />
      <DstRect xOff="22167.4371804917" yOff="4603.72935251333" xSize="767" ySize="768" />
    </SimpleSource>
    <SimpleSource>
      <SourceFilename relativeToVRT="1">Jersey/DTM_400705_3857_bt_rgb.tif</SourceFilename>
      <SourceBand>1</SourceBand>
      <SourceProperties RasterXSize="765" RasterYSize="768" DataType="Byte" BlockXSize="765" BlockYSize="3" />
      <SrcRect xOff="0" yOff="0" xSize="765" ySize="768" />
      <DstRect xOff="14524.8531438549" yOff="5366.74080654047" xSize="765" ySize="768" />
    </SimpleSource>
    <SimpleSource>
      <SourceFilename relativeToVRT="1">Jersey/DTM_340690_3857_bt_rgb.tif</SourceFilename>
      <SourceBand>1</SourceBand>
      <SourceProperties RasterXSize="767" RasterYSize="768" DataType="Byte" BlockXSize="767" BlockYSize="3" />
      <SrcRect xOff="0" yOff="0" xSize="767" ySize="768" />
      <DstRect xOff="5356.24835050383" yOff="7669.99889157061" xSize="767" ySize="768" />
    </SimpleSource>
    <SimpleSource>
      <SourceFilename relativeToVRT="1">Jersey/DTM_445635_3857_bt_rgb.tif</SourceFilename>
      <SourceBand>1</SourceBand>
      <SourceProperties RasterXSize="766" RasterYSize="767" DataType="Byte" BlockXSize="766" BlockYSize="3" />
      <SrcRect xOff="0" yOff="0" xSize="766" ySize="767" />
      <DstRect xOff="21393.8343351803" yOff="16093.1471734913" xSize="766" ySize="767" />
    </SimpleSource>
    <SimpleSource>
      <SourceFilename relativeToVRT="1">Jersey/DTM_445640_3857_bt_rgb.tif</SourceFilename>
      <SourceBand>1</SourceBand>
      <SourceProperties RasterXSize="766" RasterYSize="767" DataType="Byte" BlockXSize="766" BlockYSize="3" />
      <SrcRect xOff="0" yOff="0" xSize="766" ySize="767" />
      <DstRect xOff="21394.4562455674" yOff="15327.6249875398" xSize="766" ySize="767" />
    </SimpleSource>
    <SimpleSource>
      <SourceFilename relativeToVRT="1">Jersey/DTM_375705_3857_bt_rgb.tif</SourceFilename>
      <SourceBand>1</SourceBand>
      <SourceProperties RasterXSize="765" RasterYSize="768" DataType="Byte" BlockXSize="765" BlockYSize="3" />
      <SrcRect xOff="0" yOff="0" xSize="765" ySize="768" />
      <DstRect xOff="10703.5593525915" yOff="5367.29699418135" xSize="765" ySize="768" />
    </SimpleSource>
    <SimpleSource>
      <SourceFilename relativeToVRT="1">Jersey/DTM_395675_3857_bt_rgb.tif</SourceFilename>
      <SourceBand>1</SourceBand>
      <SourceProperties RasterXSize="765" RasterYSize="768" DataType="Byte" BlockXSize="765" BlockYSize="3" />
      <SrcRect xOff="0" yOff="0" xSize="765" ySize="768" />
      <DstRect xOff="13761.0105750374" yOff="9964.2262797989" xSize="765" ySize="768" />
    </SimpleSource>
    <SimpleSource>
      <SourceFilename relativeToVRT="1">Jersey/DTM_365660_3857_bt_rgb.tif</SourceFilename>
      <SourceBand>1</SourceBand>
      <SourceProperties RasterXSize="766" RasterYSize="768" DataType="Byte" BlockXSize="766" BlockYSize="3" />
      <SrcRect xOff="0" yOff="0" xSize="766" ySize="768" />
      <DstRect xOff="9179.40765925817" yOff="12263.2853753353" xSize="766" ySize="768" />
    </SimpleSource>
    <SimpleSource>
      <SourceFilename relativeToVRT="1">Jersey/DTM_385690_3857_bt_rgb.tif</SourceFilename>
      <SourceBand>1</SourceBand>
      <SourceProperties RasterXSize="765" RasterYSize="768" DataType="Byte" BlockXSize="765" BlockYSize="3" />
      <SrcRect xOff="0" yOff="0" xSize="765" ySize="768" />
      <DstRect xOff="12232.7009359271" yOff="7665.93339712173" xSize="765" ySize="768" />
    </SimpleSource>
    <SimpleSource>
      <SourceFilename relativeToVRT="1">Jersey/DTM_445695_3857_bt_rgb.tif</SourceFilename>
      <SourceBand>1</SourceBand>
      <SourceProperties RasterXSize="767" RasterYSize="768" DataType="Byte" BlockXSize="767" BlockYSize="3" />
      <SrcRect xOff="0" yOff="0" xSize="767" ySize="768" />
      <DstRect xOff="21401.3074886082" yOff="6902.32749528252" xSize="767" ySize="768" />
    </SimpleSource>
    <SimpleSource>
      <SourceFilename relativeToVRT="1">Jersey/DTM_445630_3857_bt_rgb.tif</SourceFilename>
      <SourceBand>1</SourceBand>
      <SourceProperties RasterXSize="766" RasterYSize="767" DataType="Byte" BlockXSize="766" BlockYSize="3" />
      <SrcRect xOff="0" yOff="0" xSize="766" ySize="767" />
      <DstRect xOff="21393.2125795594" yOff="16858.6004423853" xSize="766" ySize="767" />
    </SimpleSource>
    <SimpleSource>
      <SourceFilename relativeToVRT="1">Jersey/DTM_505625_3857_bt_rgb.tif</SourceFilename>
      <SourceBand>1</SourceBand>
      <SourceProperties RasterXSize="766" RasterYSize="769" DataType="Byte" BlockXSize="766" BlockYSize="3" />
      <SrcRect xOff="0" yOff="0" xSize="766" ySize="769" />
      <DstRect xOff="30549.5515358097" yOff="17636.4547394868" xSize="766" ySize="769" />
    </SimpleSource>
    <SimpleSource>
      <SourceFilename relativeToVRT="1">Jersey/DTM_365685_3857_bt_rgb.tif</SourceFilename>
      <SourceBand>1</SourceBand>
      <SourceProperties RasterXSize="767" RasterYSize="768" DataType="Byte" BlockXSize="767" BlockYSize="3" />
      <SrcRect xOff="0" yOff="0" xSize="767" ySize="768" />
      <DstRect xOff="9176.98367899924" yOff="8433.25791259389" xSize="767" ySize="768" />
    </SimpleSource>
    <SimpleSource>
      <SourceFilename relativeToVRT="1">Jersey/DTM_325645_3857_bt_rgb.tif</SourceFilename>
      <SourceBand>1</SourceBand>
      <SourceProperties RasterXSize="766" RasterYSize="768" DataType="Byte" BlockXSize="766" BlockYSize="3" />
      <SrcRect xOff="0" yOff="0" xSize="766" ySize="768" />
      <DstRect xOff="3073.44717445949" yOff="14566.0212018164" xSize="766" ySize="768" />
    </SimpleSource>
    <SimpleSource>
      <SourceFilename relativeToVRT="1">Jersey/DTM_420615_3857_bt_rgb.tif</SourceFilename>
      <SourceBand>1</SourceBand>
      <SourceProperties RasterXSize="764" RasterYSize="767" DataType="Byte" BlockXSize="764" BlockYSize="3" />
      <SrcRect xOff="0" yOff="0" xSize="764" ySize="767" />
      <DstRect xOff="17576.6302170933" yOff="19152.2967116097" xSize="764" ySize="767" />
    </SimpleSource>
    <SimpleSource>
      <SourceFilename relativeToVRT="1">Jersey/DTM_435665_3857_bt_rgb.tif</SourceFilename>
      <SourceBand>1</SourceBand>
      <SourceProperties RasterXSize="766" RasterYSize="768" DataType="Byte" BlockXSize="766" BlockYSize="3" />
      <SrcRect xOff="0" yOff="0" xSize="766" ySize="768" />
      <DstRect xOff="19870.2989076469" yOff="11497.8691188172" xSize="766" ySize="768" />
    </SimpleSource>
    <SimpleSource>
      <SourceFilename relativeToVRT="1">Jersey/DTM_330680_3857_bt_rgb.tif</SourceFilename>
      <SourceBand>1</SourceBand>
      <SourceProperties RasterXSize="767" RasterYSize="768" DataType="Byte" BlockXSize="767" BlockYSize="3" />
      <SrcRect xOff="0" yOff="0" xSize="767" ySize="768" />
      <DstRect xOff="3830.08986145517" yOff="9204.02089952584" xSize="767" ySize="768" />
    </SimpleSource>
    <SimpleSource>
      <SourceFilename relativeToVRT="1">Jersey/DTM_430665_3857_bt_rgb.tif</SourceFilename>
      <SourceBand>1</SourceBand>
      <SourceProperties RasterXSize="766" RasterYSize="768" DataType="Byte" BlockXSize="766" BlockYSize="3" />
      <SrcRect xOff="0" yOff="0" xSize="766" ySize="768" />
      <DstRect xOff="19106.6641115847" yOff="11497.4179580873" xSize="766" ySize="768" />
    </SimpleSource>
    <SimpleSource>
      <SourceFilename relativeToVRT="1">Jersey/DTM_400660_3857_bt_rgb.tif</SourceFilename>
      <SourceBand>1</SourceBand>
      <SourceProperties RasterXSize="765" RasterYSize="768" DataType="Byte" BlockXSize="765" BlockYSize="3" />
      <SrcRect xOff="0" yOff="0" xSize="765" ySize="768" />
      <DstRect xOff="14524.8537673861" yOff="12262.0365413856" xSize="765" ySize="768" />
    </SimpleSource>
    <SimpleSource>
      <SourceFilename relativeToVRT="1">Jersey/DTM_415650_3857_bt_rgb.tif</SourceFilename>
      <SourceBand>1</SourceBand>
      <SourceProperties RasterXSize="765" RasterYSize="768" DataType="Byte" BlockXSize="765" BlockYSize="3" />
      <SrcRect xOff="0" yOff="0" xSize="765" ySize="768" />
      <DstRect xOff="16815.1367798936" yOff="13793.8769532898" xSize="765" ySize="768" />
    </SimpleSource>
    <SimpleSource>
