<VRTDataset rasterXSize="169408" rasterYSize="112864">
  <SRS dataAxisToSRSAxisMapping="1,2">PROJCS["ETRS89 / UTM zone 30N",GEOGCS["ETRS89",DATUM["European_Terrestrial_Reference_System_1989",SPHEROID["GRS 1980",6378137,298.257222101,AUTHORITY["EPSG","7019"]],AUTHORITY["EPSG","6258"]],PRIMEM["Greenwich",0,AUTHORITY["EPSG","8901"]],UNIT["degree",0.0174532925199433,AUTHORITY["EPSG","9122"]],AUTHORITY["EPSG","4258"]],PROJECTION["Transverse_Mercator"],PARAMETER["latitude_of_origin",0],PARAMETER["central_meridian",-3],PARAMETER["scale_factor",0.9996],PARAMETER["false_easting",500000],PARAMETER["false_northing",0],UNIT["metre",1,AUTHORITY["EPSG","9001"]],AXIS["Easting",EAST],AXIS["Northing",NORTH],AUTHORITY["EPSG","25830"]]</SRS>
  <GeoTransform>  5.6811000000000000e+05,  2.5000000000000000e-01,  0.0000000000000000e+00,  4.5672000000000000e+06,  0.0000000000000000e+00, -2.5000000000000000e-01</GeoTransform>
  <VRTRasterBand dataType="Byte" band="1">
    <ColorInterp>Red</ColorInterp>
    <SimpleSource>
      <SourceFilename relativeToVRT="0">/mnt/data/srv/carto_private/01_ORIGINAL/world/spain/provincias/guadalajara/pnoa_max_actual/PNOA_MA_OF_ETRS89_HU30_h25_0463_1.tif</SourceFilename>
      <SourceBand>1</SourceBand>
      <SourceProperties RasterXSize="56832" RasterYSize="38144" DataType="Byte" BlockXSize="256" BlockYSize="256" />
      <SrcRect xOff="0" yOff="0" xSize="56832" ySize="38144" />
      <DstRect xOff="0" yOff="37680" xSize="56832" ySize="38144" />
    </SimpleSource>
    <SimpleSource>
      <SourceFilename relativeToVRT="0">/mnt/data/srv/carto_private/01_ORIGINAL/world/spain/provincias/guadalajara/pnoa_max_actual/PNOA_MA_OF_ETRS89_HU30_h25_0463_4.tif</SourceFilename>
      <SourceBand>1</SourceBand>
      <SourceProperties RasterXSize="57088" RasterYSize="38400" DataType="Byte" BlockXSize="256" BlockYSize="256" />
      <SrcRect xOff="0" yOff="0" xSize="57088" ySize="38400" />
      <DstRect xOff="56320" yOff="74000" xSize="57088" ySize="38400" />
    </SimpleSource>
    <SimpleSource>
      <SourceFilename relativeToVRT="0">/mnt/data/srv/carto_private/01_ORIGINAL/world/spain/provincias/guadalajara/pnoa_max_actual/PNOA_MA_OF_ETRS89_HU30_h25_0436_4.tif</SourceFilename>
      <SourceBand>1</SourceBand>
      <SourceProperties RasterXSize="56832" RasterYSize="38144" DataType="Byte" BlockXSize="256" BlockYSize="256" />
      <SrcRect xOff="0" yOff="0" xSize="56832" ySize="38144" />
      <DstRect xOff="55480" yOff="0" xSize="56832" ySize="38144" />
    </SimpleSource>
    <SimpleSource>
      <SourceFilename relativeToVRT="0">/mnt/data/srv/carto_private/01_ORIGINAL/world/spain/provincias/guadalajara/pnoa_max_actual/PNOA_MA_OF_ETRS89_HU30_h25_0464_3.tif</SourceFilename>
      <SourceBand>1</SourceBand>
      <SourceProperties RasterXSize="57088" RasterYSize="38400" DataType="Byte" BlockXSize="256" BlockYSize="256" />
      <SrcRect xOff="0" yOff="0" xSize="57088" ySize="38400" />
      <DstRect xOff="112320" yOff="73240" xSize="57088" ySize="38400" />
    </SimpleSource>
    <SimpleSource>
      <SourceFilename relativeToVRT="0">/mnt/data/srv/carto_private/01_ORIGINAL/world/spain/provincias/guadalajara/pnoa_max_actual/PNOA_MA_OF_ETRS89_HU30_h25_0463_2.tif</SourceFilename>
      <SourceBand>1</SourceBand>
      <SourceProperties RasterXSize="57088" RasterYSize="38400" DataType="Byte" BlockXSize="256" BlockYSize="256" />
      <SrcRect xOff="0" yOff="0" xSize="57088" ySize="38400" />
      <DstRect xOff="55920" yOff="37000" xSize="57088" ySize="38400" />
    </SimpleSource>
    <SimpleSource>
      <SourceFilename relativeToVRT="0">/mnt/data/srv/carto_private/01_ORIGINAL/world/spain/provincias/guadalajara/pnoa_max_actual/PNOA_MA_OF_ETRS89_HU30_h25_0463_3.tif</SourceFilename>
      <SourceBand>1</SourceBand>
      <SourceProperties RasterXSize="57088" RasterYSize="38144" DataType="Byte" BlockXSize="256" BlockYSize="256" />
      <SrcRect xOff="0" yOff="0" xSize="57088" ySize="38144" />
      <DstRect xOff="320" yOff="74720" xSize="57088" ySize="38144" />
    </SimpleSource>
    <SimpleSource>
      <SourceFilename relativeToVRT="0">/mnt/data/srv/carto_private/01_ORIGINAL/world/spain/provincias/guadalajara/pnoa_max_actual/PNOA_MA_OF_ETRS89_HU30_h25_0464_1.tif</SourceFilename>
      <SourceBand>1</SourceBand>
      <SourceProperties RasterXSize="57088" RasterYSize="38400" DataType="Byte" BlockXSize="256" BlockYSize="256" />
      <SrcRect xOff="0" yOff="0" xSize="57088" ySize="38400" />
      <DstRect xOff="111840" yOff="36240" xSize="57088" ySize="38400" />
    </SimpleSource>
  </VRTRasterBand>
  <VRTRasterBand dataType="Byte" band="2">
    <ColorInterp>Green</ColorInterp>
    <SimpleSource>
      <SourceFilename relativeToVRT="0">/mnt/data/srv/carto_private/01_ORIGINAL/world/spain/provincias/guadalajara/pnoa_max_actual/PNOA_MA_OF_ETRS89_HU30_h25_0463_1.tif</SourceFilename>
      <SourceBand>2</SourceBand>
      <SourceProperties RasterXSize="56832" RasterYSize="38144" DataType="Byte" BlockXSize="256" BlockYSize="256" />
      <SrcRect xOff="0" yOff="0" xSize="56832" ySize="38144" />
      <DstRect xOff="0" yOff="37680" xSize="56832" ySize="38144" />
    </SimpleSource>
    <SimpleSource>
      <SourceFilename relativeToVRT="0">/mnt/data/srv/carto_private/01_ORIGINAL/world/spain/provincias/guadalajara/pnoa_max_actual/PNOA_MA_OF_ETRS89_HU30_h25_0463_4.tif</SourceFilename>
      <SourceBand>2</SourceBand>
      <SourceProperties RasterXSize="57088" RasterYSize="38400" DataType="Byte" BlockXSize="256" BlockYSize="256" />
      <SrcRect xOff="0" yOff="0" xSize="57088" ySize="38400" />
      <DstRect xOff="56320" yOff="74000" xSize="57088" ySize="38400" />
    </SimpleSource>
    <SimpleSource>
      <SourceFilename relativeToVRT="0">/mnt/data/srv/carto_private/01_ORIGINAL/world/spain/provincias/guadalajara/pnoa_max_actual/PNOA_MA_OF_ETRS89_HU30_h25_0436_4.tif</SourceFilename>
      <SourceBand>2</SourceBand>
      <SourceProperties RasterXSize="56832" RasterYSize="38144" DataType="Byte" BlockXSize="256" BlockYSize="256" />
      <SrcRect xOff="0" yOff="0" xSize="56832" ySize="38144" />
      <DstRect xOff="55480" yOff="0" xSize="56832" ySize="38144" />
    </SimpleSource>
    <SimpleSource>
      <SourceFilename relativeToVRT="0">/mnt/data/srv/carto_private/01_ORIGINAL/world/spain/provincias/guadalajara/pnoa_max_actual/PNOA_MA_OF_ETRS89_HU30_h25_0464_3.tif</SourceFilename>
      <SourceBand>2</SourceBand>
      <SourceProperties RasterXSize="57088" RasterYSize="38400" DataType="Byte" BlockXSize="256" BlockYSize="256" />
      <SrcRect xOff="0" yOff="0" xSize="57088" ySize="38400" />
      <DstRect xOff="112320" yOff="73240" xSize="57088" ySize="38400" />
    </SimpleSource>
    <SimpleSource>
      <SourceFilename relativeToVRT="0">/mnt/data/srv/carto_private/01_ORIGINAL/world/spain/provincias/guadalajara/pnoa_max_actual/PNOA_MA_OF_ETRS89_HU30_h25_0463_2.tif</SourceFilename>
      <SourceBand>2</SourceBand>
      <SourceProperties RasterXSize="57088" RasterYSize="38400" DataType="Byte" BlockXSize="256" BlockYSize="256" />
      <SrcRect xOff="0" yOff="0" xSize="57088" ySize="38400" />
      <DstRect xOff="55920" yOff="37000" xSize="57088" ySize="38400" />
    </SimpleSource>
    <SimpleSource>
      <SourceFilename relativeToVRT="0">/mnt/data/srv/carto_private/01_ORIGINAL/world/spain/provincias/guadalajara/pnoa_max_actual/PNOA_MA_OF_ETRS89_HU30_h25_0463_3.tif</SourceFilename>
      <SourceBand>2</SourceBand>
      <SourceProperties RasterXSize="57088" RasterYSize="38144" DataType="Byte" BlockXSize="256" BlockYSize="256" />
      <SrcRect xOff="0" yOff="0" xSize="57088" ySize="38144" />
      <DstRect xOff="320" yOff="74720" xSize="57088" ySize="38144" />
    </SimpleSource>
    <SimpleSource>
      <SourceFilename relativeToVRT="0">/mnt/data/srv/carto_private/01_ORIGINAL/world/spain/provincias/guadalajara/pnoa_max_actual/PNOA_MA_OF_ETRS89_HU30_h25_0464_1.tif</SourceFilename>
      <SourceBand>2</SourceBand>
      <SourceProperties RasterXSize="57088" RasterYSize="38400" DataType="Byte" BlockXSize="256" BlockYSize="256" />
      <SrcRect xOff="0" yOff="0" xSize="57088" ySize="38400" />
      <DstRect xOff="111840" yOff="36240" xSize="57088" ySize="38400" />
    </SimpleSource>
  </VRTRasterBand>
  <VRTRasterBand dataType="Byte" band="3">
    <ColorInterp>Blue</ColorInterp>
    <SimpleSource>
      <SourceFilename relativeToVRT="0">/mnt/data/srv/carto_private/01_ORIGINAL/world/spain/provincias/guadalajara/pnoa_max_actual/PNOA_MA_OF_ETRS89_HU30_h25_0463_1.tif</SourceFilename>
      <SourceBand>3</SourceBand>
      <SourceProperties RasterXSize="56832" RasterYSize="38144" DataType="Byte" BlockXSize="256" BlockYSize="256" />
      <SrcRect xOff="0" yOff="0" xSize="56832" ySize="38144" />
      <DstRect xOff="0" yOff="37680" xSize="56832" ySize="38144" />
    </SimpleSource>
    <SimpleSource>
      <SourceFilename relativeToVRT="0">/mnt/data/srv/carto_private/01_ORIGINAL/world/spain/provincias/guadalajara/pnoa_max_actual/PNOA_MA_OF_ETRS89_HU30_h25_0463_4.tif</SourceFilename>
      <SourceBand>3</SourceBand>
      <SourceProperties RasterXSize="57088" RasterYSize="38400" DataType="Byte" BlockXSize="256" BlockYSize="256" />
      <SrcRect xOff="0" yOff="0" xSize="57088" ySize="38400" />
      <DstRect xOff="56320" yOff="74000" xSize="57088" ySize="38400" />
    </SimpleSource>
    <SimpleSource>
      <SourceFilename relativeToVRT="0">/mnt/data/srv/carto_private/01_ORIGINAL/world/spain/provincias/guadalajara/pnoa_max_actual/PNOA_MA_OF_ETRS89_HU30_h25_0436_4.tif</SourceFilename>
      <SourceBand>3</SourceBand>
      <SourceProperties RasterXSize="56832" RasterYSize="38144" DataType="Byte" BlockXSize="256" BlockYSize="256" />
      <SrcRect xOff="0" yOff="0" xSize="56832" ySize="38144" />
      <DstRect xOff="55480" yOff="0" xSize="56832" ySize="38144" />
    </SimpleSource>
    <SimpleSource>
      <SourceFilename relativeToVRT="0">/mnt/data/srv/carto_private/01_ORIGINAL/world/spain/provincias/guadalajara/pnoa_max_actual/PNOA_MA_OF_ETRS89_HU30_h25_0464_3.tif</SourceFilename>
      <SourceBand>3</SourceBand>
      <SourceProperties RasterXSize="57088" RasterYSize="38400" DataType="Byte" BlockXSize="256" BlockYSize="256" />
      <SrcRect xOff="0" yOff="0" xSize="57088" ySize="38400" />
      <DstRect xOff="112320" yOff="73240" xSize="57088" ySize="38400" />
    </SimpleSource>
    <SimpleSource>
      <SourceFilename relativeToVRT="0">/mnt/data/srv/carto_private/01_ORIGINAL/world/spain/provincias/guadalajara/pnoa_max_actual/PNOA_MA_OF_ETRS89_HU30_h25_0463_2.tif</SourceFilename>
      <SourceBand>3</SourceBand>
      <SourceProperties RasterXSize="57088" RasterYSize="38400" DataType="Byte" BlockXSize="256" BlockYSize="256" />
      <SrcRect xOff="0" yOff="0" xSize="57088" ySize="38400" />
      <DstRect xOff="55920" yOff="37000" xSize="57088" ySize="38400" />
    </SimpleSource>
    <SimpleSource>
      <SourceFilename relativeToVRT="0">/mnt/data/srv/carto_private/01_ORIGINAL/world/spain/provincias/guadalajara/pnoa_max_actual/PNOA_MA_OF_ETRS89_HU30_h25_0463_3.tif</SourceFilename>
      <SourceBand>3</SourceBand>
      <SourceProperties RasterXSize="57088" RasterYSize="38144" DataType="Byte" BlockXSize="256" BlockYSize="256" />
      <SrcRect xOff="0" yOff="0" xSize="57088" ySize="38144" />
      <DstRect xOff="320" yOff="74720" xSize="57088" ySize="38144" />
    </SimpleSource>
    <SimpleSource>
      <SourceFilename relativeToVRT="0">/mnt/data/srv/carto_private/01_ORIGINAL/world/spain/provincias/guadalajara/pnoa_max_actual/PNOA_MA_OF_ETRS89_HU30_h25_0464_1.tif</SourceFilename>
      <SourceBand>3</SourceBand>
      <SourceProperties RasterXSize="57088" RasterYSize="38400" DataType="Byte" BlockXSize="256" BlockYSize="256" />
      <SrcRect xOff="0" yOff="0" xSize="57088" ySize="38400" />
      <DstRect xOff="111840" yOff="36240" xSize="57088" ySize="38400" />
    </SimpleSource>
  </VRTRasterBand>
  <OverviewList resampling="nearest">2 4 8 16 32 64 128 256</OverviewList>
</VRTDataset>
