<VRTDataset rasterXSize="226904" rasterYSize="260728">
  <SRS dataAxisToSRSAxisMapping="1,2">PROJCS["ETRS89 / UTM zone 30N",GEOGCS["ETRS89",DATUM["European_Terrestrial_Reference_System_1989",SPHEROID["GRS 1980",6378137,298.257222101,AUTHORITY["EPSG","7019"]],AUTHORITY["EPSG","6258"]],PRIMEM["Greenwich",0,AUTHORITY["EPSG","8901"]],UNIT["degree",0.0174532925199433,AUTHORITY["EPSG","9122"]],AUTHORITY["EPSG","4258"]],PROJECTION["Transverse_Mercator"],PARAMETER["latitude_of_origin",0],PARAMETER["central_meridian",-3],PARAMETER["scale_factor",0.9996],PARAMETER["false_easting",500000],PARAMETER["false_northing",0],UNIT["metre",1,AUTHORITY["EPSG","9001"]],AXIS["Easting",EAST],AXIS["Northing",NORTH],AUTHORITY["EPSG","25830"]]</SRS>
  <GeoTransform>  5.1221000000000000e+05,  2.5000000000000000e-01,  0.0000000000000000e+00,  4.5391300000000000e+06,  0.0000000000000000e+00, -2.5000000000000000e-01</GeoTransform>
  <VRTRasterBand dataType="Byte" band="1">
    <ColorInterp>Red</ColorInterp>
    <SimpleSource>
      <SourceFilename relativeToVRT="0">/mnt/data/srv/carto_private/01_ORIGINAL/world/spain/provincias/guadalajara/pnoa_max_actual/PNOA_MA_OF_ETRS89_HU30_h25_0512_2.tif</SourceFilename>
      <SourceBand>1</SourceBand>
      <SourceProperties RasterXSize="57088" RasterYSize="37888" DataType="Byte" BlockXSize="256" BlockYSize="256" />
      <SrcRect xOff="0" yOff="0" xSize="57088" ySize="37888" />
      <DstRect xOff="56320" yOff="74840" xSize="57088" ySize="37888" />
    </SimpleSource>
    <SimpleSource>
      <SourceFilename relativeToVRT="0">/mnt/data/srv/carto_private/01_ORIGINAL/world/spain/provincias/guadalajara/pnoa_max_actual/PNOA_MA_OF_ETRS89_HU30_h25_0512_3.tif</SourceFilename>
      <SourceBand>1</SourceBand>
      <SourceProperties RasterXSize="57088" RasterYSize="37632" DataType="Byte" BlockXSize="256" BlockYSize="256" />
      <SrcRect xOff="0" yOff="0" xSize="57088" ySize="37632" />
      <DstRect xOff="200" yOff="112080" xSize="57088" ySize="37632" />
    </SimpleSource>
    <SimpleSource>
      <SourceFilename relativeToVRT="0">/mnt/data/srv/carto_private/01_ORIGINAL/world/spain/provincias/guadalajara/pnoa_max_actual/PNOA_MA_OF_ETRS89_HU30_h25_0562_2.tif</SourceFilename>
      <SourceBand>1</SourceBand>
      <SourceProperties RasterXSize="57344" RasterYSize="37888" DataType="Byte" BlockXSize="256" BlockYSize="256" />
      <SrcRect xOff="0" yOff="0" xSize="57344" ySize="37888" />
      <DstRect xOff="56840" yOff="222840" xSize="57344" ySize="37888" />
    </SimpleSource>
    <SimpleSource>
      <SourceFilename relativeToVRT="0">/mnt/data/srv/carto_private/01_ORIGINAL/world/spain/provincias/guadalajara/pnoa_max_actual/PNOA_MA_OF_ETRS89_HU30_h25_0563_1.tif</SourceFilename>
      <SourceBand>1</SourceBand>
      <SourceProperties RasterXSize="57344" RasterYSize="37888" DataType="Byte" BlockXSize="256" BlockYSize="256" />
      <SrcRect xOff="0" yOff="0" xSize="57344" ySize="37888" />
      <DstRect xOff="113360" yOff="222480" xSize="57344" ySize="37888" />
    </SimpleSource>
    <SimpleSource>
      <SourceFilename relativeToVRT="0">/mnt/data/srv/carto_private/01_ORIGINAL/world/spain/provincias/guadalajara/pnoa_max_actual/PNOA_MA_OF_ETRS89_HU30_h25_0562_1.tif</SourceFilename>
      <SourceBand>1</SourceBand>
      <SourceProperties RasterXSize="57088" RasterYSize="37632" DataType="Byte" BlockXSize="256" BlockYSize="256" />
      <SrcRect xOff="0" yOff="0" xSize="57088" ySize="37632" />
      <DstRect xOff="360" yOff="223080" xSize="57088" ySize="37632" />
    </SimpleSource>
    <SimpleSource>
      <SourceFilename relativeToVRT="0">/mnt/data/srv/carto_private/01_ORIGINAL/world/spain/provincias/guadalajara/pnoa_max_actual/PNOA_MA_OF_ETRS89_HU30_h25_0537_3.tif</SourceFilename>
      <SourceBand>1</SourceBand>
      <SourceProperties RasterXSize="57088" RasterYSize="37632" DataType="Byte" BlockXSize="256" BlockYSize="256" />
      <SrcRect xOff="0" yOff="0" xSize="57088" ySize="37632" />
      <DstRect xOff="320" yOff="186080" xSize="57088" ySize="37632" />
    </SimpleSource>
    <SimpleSource>
      <SourceFilename relativeToVRT="0">/mnt/data/srv/carto_private/01_ORIGINAL/world/spain/provincias/guadalajara/pnoa_max_actual/PNOA_MA_OF_ETRS89_HU30_h25_0488_2.tif</SourceFilename>
      <SourceBand>1</SourceBand>
      <SourceProperties RasterXSize="57088" RasterYSize="38144" DataType="Byte" BlockXSize="256" BlockYSize="256" />
      <SrcRect xOff="0" yOff="0" xSize="57088" ySize="38144" />
      <DstRect xOff="168200" yOff="0" xSize="57088" ySize="38144" />
    </SimpleSource>
    <SimpleSource>
      <SourceFilename relativeToVRT="0">/mnt/data/srv/carto_private/01_ORIGINAL/world/spain/provincias/guadalajara/pnoa_max_actual/PNOA_MA_OF_ETRS89_HU30_h25_0512_1.tif</SourceFilename>
      <SourceBand>1</SourceBand>
      <SourceProperties RasterXSize="56832" RasterYSize="37632" DataType="Byte" BlockXSize="256" BlockYSize="256" />
      <SrcRect xOff="0" yOff="0" xSize="56832" ySize="37632" />
      <DstRect xOff="120" yOff="75080" xSize="56832" ySize="37632" />
    </SimpleSource>
    <SimpleSource>
      <SourceFilename relativeToVRT="0">/mnt/data/srv/carto_private/01_ORIGINAL/world/spain/provincias/guadalajara/pnoa_max_actual/PNOA_MA_OF_ETRS89_HU30_h25_0513_2.tif</SourceFilename>
      <SourceBand>1</SourceBand>
      <SourceProperties RasterXSize="57088" RasterYSize="38144" DataType="Byte" BlockXSize="256" BlockYSize="256" />
      <SrcRect xOff="0" yOff="0" xSize="57088" ySize="38144" />
      <DstRect xOff="168760" yOff="74000" xSize="57088" ySize="38144" />
    </SimpleSource>
    <SimpleSource>
      <SourceFilename relativeToVRT="0">/mnt/data/srv/carto_private/01_ORIGINAL/world/spain/provincias/guadalajara/pnoa_max_actual/PNOA_MA_OF_ETRS89_HU30_h25_0513_3.tif</SourceFilename>
      <SourceBand>1</SourceBand>
      <SourceProperties RasterXSize="57088" RasterYSize="37888" DataType="Byte" BlockXSize="256" BlockYSize="256" />
      <SrcRect xOff="0" yOff="0" xSize="57088" ySize="37888" />
      <DstRect xOff="112760" yOff="111480" xSize="57088" ySize="37888" />
    </SimpleSource>
    <SimpleSource>
      <SourceFilename relativeToVRT="0">/mnt/data/srv/carto_private/01_ORIGINAL/world/spain/provincias/guadalajara/pnoa_max_actual/PNOA_MA_OF_ETRS89_HU30_h25_0537_4.tif</SourceFilename>
      <SourceBand>1</SourceBand>
      <SourceProperties RasterXSize="57088" RasterYSize="37888" DataType="Byte" BlockXSize="256" BlockYSize="256" />
      <SrcRect xOff="0" yOff="0" xSize="57088" ySize="37888" />
      <DstRect xOff="56720" yOff="185840" xSize="57088" ySize="37888" />
    </SimpleSource>
    <SimpleSource>
      <SourceFilename relativeToVRT="0">/mnt/data/srv/carto_private/01_ORIGINAL/world/spain/provincias/guadalajara/pnoa_max_actual/PNOA_MA_OF_ETRS89_HU30_h25_0488_4.tif</SourceFilename>
      <SourceBand>1</SourceBand>
      <SourceProperties RasterXSize="57088" RasterYSize="38144" DataType="Byte" BlockXSize="256" BlockYSize="256" />
      <SrcRect xOff="0" yOff="0" xSize="57088" ySize="38144" />
      <DstRect xOff="168480" yOff="37000" xSize="57088" ySize="38144" />
    </SimpleSource>
    <SimpleSource>
      <SourceFilename relativeToVRT="0">/mnt/data/srv/carto_private/01_ORIGINAL/world/spain/provincias/guadalajara/pnoa_max_actual/PNOA_MA_OF_ETRS89_HU30_h25_0538_3.tif</SourceFilename>
      <SourceBand>1</SourceBand>
      <SourceProperties RasterXSize="57344" RasterYSize="37888" DataType="Byte" BlockXSize="256" BlockYSize="256" />
      <SrcRect xOff="0" yOff="0" xSize="57344" ySize="37888" />
      <DstRect xOff="113160" yOff="185480" xSize="57344" ySize="37888" />
    </SimpleSource>
    <SimpleSource>
      <SourceFilename relativeToVRT="0">/mnt/data/srv/carto_private/01_ORIGINAL/world/spain/provincias/guadalajara/pnoa_max_actual/PNOA_MA_OF_ETRS89_HU30_h25_0487_1.tif</SourceFilename>
      <SourceBand>1</SourceBand>
      <SourceProperties RasterXSize="56832" RasterYSize="37632" DataType="Byte" BlockXSize="256" BlockYSize="256" />
      <SrcRect xOff="0" yOff="0" xSize="56832" ySize="37632" />
      <DstRect xOff="0" yOff="1080" xSize="56832" ySize="37632" />
    </SimpleSource>
    <SimpleSource>
      <SourceFilename relativeToVRT="0">/mnt/data/srv/carto_private/01_ORIGINAL/world/spain/provincias/guadalajara/pnoa_max_actual/PNOA_MA_OF_ETRS89_HU30_h25_0487_4.tif</SourceFilename>
      <SourceBand>1</SourceBand>
      <SourceProperties RasterXSize="56832" RasterYSize="37888" DataType="Byte" BlockXSize="256" BlockYSize="256" />
      <SrcRect xOff="0" yOff="0" xSize="56832" ySize="37888" />
      <DstRect xOff="56200" yOff="37840" xSize="56832" ySize="37888" />
    </SimpleSource>
    <SimpleSource>
      <SourceFilename relativeToVRT="0">/mnt/data/srv/carto_private/01_ORIGINAL/world/spain/provincias/guadalajara/pnoa_max_actual/PNOA_MA_OF_ETRS89_HU30_h25_0487_2.tif</SourceFilename>
      <SourceBand>1</SourceBand>
      <SourceProperties RasterXSize="56832" RasterYSize="37888" DataType="Byte" BlockXSize="256" BlockYSize="256" />
      <SrcRect xOff="0" yOff="0" xSize="56832" ySize="37888" />
      <DstRect xOff="56080" yOff="840" xSize="56832" ySize="37888" />
    </SimpleSource>
    <SimpleSource>
      <SourceFilename relativeToVRT="0">/mnt/data/srv/carto_private/01_ORIGINAL/world/spain/provincias/guadalajara/pnoa_max_actual/PNOA_MA_OF_ETRS89_HU30_h25_0538_2.tif</SourceFilename>
      <SourceBand>1</SourceBand>
      <SourceProperties RasterXSize="57344" RasterYSize="38144" DataType="Byte" BlockXSize="256" BlockYSize="256" />
      <SrcRect xOff="0" yOff="0" xSize="57344" ySize="38144" />
      <DstRect xOff="169280" yOff="148000" xSize="57344" ySize="38144" />
    </SimpleSource>
    <SimpleSource>
      <SourceFilename relativeToVRT="0">/mnt/data/srv/carto_private/01_ORIGINAL/world/spain/provincias/guadalajara/pnoa_max_actual/PNOA_MA_OF_ETRS89_HU30_h25_0512_4.tif</SourceFilename>
      <SourceBand>1</SourceBand>
      <SourceProperties RasterXSize="57088" RasterYSize="37888" DataType="Byte" BlockXSize="256" BlockYSize="256" />
      <SrcRect xOff="0" yOff="0" xSize="57088" ySize="37888" />
      <DstRect xOff="56480" yOff="111840" xSize="57088" ySize="37888" />
    </SimpleSource>
    <SimpleSource>
      <SourceFilename relativeToVRT="0">/mnt/data/srv/carto_private/01_ORIGINAL/world/spain/provincias/guadalajara/pnoa_max_actual/PNOA_MA_OF_ETRS89_HU30_h25_0537_2.tif</SourceFilename>
      <SourceBand>1</SourceBand>
      <SourceProperties RasterXSize="57088" RasterYSize="37888" DataType="Byte" BlockXSize="256" BlockYSize="256" />
      <SrcRect xOff="0" yOff="0" xSize="57088" ySize="37888" />
      <DstRect xOff="56600" yOff="148840" xSize="57088" ySize="37888" />
    </SimpleSource>
    <SimpleSource>
      <SourceFilename relativeToVRT="0">/mnt/data/srv/carto_private/01_ORIGINAL/world/spain/provincias/guadalajara/pnoa_max_actual/PNOA_MA_OF_ETRS89_HU30_h25_0488_3.tif</SourceFilename>
      <SourceBand>1</SourceBand>
      <SourceProperties RasterXSize="57088" RasterYSize="37888" DataType="Byte" BlockXSize="256" BlockYSize="256" />
      <SrcRect xOff="0" yOff="0" xSize="57088" ySize="37888" />
      <DstRect xOff="112320" yOff="37480" xSize="57088" ySize="37888" />
    </SimpleSource>
    <SimpleSource>
      <SourceFilename relativeToVRT="0">/mnt/data/srv/carto_private/01_ORIGINAL/world/spain/provincias/guadalajara/pnoa_max_actual/PNOA_MA_OF_ETRS89_HU30_h25_0513_4.tif</SourceFilename>
      <SourceBand>1</SourceBand>
      <SourceProperties RasterXSize="57088" RasterYSize="38144" DataType="Byte" BlockXSize="256" BlockYSize="256" />
      <SrcRect xOff="0" yOff="0" xSize="57088" ySize="38144" />
      <DstRect xOff="169040" yOff="111000" xSize="57088" ySize="38144" />
    </SimpleSource>
    <SimpleSource>
      <SourceFilename relativeToVRT="0">/mnt/data/srv/carto_private/01_ORIGINAL/world/spain/provincias/guadalajara/pnoa_max_actual/PNOA_MA_OF_ETRS89_HU30_h25_0538_4.tif</SourceFilename>
      <SourceBand>1</SourceBand>
      <SourceProperties RasterXSize="57344" RasterYSize="38144" DataType="Byte" BlockXSize="256" BlockYSize="256" />
      <SrcRect xOff="0" yOff="0" xSize="57344" ySize="38144" />
      <DstRect xOff="169560" yOff="185000" xSize="57344" ySize="38144" />
    </SimpleSource>
    <SimpleSource>
      <SourceFilename relativeToVRT="0">/mnt/data/srv/carto_private/01_ORIGINAL/world/spain/provincias/guadalajara/pnoa_max_actual/PNOA_MA_OF_ETRS89_HU30_h25_0487_3.tif</SourceFilename>
      <SourceBand>1</SourceBand>
      <SourceProperties RasterXSize="56832" RasterYSize="37632" DataType="Byte" BlockXSize="256" BlockYSize="256" />
      <SrcRect xOff="0" yOff="0" xSize="56832" ySize="37632" />
      <DstRect xOff="80" yOff="38080" xSize="56832" ySize="37632" />
    </SimpleSource>
    <SimpleSource>
      <SourceFilename relativeToVRT="0">/mnt/data/srv/carto_private/01_ORIGINAL/world/spain/provincias/guadalajara/pnoa_max_actual/PNOA_MA_OF_ETRS89_HU30_h25_0488_1.tif</SourceFilename>
      <SourceBand>1</SourceBand>
      <SourceProperties RasterXSize="56832" RasterYSize="37888" DataType="Byte" BlockXSize="256" BlockYSize="256" />
      <SrcRect xOff="0" yOff="0" xSize="56832" ySize="37888" />
      <DstRect xOff="112120" yOff="480" xSize="56832" ySize="37888" />
    </SimpleSource>
    <SimpleSource>
      <SourceFilename relativeToVRT="0">/mnt/data/srv/carto_private/01_ORIGINAL/world/spain/provincias/guadalajara/pnoa_max_actual/PNOA_MA_OF_ETRS89_HU30_h25_0537_1.tif</SourceFilename>
      <SourceBand>1</SourceBand>
      <SourceProperties RasterXSize="57088" RasterYSize="37632" DataType="Byte" BlockXSize="256" BlockYSize="256" />
      <SrcRect xOff="0" yOff="0" xSize="57088" ySize="37632" />
      <DstRect xOff="240" yOff="149080" xSize="57088" ySize="37632" />
    </SimpleSource>
    <SimpleSource>
      <SourceFilename relativeToVRT="0">/mnt/data/srv/carto_private/01_ORIGINAL/world/spain/provincias/guadalajara/pnoa_max_actual/PNOA_MA_OF_ETRS89_HU30_h25_0513_1.tif</SourceFilename>
      <SourceBand>1</SourceBand>
      <SourceProperties RasterXSize="57088" RasterYSize="37888" DataType="Byte" BlockXSize="256" BlockYSize="256" />
      <SrcRect xOff="0" yOff="0" xSize="57088" ySize="37888" />
      <DstRect xOff="112560" yOff="74480" xSize="57088" ySize="37888" />
    </SimpleSource>
    <SimpleSource>
      <SourceFilename relativeToVRT="0">/mnt/data/srv/carto_private/01_ORIGINAL/world/spain/provincias/guadalajara/pnoa_max_actual/PNOA_MA_OF_ETRS89_HU30_h25_0538_1.tif</SourceFilename>
      <SourceBand>1</SourceBand>
      <SourceProperties RasterXSize="57088" RasterYSize="37888" DataType="Byte" BlockXSize="256" BlockYSize="256" />
      <SrcRect xOff="0" yOff="0" xSize="57088" ySize="37888" />
      <DstRect xOff="112960" yOff="148480" xSize="57088" ySize="37888" />
    </SimpleSource>
  </VRTRasterBand>
  <VRTRasterBand dataType="Byte" band="2">
    <ColorInterp>Green</ColorInterp>
    <SimpleSource>
      <SourceFilename relativeToVRT="0">/mnt/data/srv/carto_private/01_ORIGINAL/world/spain/provincias/guadalajara/pnoa_max_actual/PNOA_MA_OF_ETRS89_HU30_h25_0512_2.tif</SourceFilename>
      <SourceBand>2</SourceBand>
      <SourceProperties RasterXSize="57088" RasterYSize="37888" DataType="Byte" BlockXSize="256" BlockYSize="256" />
      <SrcRect xOff="0" yOff="0" xSize="57088" ySize="37888" />
      <DstRect xOff="56320" yOff="74840" xSize="57088" ySize="37888" />
    </SimpleSource>
    <SimpleSource>
      <SourceFilename relativeToVRT="0">/mnt/data/srv/carto_private/01_ORIGINAL/world/spain/provincias/guadalajara/pnoa_max_actual/PNOA_MA_OF_ETRS89_HU30_h25_0512_3.tif</SourceFilename>
      <SourceBand>2</SourceBand>
      <SourceProperties RasterXSize="57088" RasterYSize="37632" DataType="Byte" BlockXSize="256" BlockYSize="256" />
      <SrcRect xOff="0" yOff="0" xSize="57088" ySize="37632" />
      <DstRect xOff="200" yOff="112080" xSize="57088" ySize="37632" />
    </SimpleSource>
    <SimpleSource>
      <SourceFilename relativeToVRT="0">/mnt/data/srv/carto_private/01_ORIGINAL/world/spain/provincias/guadalajara/pnoa_max_actual/PNOA_MA_OF_ETRS89_HU30_h25_0562_2.tif</SourceFilename>
      <SourceBand>2</SourceBand>
      <SourceProperties RasterXSize="57344" RasterYSize="37888" DataType="Byte" BlockXSize="256" BlockYSize="256" />
      <SrcRect xOff="0" yOff="0" xSize="57344" ySize="37888" />
      <DstRect xOff="56840" yOff="222840" xSize="57344" ySize="37888" />
    </SimpleSource>
    <SimpleSource>
      <SourceFilename relativeToVRT="0">/mnt/data/srv/carto_private/01_ORIGINAL/world/spain/provincias/guadalajara/pnoa_max_actual/PNOA_MA_OF_ETRS89_HU30_h25_0563_1.tif</SourceFilename>
      <SourceBand>2</SourceBand>
      <SourceProperties RasterXSize="57344" RasterYSize="37888" DataType="Byte" BlockXSize="256" BlockYSize="256" />
      <SrcRect xOff="0" yOff="0" xSize="57344" ySize="37888" />
      <DstRect xOff="113360" yOff="222480" xSize="57344" ySize="37888" />
    </SimpleSource>
    <SimpleSource>
      <SourceFilename relativeToVRT="0">/mnt/data/srv/carto_private/01_ORIGINAL/world/spain/provincias/guadalajara/pnoa_max_actual/PNOA_MA_OF_ETRS89_HU30_h25_0562_1.tif</SourceFilename>
      <SourceBand>2</SourceBand>
      <SourceProperties RasterXSize="57088" RasterYSize="37632" DataType="Byte" BlockXSize="256" BlockYSize="256" />
      <SrcRect xOff="0" yOff="0" xSize="57088" ySize="37632" />
      <DstRect xOff="360" yOff="223080" xSize="57088" ySize="37632" />
    </SimpleSource>
    <SimpleSource>
      <SourceFilename relativeToVRT="0">/mnt/data/srv/carto_private/01_ORIGINAL/world/spain/provincias/guadalajara/pnoa_max_actual/PNOA_MA_OF_ETRS89_HU30_h25_0537_3.tif</SourceFilename>
      <SourceBand>2</SourceBand>
      <SourceProperties RasterXSize="57088" RasterYSize="37632" DataType="Byte" BlockXSize="256" BlockYSize="256" />
      <SrcRect xOff="0" yOff="0" xSize="57088" ySize="37632" />
      <DstRect xOff="320" yOff="186080" xSize="57088" ySize="37632" />
    </SimpleSource>
    <SimpleSource>
      <SourceFilename relativeToVRT="0">/mnt/data/srv/carto_private/01_ORIGINAL/world/spain/provincias/guadalajara/pnoa_max_actual/PNOA_MA_OF_ETRS89_HU30_h25_0488_2.tif</SourceFilename>
      <SourceBand>2</SourceBand>
      <SourceProperties RasterXSize="57088" RasterYSize="38144" DataType="Byte" BlockXSize="256" BlockYSize="256" />
      <SrcRect xOff="0" yOff="0" xSize="57088" ySize="38144" />
      <DstRect xOff="168200" yOff="0" xSize="57088" ySize="38144" />
    </SimpleSource>
    <SimpleSource>
      <SourceFilename relativeToVRT="0">/mnt/data/srv/carto_private/01_ORIGINAL/world/spain/provincias/guadalajara/pnoa_max_actual/PNOA_MA_OF_ETRS89_HU30_h25_0512_1.tif</SourceFilename>
      <SourceBand>2</SourceBand>
      <SourceProperties RasterXSize="56832" RasterYSize="37632" DataType="Byte" BlockXSize="256" BlockYSize="256" />
      <SrcRect xOff="0" yOff="0" xSize="56832" ySize="37632" />
      <DstRect xOff="120" yOff="75080" xSize="56832" ySize="37632" />
    </SimpleSource>
    <SimpleSource>
      <SourceFilename relativeToVRT="0">/mnt/data/srv/carto_private/01_ORIGINAL/world/spain/provincias/guadalajara/pnoa_max_actual/PNOA_MA_OF_ETRS89_HU30_h25_0513_2.tif</SourceFilename>
      <SourceBand>2</SourceBand>
      <SourceProperties RasterXSize="57088" RasterYSize="38144" DataType="Byte" BlockXSize="256" BlockYSize="256" />
      <SrcRect xOff="0" yOff="0" xSize="57088" ySize="38144" />
      <DstRect xOff="168760" yOff="74000" xSize="57088" ySize="38144" />
    </SimpleSource>
    <SimpleSource>
      <SourceFilename relativeToVRT="0">/mnt/data/srv/carto_private/01_ORIGINAL/world/spain/provincias/guadalajara/pnoa_max_actual/PNOA_MA_OF_ETRS89_HU30_h25_0513_3.tif</SourceFilename>
      <SourceBand>2</SourceBand>
      <SourceProperties RasterXSize="57088" RasterYSize="37888" DataType="Byte" BlockXSize="256" BlockYSize="256" />
      <SrcRect xOff="0" yOff="0" xSize="57088" ySize="37888" />
      <DstRect xOff="112760" yOff="111480" xSize="57088" ySize="37888" />
    </SimpleSource>
    <SimpleSource>
      <SourceFilename relativeToVRT="0">/mnt/data/srv/carto_private/01_ORIGINAL/world/spain/provincias/guadalajara/pnoa_max_actual/PNOA_MA_OF_ETRS89_HU30_h25_0537_4.tif</SourceFilename>
      <SourceBand>2</SourceBand>
      <SourceProperties RasterXSize="57088" RasterYSize="37888" DataType="Byte" BlockXSize="256" BlockYSize="256" />
      <SrcRect xOff="0" yOff="0" xSize="57088" ySize="37888" />
      <DstRect xOff="56720" yOff="185840" xSize="57088" ySize="37888" />
    </SimpleSource>
    <SimpleSource>
      <SourceFilename relativeToVRT="0">/mnt/data/srv/carto_private/01_ORIGINAL/world/spain/provincias/guadalajara/pnoa_max_actual/PNOA_MA_OF_ETRS89_HU30_h25_0488_4.tif</SourceFilename>
      <SourceBand>2</SourceBand>
      <SourceProperties RasterXSize="57088" RasterYSize="38144" DataType="Byte" BlockXSize="256" BlockYSize="256" />
      <SrcRect xOff="0" yOff="0" xSize="57088" ySize="38144" />
      <DstRect xOff="168480" yOff="37000" xSize="57088" ySize="38144" />
    </SimpleSource>
    <SimpleSource>
      <SourceFilename relativeToVRT="0">/mnt/data/srv/carto_private/01_ORIGINAL/world/spain/provincias/guadalajara/pnoa_max_actual/PNOA_MA_OF_ETRS89_HU30_h25_0538_3.tif</SourceFilename>
      <SourceBand>2</SourceBand>
      <SourceProperties RasterXSize="57344" RasterYSize="37888" DataType="Byte" BlockXSize="256" BlockYSize="256" />
      <SrcRect xOff="0" yOff="0" xSize="57344" ySize="37888" />
      <DstRect xOff="113160" yOff="185480" xSize="57344" ySize="37888" />
    </SimpleSource>
    <SimpleSource>
      <SourceFilename relativeToVRT="0">/mnt/data/srv/carto_private/01_ORIGINAL/world/spain/provincias/guadalajara/pnoa_max_actual/PNOA_MA_OF_ETRS89_HU30_h25_0487_1.tif</SourceFilename>
      <SourceBand>2</SourceBand>
      <SourceProperties RasterXSize="56832" RasterYSize="37632" DataType="Byte" BlockXSize="256" BlockYSize="256" />
      <SrcRect xOff="0" yOff="0" xSize="56832" ySize="37632" />
      <DstRect xOff="0" yOff="1080" xSize="56832" ySize="37632" />
    </SimpleSource>
    <SimpleSource>
      <SourceFilename relativeToVRT="0">/mnt/data/srv/carto_private/01_ORIGINAL/world/spain/provincias/guadalajara/pnoa_max_actual/PNOA_MA_OF_ETRS89_HU30_h25_0487_4.tif</SourceFilename>
      <SourceBand>2</SourceBand>
      <SourceProperties RasterXSize="56832" RasterYSize="37888" DataType="Byte" BlockXSize="256" BlockYSize="256" />
      <SrcRect xOff="0" yOff="0" xSize="56832" ySize="37888" />
      <DstRect xOff="56200" yOff="37840" xSize="56832" ySize="37888" />
    </SimpleSource>
    <SimpleSource>
      <SourceFilename relativeToVRT="0">/mnt/data/srv/carto_private/01_ORIGINAL/world/spain/provincias/guadalajara/pnoa_max_actual/PNOA_MA_OF_ETRS89_HU30_h25_0487_2.tif</SourceFilename>
      <SourceBand>2</SourceBand>
      <SourceProperties RasterXSize="56832" RasterYSize="37888" DataType="Byte" BlockXSize="256" BlockYSize="256" />
      <SrcRect xOff="0" yOff="0" xSize="56832" ySize="37888" />
      <DstRect xOff="56080" yOff="840" xSize="56832" ySize="37888" />
    </SimpleSource>
    <SimpleSource>
      <SourceFilename relativeToVRT="0">/mnt/data/srv/carto_private/01_ORIGINAL/world/spain/provincias/guadalajara/pnoa_max_actual/PNOA_MA_OF_ETRS89_HU30_h25_0538_2.tif</SourceFilename>
      <SourceBand>2</SourceBand>
      <SourceProperties RasterXSize="57344" RasterYSize="38144" DataType="Byte" BlockXSize="256" BlockYSize="256" />
      <SrcRect xOff="0" yOff="0" xSize="57344" ySize="38144" />
      <DstRect xOff="169280" yOff="148000" xSize="57344" ySize="38144" />
    </SimpleSource>
    <SimpleSource>
      <SourceFilename relativeToVRT="0">/mnt/data/srv/carto_private/01_ORIGINAL/world/spain/provincias/guadalajara/pnoa_max_actual/PNOA_MA_OF_ETRS89_HU30_h25_0512_4.tif</SourceFilename>
      <SourceBand>2</SourceBand>
      <SourceProperties RasterXSize="57088" RasterYSize="37888" DataType="Byte" BlockXSize="256" BlockYSize="256" />
      <SrcRect xOff="0" yOff="0" xSize="57088" ySize="37888" />
