<VRTDataset rasterXSize="113904" rasterYSize="111872">
  <SRS dataAxisToSRSAxisMapping="1,2">PROJCS["ETRS89 / UTM zone 30N",GEOGCS["ETRS89",DATUM["European_Terrestrial_Reference_System_1989",SPHEROID["GRS 1980",6378137,298.257222101,AUTHORITY["EPSG","7019"]],AUTHORITY["EPSG","6258"]],PRIMEM["Greenwich",0,AUTHORITY["EPSG","8901"]],UNIT["degree",0.0174532925199433,AUTHORITY["EPSG","9122"]],AUTHORITY["EPSG","4258"]],PROJECTION["Transverse_Mercator"],PARAMETER["latitude_of_origin",0],PARAMETER["central_meridian",-3],PARAMETER["scale_factor",0.9996],PARAMETER["false_easting",500000],PARAMETER["false_northing",0],UNIT["metre",1,AUTHORITY["EPSG","9001"]],AXIS["Easting",EAST],AXIS["Northing",NORTH],AUTHORITY["EPSG","25830"]]</SRS>
  <GeoTransform>  5.1232000000000000e+05,  2.5000000000000000e-01,  0.0000000000000000e+00,  4.4741700000000000e+06,  0.0000000000000000e+00, -2.5000000000000000e-01</GeoTransform>
  <VRTRasterBand dataType="Byte" band="1">
    <ColorInterp>Red</ColorInterp>
    <SimpleSource>
      <SourceFilename relativeToVRT="0">/mnt/data/srv/carto_private/01_ORIGINAL/world/spain/provincias/guadalajara/pnoa_max_actual/PNOA_MA_OF_ETRS89_HU30_h25_0562_4.tif</SourceFilename>
      <SourceBand>1</SourceBand>
      <SourceProperties RasterXSize="57344" RasterYSize="37888" DataType="Byte" BlockXSize="256" BlockYSize="256" />
      <SrcRect xOff="0" yOff="0" xSize="57344" ySize="37888" />
      <DstRect xOff="56560" yOff="0" xSize="57344" ySize="37888" />
    </SimpleSource>
    <SimpleSource>
      <SourceFilename relativeToVRT="0">/mnt/data/srv/carto_private/01_ORIGINAL/world/spain/provincias/guadalajara/pnoa_max_actual/PNOA_MA_OF_ETRS89_HU30_h25_0585_1.tif</SourceFilename>
      <SourceBand>1</SourceBand>
      <SourceProperties RasterXSize="57344" RasterYSize="37632" DataType="Byte" BlockXSize="256" BlockYSize="256" />
      <SrcRect xOff="0" yOff="0" xSize="57344" ySize="37632" />
      <DstRect xOff="40" yOff="37240" xSize="57344" ySize="37632" />
    </SimpleSource>
    <SimpleSource>
      <SourceFilename relativeToVRT="0">/mnt/data/srv/carto_private/01_ORIGINAL/world/spain/provincias/guadalajara/pnoa_max_actual/PNOA_MA_OF_ETRS89_HU30_h25_0562_3.tif</SourceFilename>
      <SourceBand>1</SourceBand>
      <SourceProperties RasterXSize="57344" RasterYSize="37632" DataType="Byte" BlockXSize="256" BlockYSize="256" />
      <SrcRect xOff="0" yOff="0" xSize="57344" ySize="37632" />
      <DstRect xOff="0" yOff="240" xSize="57344" ySize="37632" />
    </SimpleSource>
    <SimpleSource>
      <SourceFilename relativeToVRT="0">/mnt/data/srv/carto_private/01_ORIGINAL/world/spain/provincias/guadalajara/pnoa_max_actual/PNOA_MA_OF_ETRS89_HU30_h25_0585_3.tif</SourceFilename>
      <SourceBand>1</SourceBand>
      <SourceProperties RasterXSize="57344" RasterYSize="37632" DataType="Byte" BlockXSize="256" BlockYSize="256" />
      <SrcRect xOff="0" yOff="0" xSize="57344" ySize="37632" />
      <DstRect xOff="120" yOff="74240" xSize="57344" ySize="37632" />
    </SimpleSource>
  </VRTRasterBand>
  <VRTRasterBand dataType="Byte" band="2">
    <ColorInterp>Green</ColorInterp>
    <SimpleSource>
      <SourceFilename relativeToVRT="0">/mnt/data/srv/carto_private/01_ORIGINAL/world/spain/provincias/guadalajara/pnoa_max_actual/PNOA_MA_OF_ETRS89_HU30_h25_0562_4.tif</SourceFilename>
      <SourceBand>2</SourceBand>
      <SourceProperties RasterXSize="57344" RasterYSize="37888" DataType="Byte" BlockXSize="256" BlockYSize="256" />
      <SrcRect xOff="0" yOff="0" xSize="57344" ySize="37888" />
      <DstRect xOff="56560" yOff="0" xSize="57344" ySize="37888" />
    </SimpleSource>
    <SimpleSource>
      <SourceFilename relativeToVRT="0">/mnt/data/srv/carto_private/01_ORIGINAL/world/spain/provincias/guadalajara/pnoa_max_actual/PNOA_MA_OF_ETRS89_HU30_h25_0585_1.tif</SourceFilename>
      <SourceBand>2</SourceBand>
      <SourceProperties RasterXSize="57344" RasterYSize="37632" DataType="Byte" BlockXSize="256" BlockYSize="256" />
      <SrcRect xOff="0" yOff="0" xSize="57344" ySize="37632" />
      <DstRect xOff="40" yOff="37240" xSize="57344" ySize="37632" />
    </SimpleSource>
    <SimpleSource>
      <SourceFilename relativeToVRT="0">/mnt/data/srv/carto_private/01_ORIGINAL/world/spain/provincias/guadalajara/pnoa_max_actual/PNOA_MA_OF_ETRS89_HU30_h25_0562_3.tif</SourceFilename>
      <SourceBand>2</SourceBand>
      <SourceProperties RasterXSize="57344" RasterYSize="37632" DataType="Byte" BlockXSize="256" BlockYSize="256" />
      <SrcRect xOff="0" yOff="0" xSize="57344" ySize="37632" />
      <DstRect xOff="0" yOff="240" xSize="57344" ySize="37632" />
    </SimpleSource>
    <SimpleSource>
      <SourceFilename relativeToVRT="0">/mnt/data/srv/carto_private/01_ORIGINAL/world/spain/provincias/guadalajara/pnoa_max_actual/PNOA_MA_OF_ETRS89_HU30_h25_0585_3.tif</SourceFilename>
      <SourceBand>2</SourceBand>
      <SourceProperties RasterXSize="57344" RasterYSize="37632" DataType="Byte" BlockXSize="256" BlockYSize="256" />
      <SrcRect xOff="0" yOff="0" xSize="57344" ySize="37632" />
      <DstRect xOff="120" yOff="74240" xSize="57344" ySize="37632" />
    </SimpleSource>
  </VRTRasterBand>
  <VRTRasterBand dataType="Byte" band="3">
    <ColorInterp>Blue</ColorInterp>
    <SimpleSource>
      <SourceFilename relativeToVRT="0">/mnt/data/srv/carto_private/01_ORIGINAL/world/spain/provincias/guadalajara/pnoa_max_actual/PNOA_MA_OF_ETRS89_HU30_h25_0562_4.tif</SourceFilename>
      <SourceBand>3</SourceBand>
      <SourceProperties RasterXSize="57344" RasterYSize="37888" DataType="Byte" BlockXSize="256" BlockYSize="256" />
      <SrcRect xOff="0" yOff="0" xSize="57344" ySize="37888" />
      <DstRect xOff="56560" yOff="0" xSize="57344" ySize="37888" />
    </SimpleSource>
    <SimpleSource>
      <SourceFilename relativeToVRT="0">/mnt/data/srv/carto_private/01_ORIGINAL/world/spain/provincias/guadalajara/pnoa_max_actual/PNOA_MA_OF_ETRS89_HU30_h25_0585_1.tif</SourceFilename>
      <SourceBand>3</SourceBand>
      <SourceProperties RasterXSize="57344" RasterYSize="37632" DataType="Byte" BlockXSize="256" BlockYSize="256" />
      <SrcRect xOff="0" yOff="0" xSize="57344" ySize="37632" />
      <DstRect xOff="40" yOff="37240" xSize="57344" ySize="37632" />
    </SimpleSource>
    <SimpleSource>
      <SourceFilename relativeToVRT="0">/mnt/data/srv/carto_private/01_ORIGINAL/world/spain/provincias/guadalajara/pnoa_max_actual/PNOA_MA_OF_ETRS89_HU30_h25_0562_3.tif</SourceFilename>
      <SourceBand>3</SourceBand>
      <SourceProperties RasterXSize="57344" RasterYSize="37632" DataType="Byte" BlockXSize="256" BlockYSize="256" />
      <SrcRect xOff="0" yOff="0" xSize="57344" ySize="37632" />
      <DstRect xOff="0" yOff="240" xSize="57344" ySize="37632" />
    </SimpleSource>
    <SimpleSource>
      <SourceFilename relativeToVRT="0">/mnt/data/srv/carto_private/01_ORIGINAL/world/spain/provincias/guadalajara/pnoa_max_actual/PNOA_MA_OF_ETRS89_HU30_h25_0585_3.tif</SourceFilename>
      <SourceBand>3</SourceBand>
      <SourceProperties RasterXSize="57344" RasterYSize="37632" DataType="Byte" BlockXSize="256" BlockYSize="256" />
      <SrcRect xOff="0" yOff="0" xSize="57344" ySize="37632" />
      <DstRect xOff="120" yOff="74240" xSize="57344" ySize="37632" />
    </SimpleSource>
  </VRTRasterBand>
  <OverviewList resampling="nearest">2 4 8 16 32 64 128 256</OverviewList>
</VRTDataset>
