<VRTDataset rasterXSize="224816" rasterYSize="149152">
  <SRS dataAxisToSRSAxisMapping="1,2">PROJCS["ETRS89 / UTM zone 30N",GEOGCS["ETRS89",DATUM["European_Terrestrial_Reference_System_1989",SPHEROID["GRS 1980",6378137,298.257222101,AUTHORITY["EPSG","7019"]],AUTHORITY["EPSG","6258"]],PRIMEM["Greenwich",0,AUTHORITY["EPSG","8901"]],UNIT["degree",0.0174532925199433,AUTHORITY["EPSG","9122"]],AUTHORITY["EPSG","4258"]],PROJECTION["Transverse_Mercator"],PARAMETER["latitude_of_origin",0],PARAMETER["central_meridian",-3],PARAMETER["scale_factor",0.9996],PARAMETER["false_easting",500000],PARAMETER["false_northing",0],UNIT["metre",1,AUTHORITY["EPSG","9001"]],AXIS["Easting",EAST],AXIS["Northing",NORTH],AUTHORITY["EPSG","25830"]]</SRS>
  <GeoTransform>  4.5614000000000000e+05,  2.5000000000000000e-01,  0.0000000000000000e+00,  4.5759500000000000e+06,  0.0000000000000000e+00, -2.5000000000000000e-01</GeoTransform>
  <VRTRasterBand dataType="Byte" band="1">
    <ColorInterp>Red</ColorInterp>
    <SimpleSource>
      <SourceFilename relativeToVRT="0">/mnt/data/srv/carto_private/01_ORIGINAL/world/spain/provincias/madrid/pnoa_max_actual/PNOA_MA_OF_ETRS89_HU30_h25_0459_1.tif</SourceFilename>
      <SourceBand>1</SourceBand>
      <SourceProperties RasterXSize="56576" RasterYSize="37888" DataType="Byte" BlockXSize="256" BlockYSize="256" />
      <SrcRect xOff="0" yOff="0" xSize="56576" ySize="37888" />
      <DstRect xOff="240" yOff="74040" xSize="56576" ySize="37888" />
    </SimpleSource>
    <SimpleSource>
      <SourceFilename relativeToVRT="0">/mnt/data/srv/carto_private/01_ORIGINAL/world/spain/provincias/madrid/pnoa_max_actual/PNOA_MA_OF_ETRS89_HU30_h25_0459_3.tif</SourceFilename>
      <SourceBand>1</SourceBand>
      <SourceProperties RasterXSize="56832" RasterYSize="37888" DataType="Byte" BlockXSize="256" BlockYSize="256" />
      <SrcRect xOff="0" yOff="0" xSize="56832" ySize="37888" />
      <DstRect xOff="0" yOff="111040" xSize="56832" ySize="37888" />
    </SimpleSource>
    <SimpleSource>
      <SourceFilename relativeToVRT="0">/mnt/data/srv/carto_private/01_ORIGINAL/world/spain/provincias/guadalajara/pnoa_max_actual/PNOA_MA_OF_ETRS89_HU30_h25_0460_2.tif</SourceFilename>
      <SourceBand>1</SourceBand>
      <SourceProperties RasterXSize="56576" RasterYSize="37632" DataType="Byte" BlockXSize="256" BlockYSize="256" />
      <SrcRect xOff="0" yOff="0" xSize="56576" ySize="37632" />
      <DstRect xOff="168240" yOff="74520" xSize="56576" ySize="37632" />
    </SimpleSource>
    <SimpleSource>
      <SourceFilename relativeToVRT="0">/mnt/data/srv/carto_private/01_ORIGINAL/world/spain/provincias/guadalajara/pnoa_max_actual/PNOA_MA_OF_ETRS89_HU30_h25_0432_3.tif</SourceFilename>
      <SourceBand>1</SourceBand>
      <SourceProperties RasterXSize="56576" RasterYSize="37888" DataType="Byte" BlockXSize="256" BlockYSize="256" />
      <SrcRect xOff="0" yOff="0" xSize="56576" ySize="37888" />
      <DstRect xOff="440" yOff="37000" xSize="56576" ySize="37888" />
    </SimpleSource>
    <SimpleSource>
      <SourceFilename relativeToVRT="0">/mnt/data/srv/carto_private/01_ORIGINAL/world/spain/provincias/guadalajara/pnoa_max_actual/PNOA_MA_OF_ETRS89_HU30_h25_0433_3.tif</SourceFilename>
      <SourceBand>1</SourceBand>
      <SourceProperties RasterXSize="56576" RasterYSize="37632" DataType="Byte" BlockXSize="256" BlockYSize="256" />
      <SrcRect xOff="0" yOff="0" xSize="56576" ySize="37632" />
      <DstRect xOff="112320" yOff="37480" xSize="56576" ySize="37632" />
    </SimpleSource>
    <SimpleSource>
      <SourceFilename relativeToVRT="0">/mnt/data/srv/carto_private/01_ORIGINAL/world/spain/provincias/guadalajara/pnoa_max_actual/PNOA_MA_OF_ETRS89_HU30_h25_0460_1.tif</SourceFilename>
      <SourceBand>1</SourceBand>
      <SourceProperties RasterXSize="56576" RasterYSize="37632" DataType="Byte" BlockXSize="256" BlockYSize="256" />
      <SrcRect xOff="0" yOff="0" xSize="56576" ySize="37632" />
      <DstRect xOff="112240" yOff="74480" xSize="56576" ySize="37632" />
    </SimpleSource>
    <SimpleSource>
      <SourceFilename relativeToVRT="0">/mnt/data/srv/carto_private/01_ORIGINAL/world/spain/provincias/guadalajara/pnoa_max_actual/PNOA_MA_OF_ETRS89_HU30_h25_0433_2.tif</SourceFilename>
      <SourceBand>1</SourceBand>
      <SourceProperties RasterXSize="56320" RasterYSize="37632" DataType="Byte" BlockXSize="256" BlockYSize="256" />
      <SrcRect xOff="0" yOff="0" xSize="56320" ySize="37632" />
      <DstRect xOff="168240" yOff="480" xSize="56320" ySize="37632" />
    </SimpleSource>
    <SimpleSource>
      <SourceFilename relativeToVRT="0">/mnt/data/srv/carto_private/01_ORIGINAL/world/spain/provincias/guadalajara/pnoa_max_actual/PNOA_MA_OF_ETRS89_HU30_h25_0460_3.tif</SourceFilename>
      <SourceBand>1</SourceBand>
      <SourceProperties RasterXSize="56576" RasterYSize="37632" DataType="Byte" BlockXSize="256" BlockYSize="256" />
      <SrcRect xOff="0" yOff="0" xSize="56576" ySize="37632" />
      <DstRect xOff="112160" yOff="111480" xSize="56576" ySize="37632" />
    </SimpleSource>
    <SimpleSource>
      <SourceFilename relativeToVRT="0">/mnt/data/srv/carto_private/01_ORIGINAL/world/spain/provincias/guadalajara/pnoa_max_actual/PNOA_MA_OF_ETRS89_HU30_h25_0433_4.tif</SourceFilename>
      <SourceBand>1</SourceBand>
      <SourceProperties RasterXSize="56576" RasterYSize="37632" DataType="Byte" BlockXSize="256" BlockYSize="256" />
      <SrcRect xOff="0" yOff="0" xSize="56576" ySize="37632" />
      <DstRect xOff="168240" yOff="37480" xSize="56576" ySize="37632" />
    </SimpleSource>
    <SimpleSource>
      <SourceFilename relativeToVRT="0">/mnt/data/srv/carto_private/01_ORIGINAL/world/spain/provincias/guadalajara/pnoa_max_actual/PNOA_MA_OF_ETRS89_HU30_h25_0460_4.tif</SourceFilename>
      <SourceBand>1</SourceBand>
      <SourceProperties RasterXSize="56576" RasterYSize="37632" DataType="Byte" BlockXSize="256" BlockYSize="256" />
      <SrcRect xOff="0" yOff="0" xSize="56576" ySize="37632" />
      <DstRect xOff="168200" yOff="111520" xSize="56576" ySize="37632" />
    </SimpleSource>
    <SimpleSource>
      <SourceFilename relativeToVRT="0">/mnt/data/srv/carto_private/01_ORIGINAL/world/spain/provincias/guadalajara/pnoa_max_actual/PNOA_MA_OF_ETRS89_HU30_h25_0432_2.tif</SourceFilename>
      <SourceBand>1</SourceBand>
      <SourceProperties RasterXSize="56576" RasterYSize="37888" DataType="Byte" BlockXSize="256" BlockYSize="256" />
      <SrcRect xOff="0" yOff="0" xSize="56576" ySize="37888" />
      <DstRect xOff="56520" yOff="280" xSize="56576" ySize="37888" />
    </SimpleSource>
    <SimpleSource>
      <SourceFilename relativeToVRT="0">/mnt/data/srv/carto_private/01_ORIGINAL/world/spain/provincias/guadalajara/pnoa_max_actual/PNOA_MA_OF_ETRS89_HU30_h25_0432_1.tif</SourceFilename>
      <SourceBand>1</SourceBand>
      <SourceProperties RasterXSize="56576" RasterYSize="37888" DataType="Byte" BlockXSize="256" BlockYSize="256" />
      <SrcRect xOff="0" yOff="0" xSize="56576" ySize="37888" />
      <DstRect xOff="680" yOff="0" xSize="56576" ySize="37888" />
    </SimpleSource>
    <SimpleSource>
      <SourceFilename relativeToVRT="0">/mnt/data/srv/carto_private/01_ORIGINAL/world/spain/provincias/guadalajara/pnoa_max_actual/PNOA_MA_OF_ETRS89_HU30_h25_0459_1.tif</SourceFilename>
      <SourceBand>1</SourceBand>
      <SourceProperties RasterXSize="56576" RasterYSize="37888" DataType="Byte" BlockXSize="256" BlockYSize="256" />
      <SrcRect xOff="0" yOff="0" xSize="56576" ySize="37888" />
      <DstRect xOff="240" yOff="74040" xSize="56576" ySize="37888" />
    </SimpleSource>
    <SimpleSource>
      <SourceFilename relativeToVRT="0">/mnt/data/srv/carto_private/01_ORIGINAL/world/spain/provincias/guadalajara/pnoa_max_actual/PNOA_MA_OF_ETRS89_HU30_h25_0432_4.tif</SourceFilename>
      <SourceBand>1</SourceBand>
      <SourceProperties RasterXSize="56576" RasterYSize="37888" DataType="Byte" BlockXSize="256" BlockYSize="256" />
      <SrcRect xOff="0" yOff="0" xSize="56576" ySize="37888" />
      <DstRect xOff="56360" yOff="37280" xSize="56576" ySize="37888" />
    </SimpleSource>
    <SimpleSource>
      <SourceFilename relativeToVRT="0">/mnt/data/srv/carto_private/01_ORIGINAL/world/spain/provincias/guadalajara/pnoa_max_actual/PNOA_MA_OF_ETRS89_HU30_h25_0459_4.tif</SourceFilename>
      <SourceBand>1</SourceBand>
      <SourceProperties RasterXSize="56832" RasterYSize="37632" DataType="Byte" BlockXSize="256" BlockYSize="256" />
      <SrcRect xOff="0" yOff="0" xSize="56832" ySize="37632" />
      <DstRect xOff="56080" yOff="111320" xSize="56832" ySize="37632" />
    </SimpleSource>
    <SimpleSource>
      <SourceFilename relativeToVRT="0">/mnt/data/srv/carto_private/01_ORIGINAL/world/spain/provincias/guadalajara/pnoa_max_actual/PNOA_MA_OF_ETRS89_HU30_h25_0433_1.tif</SourceFilename>
      <SourceBand>1</SourceBand>
      <SourceProperties RasterXSize="56320" RasterYSize="37632" DataType="Byte" BlockXSize="256" BlockYSize="256" />
      <SrcRect xOff="0" yOff="0" xSize="56320" ySize="37632" />
      <DstRect xOff="112400" yOff="480" xSize="56320" ySize="37632" />
    </SimpleSource>
    <SimpleSource>
      <SourceFilename relativeToVRT="0">/mnt/data/srv/carto_private/01_ORIGINAL/world/spain/provincias/guadalajara/pnoa_max_actual/PNOA_MA_OF_ETRS89_HU30_h25_0459_2.tif</SourceFilename>
      <SourceBand>1</SourceBand>
      <SourceProperties RasterXSize="56576" RasterYSize="37632" DataType="Byte" BlockXSize="256" BlockYSize="256" />
      <SrcRect xOff="0" yOff="0" xSize="56576" ySize="37632" />
      <DstRect xOff="56240" yOff="74320" xSize="56576" ySize="37632" />
    </SimpleSource>
    <SimpleSource>
      <SourceFilename relativeToVRT="0">/mnt/data/srv/carto_private/01_ORIGINAL/world/spain/provincias/guadalajara/pnoa_max_actual/PNOA_MA_OF_ETRS89_HU30_h25_0459_3.tif</SourceFilename>
      <SourceBand>1</SourceBand>
      <SourceProperties RasterXSize="56832" RasterYSize="37888" DataType="Byte" BlockXSize="256" BlockYSize="256" />
      <SrcRect xOff="0" yOff="0" xSize="56832" ySize="37888" />
      <DstRect xOff="0" yOff="111040" xSize="56832" ySize="37888" />
    </SimpleSource>
  </VRTRasterBand>
  <VRTRasterBand dataType="Byte" band="2">
    <ColorInterp>Green</ColorInterp>
    <SimpleSource>
      <SourceFilename relativeToVRT="0">/mnt/data/srv/carto_private/01_ORIGINAL/world/spain/provincias/madrid/pnoa_max_actual/PNOA_MA_OF_ETRS89_HU30_h25_0459_1.tif</SourceFilename>
      <SourceBand>2</SourceBand>
      <SourceProperties RasterXSize="56576" RasterYSize="37888" DataType="Byte" BlockXSize="256" BlockYSize="256" />
      <SrcRect xOff="0" yOff="0" xSize="56576" ySize="37888" />
      <DstRect xOff="240" yOff="74040" xSize="56576" ySize="37888" />
    </SimpleSource>
    <SimpleSource>
      <SourceFilename relativeToVRT="0">/mnt/data/srv/carto_private/01_ORIGINAL/world/spain/provincias/madrid/pnoa_max_actual/PNOA_MA_OF_ETRS89_HU30_h25_0459_3.tif</SourceFilename>
      <SourceBand>2</SourceBand>
      <SourceProperties RasterXSize="56832" RasterYSize="37888" DataType="Byte" BlockXSize="256" BlockYSize="256" />
      <SrcRect xOff="0" yOff="0" xSize="56832" ySize="37888" />
      <DstRect xOff="0" yOff="111040" xSize="56832" ySize="37888" />
    </SimpleSource>
    <SimpleSource>
      <SourceFilename relativeToVRT="0">/mnt/data/srv/carto_private/01_ORIGINAL/world/spain/provincias/guadalajara/pnoa_max_actual/PNOA_MA_OF_ETRS89_HU30_h25_0460_2.tif</SourceFilename>
      <SourceBand>2</SourceBand>
      <SourceProperties RasterXSize="56576" RasterYSize="37632" DataType="Byte" BlockXSize="256" BlockYSize="256" />
      <SrcRect xOff="0" yOff="0" xSize="56576" ySize="37632" />
      <DstRect xOff="168240" yOff="74520" xSize="56576" ySize="37632" />
    </SimpleSource>
    <SimpleSource>
      <SourceFilename relativeToVRT="0">/mnt/data/srv/carto_private/01_ORIGINAL/world/spain/provincias/guadalajara/pnoa_max_actual/PNOA_MA_OF_ETRS89_HU30_h25_0432_3.tif</SourceFilename>
      <SourceBand>2</SourceBand>
      <SourceProperties RasterXSize="56576" RasterYSize="37888" DataType="Byte" BlockXSize="256" BlockYSize="256" />
      <SrcRect xOff="0" yOff="0" xSize="56576" ySize="37888" />
      <DstRect xOff="440" yOff="37000" xSize="56576" ySize="37888" />
    </SimpleSource>
    <SimpleSource>
      <SourceFilename relativeToVRT="0">/mnt/data/srv/carto_private/01_ORIGINAL/world/spain/provincias/guadalajara/pnoa_max_actual/PNOA_MA_OF_ETRS89_HU30_h25_0433_3.tif</SourceFilename>
      <SourceBand>2</SourceBand>
      <SourceProperties RasterXSize="56576" RasterYSize="37632" DataType="Byte" BlockXSize="256" BlockYSize="256" />
      <SrcRect xOff="0" yOff="0" xSize="56576" ySize="37632" />
      <DstRect xOff="112320" yOff="37480" xSize="56576" ySize="37632" />
    </SimpleSource>
    <SimpleSource>
      <SourceFilename relativeToVRT="0">/mnt/data/srv/carto_private/01_ORIGINAL/world/spain/provincias/guadalajara/pnoa_max_actual/PNOA_MA_OF_ETRS89_HU30_h25_0460_1.tif</SourceFilename>
      <SourceBand>2</SourceBand>
      <SourceProperties RasterXSize="56576" RasterYSize="37632" DataType="Byte" BlockXSize="256" BlockYSize="256" />
      <SrcRect xOff="0" yOff="0" xSize="56576" ySize="37632" />
      <DstRect xOff="112240" yOff="74480" xSize="56576" ySize="37632" />
    </SimpleSource>
    <SimpleSource>
      <SourceFilename relativeToVRT="0">/mnt/data/srv/carto_private/01_ORIGINAL/world/spain/provincias/guadalajara/pnoa_max_actual/PNOA_MA_OF_ETRS89_HU30_h25_0433_2.tif</SourceFilename>
      <SourceBand>2</SourceBand>
      <SourceProperties RasterXSize="56320" RasterYSize="37632" DataType="Byte" BlockXSize="256" BlockYSize="256" />
      <SrcRect xOff="0" yOff="0" xSize="56320" ySize="37632" />
      <DstRect xOff="168240" yOff="480" xSize="56320" ySize="37632" />
    </SimpleSource>
    <SimpleSource>
      <SourceFilename relativeToVRT="0">/mnt/data/srv/carto_private/01_ORIGINAL/world/spain/provincias/guadalajara/pnoa_max_actual/PNOA_MA_OF_ETRS89_HU30_h25_0460_3.tif</SourceFilename>
      <SourceBand>2</SourceBand>
      <SourceProperties RasterXSize="56576" RasterYSize="37632" DataType="Byte" BlockXSize="256" BlockYSize="256" />
      <SrcRect xOff="0" yOff="0" xSize="56576" ySize="37632" />
      <DstRect xOff="112160" yOff="111480" xSize="56576" ySize="37632" />
    </SimpleSource>
    <SimpleSource>
      <SourceFilename relativeToVRT="0">/mnt/data/srv/carto_private/01_ORIGINAL/world/spain/provincias/guadalajara/pnoa_max_actual/PNOA_MA_OF_ETRS89_HU30_h25_0433_4.tif</SourceFilename>
      <SourceBand>2</SourceBand>
      <SourceProperties RasterXSize="56576" RasterYSize="37632" DataType="Byte" BlockXSize="256" BlockYSize="256" />
      <SrcRect xOff="0" yOff="0" xSize="56576" ySize="37632" />
      <DstRect xOff="168240" yOff="37480" xSize="56576" ySize="37632" />
    </SimpleSource>
    <SimpleSource>
      <SourceFilename relativeToVRT="0">/mnt/data/srv/carto_private/01_ORIGINAL/world/spain/provincias/guadalajara/pnoa_max_actual/PNOA_MA_OF_ETRS89_HU30_h25_0460_4.tif</SourceFilename>
      <SourceBand>2</SourceBand>
      <SourceProperties RasterXSize="56576" RasterYSize="37632" DataType="Byte" BlockXSize="256" BlockYSize="256" />
      <SrcRect xOff="0" yOff="0" xSize="56576" ySize="37632" />
      <DstRect xOff="168200" yOff="111520" xSize="56576" ySize="37632" />
    </SimpleSource>
    <SimpleSource>
      <SourceFilename relativeToVRT="0">/mnt/data/srv/carto_private/01_ORIGINAL/world/spain/provincias/guadalajara/pnoa_max_actual/PNOA_MA_OF_ETRS89_HU30_h25_0432_2.tif</SourceFilename>
      <SourceBand>2</SourceBand>
      <SourceProperties RasterXSize="56576" RasterYSize="37888" DataType="Byte" BlockXSize="256" BlockYSize="256" />
      <SrcRect xOff="0" yOff="0" xSize="56576" ySize="37888" />
      <DstRect xOff="56520" yOff="280" xSize="56576" ySize="37888" />
    </SimpleSource>
    <SimpleSource>
      <SourceFilename relativeToVRT="0">/mnt/data/srv/carto_private/01_ORIGINAL/world/spain/provincias/guadalajara/pnoa_max_actual/PNOA_MA_OF_ETRS89_HU30_h25_0432_1.tif</SourceFilename>
      <SourceBand>2</SourceBand>
      <SourceProperties RasterXSize="56576" RasterYSize="37888" DataType="Byte" BlockXSize="256" BlockYSize="256" />
      <SrcRect xOff="0" yOff="0" xSize="56576" ySize="37888" />
      <DstRect xOff="680" yOff="0" xSize="56576" ySize="37888" />
    </SimpleSource>
    <SimpleSource>
      <SourceFilename relativeToVRT="0">/mnt/data/srv/carto_private/01_ORIGINAL/world/spain/provincias/guadalajara/pnoa_max_actual/PNOA_MA_OF_ETRS89_HU30_h25_0459_1.tif</SourceFilename>
      <SourceBand>2</SourceBand>
      <SourceProperties RasterXSize="56576" RasterYSize="37888" DataType="Byte" BlockXSize="256" BlockYSize="256" />
      <SrcRect xOff="0" yOff="0" xSize="56576" ySize="37888" />
      <DstRect xOff="240" yOff="74040" xSize="56576" ySize="37888" />
    </SimpleSource>
    <SimpleSource>
      <SourceFilename relativeToVRT="0">/mnt/data/srv/carto_private/01_ORIGINAL/world/spain/provincias/guadalajara/pnoa_max_actual/PNOA_MA_OF_ETRS89_HU30_h25_0432_4.tif</SourceFilename>
      <SourceBand>2</SourceBand>
      <SourceProperties RasterXSize="56576" RasterYSize="37888" DataType="Byte" BlockXSize="256" BlockYSize="256" />
      <SrcRect xOff="0" yOff="0" xSize="56576" ySize="37888" />
      <DstRect xOff="56360" yOff="37280" xSize="56576" ySize="37888" />
    </SimpleSource>
    <SimpleSource>
      <SourceFilename relativeToVRT="0">/mnt/data/srv/carto_private/01_ORIGINAL/world/spain/provincias/guadalajara/pnoa_max_actual/PNOA_MA_OF_ETRS89_HU30_h25_0459_4.tif</SourceFilename>
      <SourceBand>2</SourceBand>
      <SourceProperties RasterXSize="56832" RasterYSize="37632" DataType="Byte" BlockXSize="256" BlockYSize="256" />
      <SrcRect xOff="0" yOff="0" xSize="56832" ySize="37632" />
      <DstRect xOff="56080" yOff="111320" xSize="56832" ySize="37632" />
    </SimpleSource>
    <SimpleSource>
      <SourceFilename relativeToVRT="0">/mnt/data/srv/carto_private/01_ORIGINAL/world/spain/provincias/guadalajara/pnoa_max_actual/PNOA_MA_OF_ETRS89_HU30_h25_0433_1.tif</SourceFilename>
      <SourceBand>2</SourceBand>
      <SourceProperties RasterXSize="56320" RasterYSize="37632" DataType="Byte" BlockXSize="256" BlockYSize="256" />
      <SrcRect xOff="0" yOff="0" xSize="56320" ySize="37632" />
      <DstRect xOff="112400" yOff="480" xSize="56320" ySize="37632" />
    </SimpleSource>
    <SimpleSource>
      <SourceFilename relativeToVRT="0">/mnt/data/srv/carto_private/01_ORIGINAL/world/spain/provincias/guadalajara/pnoa_max_actual/PNOA_MA_OF_ETRS89_HU30_h25_0459_2.tif</SourceFilename>
      <SourceBand>2</SourceBand>
      <SourceProperties RasterXSize="56576" RasterYSize="37632" DataType="Byte" BlockXSize="256" BlockYSize="256" />
      <SrcRect xOff="0" yOff="0" xSize="56576" ySize="37632" />
      <DstRect xOff="56240" yOff="74320" xSize="56576" ySize="37632" />
    </SimpleSource>
    <SimpleSource>
      <SourceFilename relativeToVRT="0">/mnt/data/srv/carto_private/01_ORIGINAL/world/spain/provincias/guadalajara/pnoa_max_actual/PNOA_MA_OF_ETRS89_HU30_h25_0459_3.tif</SourceFilename>
      <SourceBand>2</SourceBand>
      <SourceProperties RasterXSize="56832" RasterYSize="37888" DataType="Byte" BlockXSize="256" BlockYSize="256" />
      <SrcRect xOff="0" yOff="0" xSize="56832" ySize="37888" />
      <DstRect xOff="0" yOff="111040" xSize="56832" ySize="37888" />
    </SimpleSource>
  </VRTRasterBand>
  <VRTRasterBand dataType="Byte" band="3">
    <ColorInterp>Blue</ColorInterp>
    <SimpleSource>
      <SourceFilename relativeToVRT="0">/mnt/data/srv/carto_private/01_ORIGINAL/world/spain/provincias/madrid/pnoa_max_actual/PNOA_MA_OF_ETRS89_HU30_h25_0459_1.tif</SourceFilename>
      <SourceBand>3</SourceBand>
      <SourceProperties RasterXSize="56576" RasterYSize="37888" DataType="Byte" BlockXSize="256" BlockYSize="256" />
      <SrcRect xOff="0" yOff="0" xSize="56576" ySize="37888" />
      <DstRect xOff="240" yOff="74040" xSize="56576" ySize="37888" />
    </SimpleSource>
    <SimpleSource>
      <SourceFilename relativeToVRT="0">/mnt/data/srv/carto_private/01_ORIGINAL/world/spain/provincias/madrid/pnoa_max_actual/PNOA_MA_OF_ETRS89_HU30_h25_0459_3.tif</SourceFilename>
      <SourceBand>3</SourceBand>
      <SourceProperties RasterXSize="56832" RasterYSize="37888" DataType="Byte" BlockXSize="256" BlockYSize="256" />
      <SrcRect xOff="0" yOff="0" xSize="56832" ySize="37888" />
      <DstRect xOff="0" yOff="111040" xSize="56832" ySize="37888" />
    </SimpleSource>
    <SimpleSource>
      <SourceFilename relativeToVRT="0">/mnt/data/srv/carto_private/01_ORIGINAL/world/spain/provincias/guadalajara/pnoa_max_actual/PNOA_MA_OF_ETRS89_HU30_h25_0460_2.tif</SourceFilename>
      <SourceBand>3</SourceBand>
      <SourceProperties RasterXSize="56576" RasterYSize="37632" DataType="Byte" BlockXSize="256" BlockYSize="256" />
      <SrcRect xOff="0" yOff="0" xSize="56576" ySize="37632" />
      <DstRect xOff="168240" yOff="74520" xSize="56576" ySize="37632" />
    </SimpleSource>
    <SimpleSource>
      <SourceFilename relativeToVRT="0">/mnt/data/srv/carto_private/01_ORIGINAL/world/spain/provincias/guadalajara/pnoa_max_actual/PNOA_MA_OF_ETRS89_HU30_h25_0432_3.tif</SourceFilename>
      <SourceBand>3</SourceBand>
      <SourceProperties RasterXSize="56576" RasterYSize="37888" DataType="Byte" BlockXSize="256" BlockYSize="256" />
      <SrcRect xOff="0" yOff="0" xSize="56576" ySize="37888" />
      <DstRect xOff="440" yOff="37000" xSize="56576" ySize="37888" />
    </SimpleSource>
    <SimpleSource>
      <SourceFilename relativeToVRT="0">/mnt/data/srv/carto_private/01_ORIGINAL/world/spain/provincias/guadalajara/pnoa_max_actual/PNOA_MA_OF_ETRS89_HU30_h25_0433_3.tif</SourceFilename>
      <SourceBand>3</SourceBand>
      <SourceProperties RasterXSize="56576" RasterYSize="37632" DataType="Byte" BlockXSize="256" BlockYSize="256" />
      <SrcRect xOff="0" yOff="0" xSize="56576" ySize="37632" />
      <DstRect xOff="112320" yOff="37480" xSize="56576" ySize="37632" />
    </SimpleSource>
    <SimpleSource>
      <SourceFilename relativeToVRT="0">/mnt/data/srv/carto_private/01_ORIGINAL/world/spain/provincias/guadalajara/pnoa_max_actual/PNOA_MA_OF_ETRS89_HU30_h25_0460_1.tif</SourceFilename>
      <SourceBand>3</SourceBand>
      <SourceProperties RasterXSize="56576" RasterYSize="37632" DataType="Byte" BlockXSize="256" BlockYSize="256" />
      <SrcRect xOff="0" yOff="0" xSize="56576" ySize="37632" />
      <DstRect xOff="112240" yOff="74480" xSize="56576" ySize="37632" />
    </SimpleSource>
    <SimpleSource>
      <SourceFilename relativeToVRT="0">/mnt/data/srv/carto_private/01_ORIGINAL/world/spain/provincias/guadalajara/pnoa_max_actual/PNOA_MA_OF_ETRS89_HU30_h25_0433_2.tif</SourceFilename>
      <SourceBand>3</SourceBand>
      <SourceProperties RasterXSize="56320" RasterYSize="37632" DataType="Byte" BlockXSize="256" BlockYSize="256" />
      <SrcRect xOff="0" yOff="0" xSize="56320" ySize="37632" />
      <DstRect xOff="168240" yOff="480" xSize="56320" ySize="37632" />
    </SimpleSource>
    <SimpleSource>
      <SourceFilename relativeToVRT="0">/mnt/data/srv/carto_private/01_ORIGINAL/world/spain/provincias/guadalajara/pnoa_max_actual/PNOA_MA_OF_ETRS89_HU30_h25_0460_3.tif</SourceFilename>
      <SourceBand>3</SourceBand>
      <SourceProperties RasterXSize="56576" RasterYSize="37632" DataType="Byte" BlockXSize="256" BlockYSize="256" />
      <SrcRect xOff="0" yOff="0" xSize="56576" ySize="37632" />
      <DstRect xOff="112160" yOff="111480" xSize="56576" ySize="37632" />
    </SimpleSource>
    <SimpleSource>
      <SourceFilename relativeToVRT="0">/mnt/data/srv/carto_private/01_ORIGINAL/world/spain/provincias/guadalajara/pnoa_max_actual/PNOA_MA_OF_ETRS89_HU30_h25_0433_4.tif</SourceFilename>
      <SourceBand>3</SourceBand>
      <SourceProperties RasterXSize="56576" RasterYSize="37632" DataType="Byte" BlockXSize="256" BlockYSize="256" />
