<VRTDataset rasterXSize="230256" rasterYSize="259872">
  <SRS dataAxisToSRSAxisMapping="1,2">PROJCS["ETRS89 / UTM zone 30N",GEOGCS["ETRS89",DATUM["European_Terrestrial_Reference_System_1989",SPHEROID["GRS 1980",6378137,298.257222101,AUTHORITY["EPSG","7019"]],AUTHORITY["EPSG","6258"]],PRIMEM["Greenwich",0,AUTHORITY["EPSG","8901"]],UNIT["degree",0.0174532925199433,AUTHORITY["EPSG","9122"]],AUTHORITY["EPSG","4258"]],PROJECTION["Transverse_Mercator"],PARAMETER["latitude_of_origin",0],PARAMETER["central_meridian",-3],PARAMETER["scale_factor",0.9996],PARAMETER["false_easting",500000],PARAMETER["false_northing",0],UNIT["metre",1,AUTHORITY["EPSG","9001"]],AXIS["Easting",EAST],AXIS["Northing",NORTH],AUTHORITY["EPSG","25830"]]</SRS>
  <GeoTransform>  4.5506000000000000e+05,  2.5000000000000000e-01,  0.0000000000000000e+00,  4.4186900000000000e+06,  0.0000000000000000e+00, -2.5000000000000000e-01</GeoTransform>
  <VRTRasterBand dataType="Byte" band="1">
    <ColorInterp>Red</ColorInterp>
    <SimpleSource>
      <SourceFilename relativeToVRT="0">/mnt/data/srv/carto_private/01_ORIGINAL/world/spain/provincias/toledo/pnoa_max_actual/PNOA_MA_OF_ETRS89_HU30_h25_0659_4.tif</SourceFilename>
      <SourceBand>1</SourceBand>
      <SourceProperties RasterXSize="57856" RasterYSize="37888" DataType="Byte" BlockXSize="256" BlockYSize="256" />
      <SrcRect xOff="0" yOff="0" xSize="57856" ySize="37888" />
      <DstRect xOff="58040" yOff="74240" xSize="57856" ySize="37888" />
    </SimpleSource>
    <SimpleSource>
      <SourceFilename relativeToVRT="0">/mnt/data/srv/carto_private/01_ORIGINAL/world/spain/provincias/toledo/pnoa_max_actual/PNOA_MA_OF_ETRS89_HU30_h25_0713_4.tif</SourceFilename>
      <SourceBand>1</SourceBand>
      <SourceProperties RasterXSize="58112" RasterYSize="37632" DataType="Byte" BlockXSize="256" BlockYSize="256" />
      <SrcRect xOff="0" yOff="0" xSize="58112" ySize="37632" />
      <DstRect xOff="57440" yOff="222240" xSize="58112" ySize="37632" />
    </SimpleSource>
    <SimpleSource>
      <SourceFilename relativeToVRT="0">/mnt/data/srv/carto_private/01_ORIGINAL/world/spain/provincias/toledo/pnoa_max_actual/PNOA_MA_OF_ETRS89_HU30_h25_0660_1.tif</SourceFilename>
      <SourceBand>1</SourceBand>
      <SourceProperties RasterXSize="57600" RasterYSize="37632" DataType="Byte" BlockXSize="256" BlockYSize="256" />
      <SrcRect xOff="0" yOff="0" xSize="57600" ySize="37632" />
      <DstRect xOff="115280" yOff="37440" xSize="57600" ySize="37632" />
    </SimpleSource>
    <SimpleSource>
      <SourceFilename relativeToVRT="0">/mnt/data/srv/carto_private/01_ORIGINAL/world/spain/provincias/toledo/pnoa_max_actual/PNOA_MA_OF_ETRS89_HU30_h25_0688_4.tif</SourceFilename>
      <SourceBand>1</SourceBand>
      <SourceProperties RasterXSize="57856" RasterYSize="37632" DataType="Byte" BlockXSize="256" BlockYSize="256" />
      <SrcRect xOff="0" yOff="0" xSize="57856" ySize="37632" />
      <DstRect xOff="172360" yOff="148440" xSize="57856" ySize="37632" />
    </SimpleSource>
    <SimpleSource>
      <SourceFilename relativeToVRT="0">/mnt/data/srv/carto_private/01_ORIGINAL/world/spain/provincias/toledo/pnoa_max_actual/PNOA_MA_OF_ETRS89_HU30_h25_0713_3.tif</SourceFilename>
      <SourceBand>1</SourceBand>
      <SourceProperties RasterXSize="58112" RasterYSize="37888" DataType="Byte" BlockXSize="256" BlockYSize="256" />
      <SrcRect xOff="0" yOff="0" xSize="58112" ySize="37888" />
      <DstRect xOff="0" yOff="221960" xSize="58112" ySize="37888" />
    </SimpleSource>
    <SimpleSource>
      <SourceFilename relativeToVRT="0">/mnt/data/srv/carto_private/01_ORIGINAL/world/spain/provincias/toledo/pnoa_max_actual/PNOA_MA_OF_ETRS89_HU30_h25_0631_3.tif</SourceFilename>
      <SourceBand>1</SourceBand>
      <SourceProperties RasterXSize="57856" RasterYSize="37888" DataType="Byte" BlockXSize="256" BlockYSize="256" />
      <SrcRect xOff="0" yOff="0" xSize="57856" ySize="37888" />
      <DstRect xOff="1280" yOff="0" xSize="57856" ySize="37888" />
    </SimpleSource>
    <SimpleSource>
      <SourceFilename relativeToVRT="0">/mnt/data/srv/carto_private/01_ORIGINAL/world/spain/provincias/toledo/pnoa_max_actual/PNOA_MA_OF_ETRS89_HU30_h25_0713_2.tif</SourceFilename>
      <SourceBand>1</SourceBand>
      <SourceProperties RasterXSize="58112" RasterYSize="37632" DataType="Byte" BlockXSize="256" BlockYSize="256" />
      <SrcRect xOff="0" yOff="0" xSize="58112" ySize="37632" />
      <DstRect xOff="57600" yOff="185240" xSize="58112" ySize="37632" />
    </SimpleSource>
    <SimpleSource>
      <SourceFilename relativeToVRT="0">/mnt/data/srv/carto_private/01_ORIGINAL/world/spain/provincias/toledo/pnoa_max_actual/PNOA_MA_OF_ETRS89_HU30_h25_0713_1.tif</SourceFilename>
      <SourceBand>1</SourceBand>
      <SourceProperties RasterXSize="58112" RasterYSize="37888" DataType="Byte" BlockXSize="256" BlockYSize="256" />
      <SrcRect xOff="0" yOff="0" xSize="58112" ySize="37888" />
      <DstRect xOff="200" yOff="184960" xSize="58112" ySize="37888" />
    </SimpleSource>
    <SimpleSource>
      <SourceFilename relativeToVRT="0">/mnt/data/srv/carto_private/01_ORIGINAL/world/spain/provincias/toledo/pnoa_max_actual/PNOA_MA_OF_ETRS89_HU30_h25_0687_4.tif</SourceFilename>
      <SourceBand>1</SourceBand>
      <SourceProperties RasterXSize="57856" RasterYSize="37632" DataType="Byte" BlockXSize="256" BlockYSize="256" />
      <SrcRect xOff="0" yOff="0" xSize="57856" ySize="37632" />
      <DstRect xOff="57720" yOff="148240" xSize="57856" ySize="37632" />
    </SimpleSource>
    <SimpleSource>
      <SourceFilename relativeToVRT="0">/mnt/data/srv/carto_private/01_ORIGINAL/world/spain/provincias/toledo/pnoa_max_actual/PNOA_MA_OF_ETRS89_HU30_h25_0688_3.tif</SourceFilename>
      <SourceBand>1</SourceBand>
      <SourceProperties RasterXSize="57856" RasterYSize="37632" DataType="Byte" BlockXSize="256" BlockYSize="256" />
      <SrcRect xOff="0" yOff="0" xSize="57856" ySize="37632" />
      <DstRect xOff="115040" yOff="148440" xSize="57856" ySize="37632" />
    </SimpleSource>
    <SimpleSource>
      <SourceFilename relativeToVRT="0">/mnt/data/srv/carto_private/01_ORIGINAL/world/spain/provincias/toledo/pnoa_max_actual/PNOA_MA_OF_ETRS89_HU30_h25_0659_1.tif</SourceFilename>
      <SourceBand>1</SourceBand>
      <SourceProperties RasterXSize="57856" RasterYSize="37888" DataType="Byte" BlockXSize="256" BlockYSize="256" />
      <SrcRect xOff="0" yOff="0" xSize="57856" ySize="37888" />
      <DstRect xOff="1080" yOff="37000" xSize="57856" ySize="37888" />
    </SimpleSource>
    <SimpleSource>
      <SourceFilename relativeToVRT="0">/mnt/data/srv/carto_private/01_ORIGINAL/world/spain/provincias/toledo/pnoa_max_actual/PNOA_MA_OF_ETRS89_HU30_h25_0631_4.tif</SourceFilename>
      <SourceBand>1</SourceBand>
      <SourceProperties RasterXSize="57600" RasterYSize="37632" DataType="Byte" BlockXSize="256" BlockYSize="256" />
      <SrcRect xOff="0" yOff="0" xSize="57600" ySize="37632" />
      <DstRect xOff="58320" yOff="280" xSize="57600" ySize="37632" />
    </SimpleSource>
    <SimpleSource>
      <SourceFilename relativeToVRT="0">/mnt/data/srv/carto_private/01_ORIGINAL/world/spain/provincias/toledo/pnoa_max_actual/PNOA_MA_OF_ETRS89_HU30_h25_0688_2.tif</SourceFilename>
      <SourceBand>1</SourceBand>
      <SourceProperties RasterXSize="57856" RasterYSize="37632" DataType="Byte" BlockXSize="256" BlockYSize="256" />
      <SrcRect xOff="0" yOff="0" xSize="57856" ySize="37632" />
      <DstRect xOff="172400" yOff="111440" xSize="57856" ySize="37632" />
    </SimpleSource>
    <SimpleSource>
      <SourceFilename relativeToVRT="0">/mnt/data/srv/carto_private/01_ORIGINAL/world/spain/provincias/toledo/pnoa_max_actual/PNOA_MA_OF_ETRS89_HU30_h25_0714_1.tif</SourceFilename>
      <SourceBand>1</SourceBand>
      <SourceProperties RasterXSize="57856" RasterYSize="37632" DataType="Byte" BlockXSize="256" BlockYSize="256" />
      <SrcRect xOff="0" yOff="0" xSize="57856" ySize="37632" />
      <DstRect xOff="114960" yOff="185400" xSize="57856" ySize="37632" />
    </SimpleSource>
    <SimpleSource>
      <SourceFilename relativeToVRT="0">/mnt/data/srv/carto_private/01_ORIGINAL/world/spain/provincias/toledo/pnoa_max_actual/PNOA_MA_OF_ETRS89_HU30_h25_0660_4.tif</SourceFilename>
      <SourceBand>1</SourceBand>
      <SourceProperties RasterXSize="57600" RasterYSize="37632" DataType="Byte" BlockXSize="256" BlockYSize="256" />
      <SrcRect xOff="0" yOff="0" xSize="57600" ySize="37632" />
      <DstRect xOff="172400" yOff="74440" xSize="57600" ySize="37632" />
    </SimpleSource>
    <SimpleSource>
      <SourceFilename relativeToVRT="0">/mnt/data/srv/carto_private/01_ORIGINAL/world/spain/provincias/toledo/pnoa_max_actual/PNOA_MA_OF_ETRS89_HU30_h25_0687_3.tif</SourceFilename>
      <SourceBand>1</SourceBand>
      <SourceProperties RasterXSize="58112" RasterYSize="37888" DataType="Byte" BlockXSize="256" BlockYSize="256" />
      <SrcRect xOff="0" yOff="0" xSize="58112" ySize="37888" />
      <DstRect xOff="400" yOff="147960" xSize="58112" ySize="37888" />
    </SimpleSource>
    <SimpleSource>
      <SourceFilename relativeToVRT="0">/mnt/data/srv/carto_private/01_ORIGINAL/world/spain/provincias/toledo/pnoa_max_actual/PNOA_MA_OF_ETRS89_HU30_h25_0660_2.tif</SourceFilename>
      <SourceBand>1</SourceBand>
      <SourceProperties RasterXSize="57600" RasterYSize="37632" DataType="Byte" BlockXSize="256" BlockYSize="256" />
      <SrcRect xOff="0" yOff="0" xSize="57600" ySize="37632" />
      <DstRect xOff="172400" yOff="37480" xSize="57600" ySize="37632" />
    </SimpleSource>
    <SimpleSource>
      <SourceFilename relativeToVRT="0">/mnt/data/srv/carto_private/01_ORIGINAL/world/spain/provincias/toledo/pnoa_max_actual/PNOA_MA_OF_ETRS89_HU30_h25_0688_1.tif</SourceFilename>
      <SourceBand>1</SourceBand>
      <SourceProperties RasterXSize="57856" RasterYSize="37632" DataType="Byte" BlockXSize="256" BlockYSize="256" />
      <SrcRect xOff="0" yOff="0" xSize="57856" ySize="37632" />
      <DstRect xOff="115120" yOff="111440" xSize="57856" ySize="37632" />
    </SimpleSource>
    <SimpleSource>
      <SourceFilename relativeToVRT="0">/mnt/data/srv/carto_private/01_ORIGINAL/world/spain/provincias/toledo/pnoa_max_actual/PNOA_MA_OF_ETRS89_HU30_h25_0687_1.tif</SourceFilename>
      <SourceBand>1</SourceBand>
      <SourceProperties RasterXSize="57856" RasterYSize="37888" DataType="Byte" BlockXSize="256" BlockYSize="256" />
      <SrcRect xOff="0" yOff="0" xSize="57856" ySize="37888" />
      <DstRect xOff="640" yOff="110960" xSize="57856" ySize="37888" />
    </SimpleSource>
    <SimpleSource>
      <SourceFilename relativeToVRT="0">/mnt/data/srv/carto_private/01_ORIGINAL/world/spain/provincias/toledo/pnoa_max_actual/PNOA_MA_OF_ETRS89_HU30_h25_0659_3.tif</SourceFilename>
      <SourceBand>1</SourceBand>
      <SourceProperties RasterXSize="57856" RasterYSize="37888" DataType="Byte" BlockXSize="256" BlockYSize="256" />
      <SrcRect xOff="0" yOff="0" xSize="57856" ySize="37888" />
      <DstRect xOff="840" yOff="74000" xSize="57856" ySize="37888" />
    </SimpleSource>
    <SimpleSource>
      <SourceFilename relativeToVRT="0">/mnt/data/srv/carto_private/01_ORIGINAL/world/spain/provincias/toledo/pnoa_max_actual/PNOA_MA_OF_ETRS89_HU30_h25_0659_2.tif</SourceFilename>
      <SourceBand>1</SourceBand>
      <SourceProperties RasterXSize="57856" RasterYSize="37632" DataType="Byte" BlockXSize="256" BlockYSize="256" />
      <SrcRect xOff="0" yOff="0" xSize="57856" ySize="37632" />
      <DstRect xOff="58160" yOff="37280" xSize="57856" ySize="37632" />
    </SimpleSource>
    <SimpleSource>
      <SourceFilename relativeToVRT="0">/mnt/data/srv/carto_private/01_ORIGINAL/world/spain/provincias/toledo/pnoa_max_actual/PNOA_MA_OF_ETRS89_HU30_h25_0714_2.tif</SourceFilename>
      <SourceBand>1</SourceBand>
      <SourceProperties RasterXSize="57856" RasterYSize="37632" DataType="Byte" BlockXSize="256" BlockYSize="256" />
      <SrcRect xOff="0" yOff="0" xSize="57856" ySize="37632" />
      <DstRect xOff="172360" yOff="185440" xSize="57856" ySize="37632" />
    </SimpleSource>
    <SimpleSource>
      <SourceFilename relativeToVRT="0">/mnt/data/srv/carto_private/01_ORIGINAL/world/spain/provincias/toledo/pnoa_max_actual/PNOA_MA_OF_ETRS89_HU30_h25_0687_2.tif</SourceFilename>
      <SourceBand>1</SourceBand>
      <SourceProperties RasterXSize="57856" RasterYSize="37888" DataType="Byte" BlockXSize="256" BlockYSize="256" />
      <SrcRect xOff="0" yOff="0" xSize="57856" ySize="37888" />
      <DstRect xOff="57880" yOff="111240" xSize="57856" ySize="37888" />
    </SimpleSource>
    <SimpleSource>
      <SourceFilename relativeToVRT="0">/mnt/data/srv/carto_private/01_ORIGINAL/world/spain/provincias/toledo/pnoa_max_actual/PNOA_MA_OF_ETRS89_HU30_h25_0632_3.tif</SourceFilename>
      <SourceBand>1</SourceBand>
      <SourceProperties RasterXSize="57600" RasterYSize="37632" DataType="Byte" BlockXSize="256" BlockYSize="256" />
      <SrcRect xOff="0" yOff="0" xSize="57600" ySize="37632" />
      <DstRect xOff="115360" yOff="440" xSize="57600" ySize="37632" />
    </SimpleSource>
    <SimpleSource>
      <SourceFilename relativeToVRT="0">/mnt/data/srv/carto_private/01_ORIGINAL/world/spain/provincias/toledo/pnoa_max_actual/PNOA_MA_OF_ETRS89_HU30_h25_0660_3.tif</SourceFilename>
      <SourceBand>1</SourceBand>
      <SourceProperties RasterXSize="57856" RasterYSize="37632" DataType="Byte" BlockXSize="256" BlockYSize="256" />
      <SrcRect xOff="0" yOff="0" xSize="57856" ySize="37632" />
      <DstRect xOff="115200" yOff="74440" xSize="57856" ySize="37632" />
    </SimpleSource>
  </VRTRasterBand>
  <VRTRasterBand dataType="Byte" band="2">
    <ColorInterp>Green</ColorInterp>
    <SimpleSource>
      <SourceFilename relativeToVRT="0">/mnt/data/srv/carto_private/01_ORIGINAL/world/spain/provincias/toledo/pnoa_max_actual/PNOA_MA_OF_ETRS89_HU30_h25_0659_4.tif</SourceFilename>
      <SourceBand>2</SourceBand>
      <SourceProperties RasterXSize="57856" RasterYSize="37888" DataType="Byte" BlockXSize="256" BlockYSize="256" />
      <SrcRect xOff="0" yOff="0" xSize="57856" ySize="37888" />
      <DstRect xOff="58040" yOff="74240" xSize="57856" ySize="37888" />
    </SimpleSource>
    <SimpleSource>
      <SourceFilename relativeToVRT="0">/mnt/data/srv/carto_private/01_ORIGINAL/world/spain/provincias/toledo/pnoa_max_actual/PNOA_MA_OF_ETRS89_HU30_h25_0713_4.tif</SourceFilename>
      <SourceBand>2</SourceBand>
      <SourceProperties RasterXSize="58112" RasterYSize="37632" DataType="Byte" BlockXSize="256" BlockYSize="256" />
      <SrcRect xOff="0" yOff="0" xSize="58112" ySize="37632" />
      <DstRect xOff="57440" yOff="222240" xSize="58112" ySize="37632" />
    </SimpleSource>
    <SimpleSource>
      <SourceFilename relativeToVRT="0">/mnt/data/srv/carto_private/01_ORIGINAL/world/spain/provincias/toledo/pnoa_max_actual/PNOA_MA_OF_ETRS89_HU30_h25_0660_1.tif</SourceFilename>
      <SourceBand>2</SourceBand>
      <SourceProperties RasterXSize="57600" RasterYSize="37632" DataType="Byte" BlockXSize="256" BlockYSize="256" />
      <SrcRect xOff="0" yOff="0" xSize="57600" ySize="37632" />
      <DstRect xOff="115280" yOff="37440" xSize="57600" ySize="37632" />
    </SimpleSource>
    <SimpleSource>
      <SourceFilename relativeToVRT="0">/mnt/data/srv/carto_private/01_ORIGINAL/world/spain/provincias/toledo/pnoa_max_actual/PNOA_MA_OF_ETRS89_HU30_h25_0688_4.tif</SourceFilename>
      <SourceBand>2</SourceBand>
      <SourceProperties RasterXSize="57856" RasterYSize="37632" DataType="Byte" BlockXSize="256" BlockYSize="256" />
      <SrcRect xOff="0" yOff="0" xSize="57856" ySize="37632" />
      <DstRect xOff="172360" yOff="148440" xSize="57856" ySize="37632" />
    </SimpleSource>
    <SimpleSource>
      <SourceFilename relativeToVRT="0">/mnt/data/srv/carto_private/01_ORIGINAL/world/spain/provincias/toledo/pnoa_max_actual/PNOA_MA_OF_ETRS89_HU30_h25_0713_3.tif</SourceFilename>
      <SourceBand>2</SourceBand>
      <SourceProperties RasterXSize="58112" RasterYSize="37888" DataType="Byte" BlockXSize="256" BlockYSize="256" />
      <SrcRect xOff="0" yOff="0" xSize="58112" ySize="37888" />
      <DstRect xOff="0" yOff="221960" xSize="58112" ySize="37888" />
    </SimpleSource>
    <SimpleSource>
      <SourceFilename relativeToVRT="0">/mnt/data/srv/carto_private/01_ORIGINAL/world/spain/provincias/toledo/pnoa_max_actual/PNOA_MA_OF_ETRS89_HU30_h25_0631_3.tif</SourceFilename>
      <SourceBand>2</SourceBand>
      <SourceProperties RasterXSize="57856" RasterYSize="37888" DataType="Byte" BlockXSize="256" BlockYSize="256" />
      <SrcRect xOff="0" yOff="0" xSize="57856" ySize="37888" />
      <DstRect xOff="1280" yOff="0" xSize="57856" ySize="37888" />
    </SimpleSource>
    <SimpleSource>
      <SourceFilename relativeToVRT="0">/mnt/data/srv/carto_private/01_ORIGINAL/world/spain/provincias/toledo/pnoa_max_actual/PNOA_MA_OF_ETRS89_HU30_h25_0713_2.tif</SourceFilename>
      <SourceBand>2</SourceBand>
      <SourceProperties RasterXSize="58112" RasterYSize="37632" DataType="Byte" BlockXSize="256" BlockYSize="256" />
      <SrcRect xOff="0" yOff="0" xSize="58112" ySize="37632" />
      <DstRect xOff="57600" yOff="185240" xSize="58112" ySize="37632" />
    </SimpleSource>
    <SimpleSource>
      <SourceFilename relativeToVRT="0">/mnt/data/srv/carto_private/01_ORIGINAL/world/spain/provincias/toledo/pnoa_max_actual/PNOA_MA_OF_ETRS89_HU30_h25_0713_1.tif</SourceFilename>
      <SourceBand>2</SourceBand>
      <SourceProperties RasterXSize="58112" RasterYSize="37888" DataType="Byte" BlockXSize="256" BlockYSize="256" />
      <SrcRect xOff="0" yOff="0" xSize="58112" ySize="37888" />
      <DstRect xOff="200" yOff="184960" xSize="58112" ySize="37888" />
    </SimpleSource>
    <SimpleSource>
      <SourceFilename relativeToVRT="0">/mnt/data/srv/carto_private/01_ORIGINAL/world/spain/provincias/toledo/pnoa_max_actual/PNOA_MA_OF_ETRS89_HU30_h25_0687_4.tif</SourceFilename>
      <SourceBand>2</SourceBand>
      <SourceProperties RasterXSize="57856" RasterYSize="37632" DataType="Byte" BlockXSize="256" BlockYSize="256" />
      <SrcRect xOff="0" yOff="0" xSize="57856" ySize="37632" />
      <DstRect xOff="57720" yOff="148240" xSize="57856" ySize="37632" />
    </SimpleSource>
    <SimpleSource>
      <SourceFilename relativeToVRT="0">/mnt/data/srv/carto_private/01_ORIGINAL/world/spain/provincias/toledo/pnoa_max_actual/PNOA_MA_OF_ETRS89_HU30_h25_0688_3.tif</SourceFilename>
      <SourceBand>2</SourceBand>
      <SourceProperties RasterXSize="57856" RasterYSize="37632" DataType="Byte" BlockXSize="256" BlockYSize="256" />
      <SrcRect xOff="0" yOff="0" xSize="57856" ySize="37632" />
      <DstRect xOff="115040" yOff="148440" xSize="57856" ySize="37632" />
    </SimpleSource>
    <SimpleSource>
      <SourceFilename relativeToVRT="0">/mnt/data/srv/carto_private/01_ORIGINAL/world/spain/provincias/toledo/pnoa_max_actual/PNOA_MA_OF_ETRS89_HU30_h25_0659_1.tif</SourceFilename>
      <SourceBand>2</SourceBand>
      <SourceProperties RasterXSize="57856" RasterYSize="37888" DataType="Byte" BlockXSize="256" BlockYSize="256" />
      <SrcRect xOff="0" yOff="0" xSize="57856" ySize="37888" />
      <DstRect xOff="1080" yOff="37000" xSize="57856" ySize="37888" />
    </SimpleSource>
    <SimpleSource>
      <SourceFilename relativeToVRT="0">/mnt/data/srv/carto_private/01_ORIGINAL/world/spain/provincias/toledo/pnoa_max_actual/PNOA_MA_OF_ETRS89_HU30_h25_0631_4.tif</SourceFilename>
      <SourceBand>2</SourceBand>
      <SourceProperties RasterXSize="57600" RasterYSize="37632" DataType="Byte" BlockXSize="256" BlockYSize="256" />
      <SrcRect xOff="0" yOff="0" xSize="57600" ySize="37632" />
      <DstRect xOff="58320" yOff="280" xSize="57600" ySize="37632" />
    </SimpleSource>
    <SimpleSource>
      <SourceFilename relativeToVRT="0">/mnt/data/srv/carto_private/01_ORIGINAL/world/spain/provincias/toledo/pnoa_max_actual/PNOA_MA_OF_ETRS89_HU30_h25_0688_2.tif</SourceFilename>
      <SourceBand>2</SourceBand>
      <SourceProperties RasterXSize="57856" RasterYSize="37632" DataType="Byte" BlockXSize="256" BlockYSize="256" />
      <SrcRect xOff="0" yOff="0" xSize="57856" ySize="37632" />
      <DstRect xOff="172400" yOff="111440" xSize="57856" ySize="37632" />
    </SimpleSource>
    <SimpleSource>
      <SourceFilename relativeToVRT="0">/mnt/data/srv/carto_private/01_ORIGINAL/world/spain/provincias/toledo/pnoa_max_actual/PNOA_MA_OF_ETRS89_HU30_h25_0714_1.tif</SourceFilename>
      <SourceBand>2</SourceBand>
      <SourceProperties RasterXSize="57856" RasterYSize="37632" DataType="Byte" BlockXSize="256" BlockYSize="256" />
      <SrcRect xOff="0" yOff="0" xSize="57856" ySize="37632" />
      <DstRect xOff="114960" yOff="185400" xSize="57856" ySize="37632" />
    </SimpleSource>
    <SimpleSource>
      <SourceFilename relativeToVRT="0">/mnt/data/srv/carto_private/01_ORIGINAL/world/spain/provincias/toledo/pnoa_max_actual/PNOA_MA_OF_ETRS89_HU30_h25_0660_4.tif</SourceFilename>
      <SourceBand>2</SourceBand>
      <SourceProperties RasterXSize="57600" RasterYSize="37632" DataType="Byte" BlockXSize="256" BlockYSize="256" />
      <SrcRect xOff="0" yOff="0" xSize="57600" ySize="37632" />
      <DstRect xOff="172400" yOff="74440" xSize="57600" ySize="37632" />
    </SimpleSource>
    <SimpleSource>
      <SourceFilename relativeToVRT="0">/mnt/data/srv/carto_private/01_ORIGINAL/world/spain/provincias/toledo/pnoa_max_actual/PNOA_MA_OF_ETRS89_HU30_h25_0687_3.tif</SourceFilename>
      <SourceBand>2</SourceBand>
      <SourceProperties RasterXSize="58112" RasterYSize="37888" DataType="Byte" BlockXSize="256" BlockYSize="256" />
      <SrcRect xOff="0" yOff="0" xSize="58112" ySize="37888" />
      <DstRect xOff="400" yOff="147960" xSize="58112" ySize="37888" />
    </SimpleSource>
    <SimpleSource>
      <SourceFilename relativeToVRT="0">/mnt/data/srv/carto_private/01_ORIGINAL/world/spain/provincias/toledo/pnoa_max_actual/PNOA_MA_OF_ETRS89_HU30_h25_0660_2.tif</SourceFilename>
      <SourceBand>2</SourceBand>
      <SourceProperties RasterXSize="57600" RasterYSize="37632" DataType="Byte" BlockXSize="256" BlockYSize="256" />
      <SrcRect xOff="0" yOff="0" xSize="57600" ySize="37632" />
      <DstRect xOff="172400" yOff="37480" xSize="57600" ySize="37632" />
    </SimpleSource>
    <SimpleSource>
      <SourceFilename relativeToVRT="0">/mnt/data/srv/carto_private/01_ORIGINAL/world/spain/provincias/toledo/pnoa_max_actual/PNOA_MA_OF_ETRS89_HU30_h25_0688_1.tif</SourceFilename>
      <SourceBand>2</SourceBand>
      <SourceProperties RasterXSize="57856" RasterYSize="37632" DataType="Byte" BlockXSize="256" BlockYSize="256" />
      <SrcRect xOff="0" yOff="0" xSize="57856" ySize="37632" />
      <DstRect xOff="115120" yOff="111440" xSize="57856" ySize="37632" />
    </SimpleSource>
    <SimpleSource>
      <SourceFilename relativeToVRT="0">/mnt/data/srv/carto_private/01_ORIGINAL/world/spain/provincias/toledo/pnoa_max_actual/PNOA_MA_OF_ETRS89_HU30_h25_0687_1.tif</SourceFilename>
      <SourceBand>2</SourceBand>
      <SourceProperties RasterXSize="57856" RasterYSize="37888" DataType="Byte" BlockXSize="256" BlockYSize="256" />
      <SrcRect xOff="0" yOff="0" xSize="57856" ySize="37888" />
      <DstRect xOff="640" yOff="110960" xSize="57856" ySize="37888" />
    </SimpleSource>
    <SimpleSource>
      <SourceFilename relativeToVRT="0">/mnt/data/srv/carto_private/01_ORIGINAL/world/spain/provincias/toledo/pnoa_max_actual/PNOA_MA_OF_ETRS89_HU30_h25_0659_3.tif</SourceFilename>
      <SourceBand>2</SourceBand>
      <SourceProperties RasterXSize="57856" RasterYSize="37888" DataType="Byte" BlockXSize="256" BlockYSize="256" />
      <SrcRect xOff="0" yOff="0" xSize="57856" ySize="37888" />
      <DstRect xOff="840" yOff="74000" xSize="57856" ySize="37888" />
    </SimpleSource>
    <SimpleSource>
