<VRTDataset rasterXSize="229704" rasterYSize="224688">
  <SRS dataAxisToSRSAxisMapping="1,2">PROJCS["ETRS89 / UTM zone 30N",GEOGCS["ETRS89",DATUM["European_Terrestrial_Reference_System_1989",SPHEROID["GRS 1980",6378137,298.257222101,AUTHORITY["EPSG","7019"]],AUTHORITY["EPSG","6258"]],PRIMEM["Greenwich",0,AUTHORITY["EPSG","8901"]],UNIT["degree",0.0174532925199433,AUTHORITY["EPSG","9122"]],AUTHORITY["EPSG","4258"]],PROJECTION["Transverse_Mercator"],PARAMETER["latitude_of_origin",0],PARAMETER["central_meridian",-3],PARAMETER["scale_factor",0.9996],PARAMETER["false_easting",500000],PARAMETER["false_northing",0],UNIT["metre",1,AUTHORITY["EPSG","9001"]],AXIS["Easting",EAST],AXIS["Northing",NORTH],AUTHORITY["EPSG","25830"]]</SRS>
  <GeoTransform>  3.9846000000000000e+05,  2.5000000000000000e-01,  0.0000000000000000e+00,  4.4747400000000000e+06,  0.0000000000000000e+00, -2.5000000000000000e-01</GeoTransform>
  <VRTRasterBand dataType="Byte" band="1">
    <ColorInterp>Red</ColorInterp>
    <SimpleSource>
      <SourceFilename relativeToVRT="0">/mnt/data/srv/carto_private/01_ORIGINAL/world/spain/provincias/madrid/pnoa_max_actual/PNOA_MA_OF_ETRS89_HU30_h25_0581_1.tif</SourceFilename>
      <SourceBand>1</SourceBand>
      <SourceProperties RasterXSize="57600" RasterYSize="38400" DataType="Byte" BlockXSize="256" BlockYSize="256" />
      <SrcRect xOff="0" yOff="0" xSize="57600" ySize="38400" />
      <DstRect xOff="1960" yOff="37000" xSize="57600" ySize="38400" />
    </SimpleSource>
    <SimpleSource>
      <SourceFilename relativeToVRT="0">/mnt/data/srv/carto_private/01_ORIGINAL/world/spain/provincias/madrid/pnoa_max_actual/PNOA_MA_OF_ETRS89_HU30_h25_0630_1.tif</SourceFilename>
      <SourceBand>1</SourceBand>
      <SourceProperties RasterXSize="57856" RasterYSize="38144" DataType="Byte" BlockXSize="256" BlockYSize="256" />
      <SrcRect xOff="0" yOff="0" xSize="57856" ySize="38144" />
      <DstRect xOff="113920" yOff="186320" xSize="57856" ySize="38144" />
    </SimpleSource>
    <SimpleSource>
      <SourceFilename relativeToVRT="0">/mnt/data/srv/carto_private/01_ORIGINAL/world/spain/provincias/madrid/pnoa_max_actual/PNOA_MA_OF_ETRS89_HU30_h25_0629_2.tif</SourceFilename>
      <SourceBand>1</SourceBand>
      <SourceProperties RasterXSize="57856" RasterYSize="38144" DataType="Byte" BlockXSize="256" BlockYSize="256" />
      <SrcRect xOff="0" yOff="0" xSize="57856" ySize="38144" />
      <DstRect xOff="56960" yOff="185720" xSize="57856" ySize="38144" />
    </SimpleSource>
    <SimpleSource>
      <SourceFilename relativeToVRT="0">/mnt/data/srv/carto_private/01_ORIGINAL/world/spain/provincias/madrid/pnoa_max_actual/PNOA_MA_OF_ETRS89_HU30_h25_0581_3.tif</SourceFilename>
      <SourceBand>1</SourceBand>
      <SourceProperties RasterXSize="57600" RasterYSize="38400" DataType="Byte" BlockXSize="256" BlockYSize="256" />
      <SrcRect xOff="0" yOff="0" xSize="57600" ySize="38400" />
      <DstRect xOff="1480" yOff="74000" xSize="57600" ySize="38400" />
    </SimpleSource>
    <SimpleSource>
      <SourceFilename relativeToVRT="0">/mnt/data/srv/carto_private/01_ORIGINAL/world/spain/provincias/madrid/pnoa_max_actual/PNOA_MA_OF_ETRS89_HU30_h25_0582_4.tif</SourceFilename>
      <SourceBand>1</SourceBand>
      <SourceProperties RasterXSize="57600" RasterYSize="37888" DataType="Byte" BlockXSize="256" BlockYSize="256" />
      <SrcRect xOff="0" yOff="0" xSize="57600" ySize="37888" />
      <DstRect xOff="171760" yOff="75800" xSize="57600" ySize="37888" />
    </SimpleSource>
    <SimpleSource>
      <SourceFilename relativeToVRT="0">/mnt/data/srv/carto_private/01_ORIGINAL/world/spain/provincias/madrid/pnoa_max_actual/PNOA_MA_OF_ETRS89_HU30_h25_0558_4.tif</SourceFilename>
      <SourceBand>1</SourceBand>
      <SourceProperties RasterXSize="57600" RasterYSize="38144" DataType="Byte" BlockXSize="256" BlockYSize="256" />
      <SrcRect xOff="0" yOff="0" xSize="57600" ySize="38144" />
      <DstRect xOff="59080" yOff="720" xSize="57600" ySize="38144" />
    </SimpleSource>
    <SimpleSource>
      <SourceFilename relativeToVRT="0">/mnt/data/srv/carto_private/01_ORIGINAL/world/spain/provincias/madrid/pnoa_max_actual/PNOA_MA_OF_ETRS89_HU30_h25_0559_4.tif</SourceFilename>
      <SourceBand>1</SourceBand>
      <SourceProperties RasterXSize="57344" RasterYSize="37888" DataType="Byte" BlockXSize="256" BlockYSize="256" />
      <SrcRect xOff="0" yOff="0" xSize="57344" ySize="37888" />
      <DstRect xOff="172360" yOff="1800" xSize="57344" ySize="37888" />
    </SimpleSource>
    <SimpleSource>
      <SourceFilename relativeToVRT="0">/mnt/data/srv/carto_private/01_ORIGINAL/world/spain/provincias/madrid/pnoa_max_actual/PNOA_MA_OF_ETRS89_HU30_h25_0582_3.tif</SourceFilename>
      <SourceBand>1</SourceBand>
      <SourceProperties RasterXSize="57600" RasterYSize="38144" DataType="Byte" BlockXSize="256" BlockYSize="256" />
      <SrcRect xOff="0" yOff="0" xSize="57600" ySize="38144" />
      <DstRect xOff="115000" yOff="75320" xSize="57600" ySize="38144" />
    </SimpleSource>
    <SimpleSource>
      <SourceFilename relativeToVRT="0">/mnt/data/srv/carto_private/01_ORIGINAL/world/spain/provincias/madrid/pnoa_max_actual/PNOA_MA_OF_ETRS89_HU30_h25_0559_3.tif</SourceFilename>
      <SourceBand>1</SourceBand>
      <SourceProperties RasterXSize="57600" RasterYSize="38144" DataType="Byte" BlockXSize="256" BlockYSize="256" />
      <SrcRect xOff="0" yOff="0" xSize="57600" ySize="38144" />
      <DstRect xOff="115720" yOff="1320" xSize="57600" ySize="38144" />
    </SimpleSource>
    <SimpleSource>
      <SourceFilename relativeToVRT="0">/mnt/data/srv/carto_private/01_ORIGINAL/world/spain/provincias/madrid/pnoa_max_actual/PNOA_MA_OF_ETRS89_HU30_h25_0605_4.tif</SourceFilename>
      <SourceBand>1</SourceBand>
      <SourceProperties RasterXSize="57600" RasterYSize="37888" DataType="Byte" BlockXSize="256" BlockYSize="256" />
      <SrcRect xOff="0" yOff="0" xSize="57600" ySize="37888" />
      <DstRect xOff="171200" yOff="149800" xSize="57600" ySize="37888" />
    </SimpleSource>
    <SimpleSource>
      <SourceFilename relativeToVRT="0">/mnt/data/srv/carto_private/01_ORIGINAL/world/spain/provincias/madrid/pnoa_max_actual/PNOA_MA_OF_ETRS89_HU30_h25_0630_2.tif</SourceFilename>
      <SourceBand>1</SourceBand>
      <SourceProperties RasterXSize="57856" RasterYSize="37888" DataType="Byte" BlockXSize="256" BlockYSize="256" />
      <SrcRect xOff="0" yOff="0" xSize="57856" ySize="37888" />
      <DstRect xOff="170920" yOff="186800" xSize="57856" ySize="37888" />
    </SimpleSource>
    <SimpleSource>
      <SourceFilename relativeToVRT="0">/mnt/data/srv/carto_private/01_ORIGINAL/world/spain/provincias/madrid/pnoa_max_actual/PNOA_MA_OF_ETRS89_HU30_h25_0605_3.tif</SourceFilename>
      <SourceBand>1</SourceBand>
      <SourceProperties RasterXSize="57856" RasterYSize="38144" DataType="Byte" BlockXSize="256" BlockYSize="256" />
      <SrcRect xOff="0" yOff="0" xSize="57856" ySize="38144" />
      <DstRect xOff="114280" yOff="149320" xSize="57856" ySize="38144" />
    </SimpleSource>
    <SimpleSource>
      <SourceFilename relativeToVRT="0">/mnt/data/srv/carto_private/01_ORIGINAL/world/spain/provincias/madrid/pnoa_max_actual/PNOA_MA_OF_ETRS89_HU30_h25_0581_4.tif</SourceFilename>
      <SourceBand>1</SourceBand>
      <SourceProperties RasterXSize="57600" RasterYSize="38144" DataType="Byte" BlockXSize="256" BlockYSize="256" />
      <SrcRect xOff="0" yOff="0" xSize="57600" ySize="38144" />
      <DstRect xOff="58240" yOff="74720" xSize="57600" ySize="38144" />
    </SimpleSource>
    <SimpleSource>
      <SourceFilename relativeToVRT="0">/mnt/data/srv/carto_private/01_ORIGINAL/world/spain/provincias/madrid/pnoa_max_actual/PNOA_MA_OF_ETRS89_HU30_h25_0605_1.tif</SourceFilename>
      <SourceBand>1</SourceBand>
      <SourceProperties RasterXSize="57600" RasterYSize="38144" DataType="Byte" BlockXSize="256" BlockYSize="256" />
      <SrcRect xOff="0" yOff="0" xSize="57600" ySize="38144" />
      <DstRect xOff="114640" yOff="112320" xSize="57600" ySize="38144" />
    </SimpleSource>
    <SimpleSource>
      <SourceFilename relativeToVRT="0">/mnt/data/srv/carto_private/01_ORIGINAL/world/spain/provincias/madrid/pnoa_max_actual/PNOA_MA_OF_ETRS89_HU30_h25_0558_3.tif</SourceFilename>
      <SourceBand>1</SourceBand>
      <SourceProperties RasterXSize="57600" RasterYSize="38400" DataType="Byte" BlockXSize="256" BlockYSize="256" />
      <SrcRect xOff="0" yOff="0" xSize="57600" ySize="38400" />
      <DstRect xOff="2440" yOff="0" xSize="57600" ySize="38400" />
    </SimpleSource>
    <SimpleSource>
      <SourceFilename relativeToVRT="0">/mnt/data/srv/carto_private/01_ORIGINAL/world/spain/provincias/madrid/pnoa_max_actual/PNOA_MA_OF_ETRS89_HU30_h25_0582_2.tif</SourceFilename>
      <SourceBand>1</SourceBand>
      <SourceProperties RasterXSize="57600" RasterYSize="37888" DataType="Byte" BlockXSize="256" BlockYSize="256" />
      <SrcRect xOff="0" yOff="0" xSize="57600" ySize="37888" />
      <DstRect xOff="172040" yOff="38800" xSize="57600" ySize="37888" />
    </SimpleSource>
    <SimpleSource>
      <SourceFilename relativeToVRT="0">/mnt/data/srv/carto_private/01_ORIGINAL/world/spain/provincias/madrid/pnoa_max_actual/PNOA_MA_OF_ETRS89_HU30_h25_0605_2.tif</SourceFilename>
      <SourceBand>1</SourceBand>
      <SourceProperties RasterXSize="57600" RasterYSize="37888" DataType="Byte" BlockXSize="256" BlockYSize="256" />
      <SrcRect xOff="0" yOff="0" xSize="57600" ySize="37888" />
      <DstRect xOff="171480" yOff="112800" xSize="57600" ySize="37888" />
    </SimpleSource>
    <SimpleSource>
      <SourceFilename relativeToVRT="0">/mnt/data/srv/carto_private/01_ORIGINAL/world/spain/provincias/madrid/pnoa_max_actual/PNOA_MA_OF_ETRS89_HU30_h25_0581_2.tif</SourceFilename>
      <SourceBand>1</SourceBand>
      <SourceProperties RasterXSize="57600" RasterYSize="38144" DataType="Byte" BlockXSize="256" BlockYSize="256" />
      <SrcRect xOff="0" yOff="0" xSize="57600" ySize="38144" />
      <DstRect xOff="58640" yOff="37720" xSize="57600" ySize="38144" />
    </SimpleSource>
    <SimpleSource>
      <SourceFilename relativeToVRT="0">/mnt/data/srv/carto_private/01_ORIGINAL/world/spain/provincias/madrid/pnoa_max_actual/PNOA_MA_OF_ETRS89_HU30_h25_0582_1.tif</SourceFilename>
      <SourceBand>1</SourceBand>
      <SourceProperties RasterXSize="57600" RasterYSize="38144" DataType="Byte" BlockXSize="256" BlockYSize="256" />
      <SrcRect xOff="0" yOff="0" xSize="57600" ySize="38144" />
      <DstRect xOff="115360" yOff="38320" xSize="57600" ySize="38144" />
    </SimpleSource>
    <SimpleSource>
      <SourceFilename relativeToVRT="0">/mnt/data/srv/carto_private/01_ORIGINAL/world/spain/provincias/toledo/pnoa_max_actual/PNOA_MA_OF_ETRS89_HU30_h25_0604_2.tif</SourceFilename>
      <SourceBand>1</SourceBand>
      <SourceProperties RasterXSize="57856" RasterYSize="38144" DataType="Byte" BlockXSize="256" BlockYSize="256" />
      <SrcRect xOff="0" yOff="0" xSize="57856" ySize="38144" />
      <DstRect xOff="57800" yOff="111720" xSize="57856" ySize="38144" />
    </SimpleSource>
    <SimpleSource>
      <SourceFilename relativeToVRT="0">/mnt/data/srv/carto_private/01_ORIGINAL/world/spain/provincias/toledo/pnoa_max_actual/PNOA_MA_OF_ETRS89_HU30_h25_0581_1.tif</SourceFilename>
      <SourceBand>1</SourceBand>
      <SourceProperties RasterXSize="57600" RasterYSize="38400" DataType="Byte" BlockXSize="256" BlockYSize="256" />
      <SrcRect xOff="0" yOff="0" xSize="57600" ySize="38400" />
      <DstRect xOff="1960" yOff="37000" xSize="57600" ySize="38400" />
    </SimpleSource>
    <SimpleSource>
      <SourceFilename relativeToVRT="0">/mnt/data/srv/carto_private/01_ORIGINAL/world/spain/provincias/toledo/pnoa_max_actual/PNOA_MA_OF_ETRS89_HU30_h25_0630_1.tif</SourceFilename>
      <SourceBand>1</SourceBand>
      <SourceProperties RasterXSize="57856" RasterYSize="38144" DataType="Byte" BlockXSize="256" BlockYSize="256" />
      <SrcRect xOff="0" yOff="0" xSize="57856" ySize="38144" />
      <DstRect xOff="113920" yOff="186320" xSize="57856" ySize="38144" />
    </SimpleSource>
    <SimpleSource>
      <SourceFilename relativeToVRT="0">/mnt/data/srv/carto_private/01_ORIGINAL/world/spain/provincias/toledo/pnoa_max_actual/PNOA_MA_OF_ETRS89_HU30_h25_0629_2.tif</SourceFilename>
      <SourceBand>1</SourceBand>
      <SourceProperties RasterXSize="57856" RasterYSize="38144" DataType="Byte" BlockXSize="256" BlockYSize="256" />
      <SrcRect xOff="0" yOff="0" xSize="57856" ySize="38144" />
      <DstRect xOff="56960" yOff="185720" xSize="57856" ySize="38144" />
    </SimpleSource>
    <SimpleSource>
      <SourceFilename relativeToVRT="0">/mnt/data/srv/carto_private/01_ORIGINAL/world/spain/provincias/toledo/pnoa_max_actual/PNOA_MA_OF_ETRS89_HU30_h25_0581_3.tif</SourceFilename>
      <SourceBand>1</SourceBand>
      <SourceProperties RasterXSize="57600" RasterYSize="38400" DataType="Byte" BlockXSize="256" BlockYSize="256" />
      <SrcRect xOff="0" yOff="0" xSize="57600" ySize="38400" />
      <DstRect xOff="1480" yOff="74000" xSize="57600" ySize="38400" />
    </SimpleSource>
    <SimpleSource>
      <SourceFilename relativeToVRT="0">/mnt/data/srv/carto_private/01_ORIGINAL/world/spain/provincias/toledo/pnoa_max_actual/PNOA_MA_OF_ETRS89_HU30_h25_0629_1.tif</SourceFilename>
      <SourceBand>1</SourceBand>
      <SourceProperties RasterXSize="57856" RasterYSize="38400" DataType="Byte" BlockXSize="256" BlockYSize="256" />
      <SrcRect xOff="0" yOff="0" xSize="57856" ySize="38400" />
      <DstRect xOff="0" yOff="185000" xSize="57856" ySize="38400" />
    </SimpleSource>
    <SimpleSource>
      <SourceFilename relativeToVRT="0">/mnt/data/srv/carto_private/01_ORIGINAL/world/spain/provincias/toledo/pnoa_max_actual/PNOA_MA_OF_ETRS89_HU30_h25_0582_3.tif</SourceFilename>
      <SourceBand>1</SourceBand>
      <SourceProperties RasterXSize="57600" RasterYSize="38144" DataType="Byte" BlockXSize="256" BlockYSize="256" />
      <SrcRect xOff="0" yOff="0" xSize="57600" ySize="38144" />
      <DstRect xOff="115000" yOff="75320" xSize="57600" ySize="38144" />
    </SimpleSource>
    <SimpleSource>
      <SourceFilename relativeToVRT="0">/mnt/data/srv/carto_private/01_ORIGINAL/world/spain/provincias/toledo/pnoa_max_actual/PNOA_MA_OF_ETRS89_HU30_h25_0605_4.tif</SourceFilename>
      <SourceBand>1</SourceBand>
      <SourceProperties RasterXSize="57600" RasterYSize="37888" DataType="Byte" BlockXSize="256" BlockYSize="256" />
      <SrcRect xOff="0" yOff="0" xSize="57600" ySize="37888" />
      <DstRect xOff="171200" yOff="149800" xSize="57600" ySize="37888" />
    </SimpleSource>
    <SimpleSource>
      <SourceFilename relativeToVRT="0">/mnt/data/srv/carto_private/01_ORIGINAL/world/spain/provincias/toledo/pnoa_max_actual/PNOA_MA_OF_ETRS89_HU30_h25_0604_1.tif</SourceFilename>
      <SourceBand>1</SourceBand>
      <SourceProperties RasterXSize="57856" RasterYSize="38400" DataType="Byte" BlockXSize="256" BlockYSize="256" />
      <SrcRect xOff="0" yOff="0" xSize="57856" ySize="38400" />
      <DstRect xOff="960" yOff="111000" xSize="57856" ySize="38400" />
    </SimpleSource>
    <SimpleSource>
      <SourceFilename relativeToVRT="0">/mnt/data/srv/carto_private/01_ORIGINAL/world/spain/provincias/toledo/pnoa_max_actual/PNOA_MA_OF_ETRS89_HU30_h25_0604_4.tif</SourceFilename>
      <SourceBand>1</SourceBand>
      <SourceProperties RasterXSize="57856" RasterYSize="38144" DataType="Byte" BlockXSize="256" BlockYSize="256" />
      <SrcRect xOff="0" yOff="0" xSize="57856" ySize="38144" />
      <DstRect xOff="57400" yOff="148720" xSize="57856" ySize="38144" />
    </SimpleSource>
    <SimpleSource>
      <SourceFilename relativeToVRT="0">/mnt/data/srv/carto_private/01_ORIGINAL/world/spain/provincias/toledo/pnoa_max_actual/PNOA_MA_OF_ETRS89_HU30_h25_0630_2.tif</SourceFilename>
      <SourceBand>1</SourceBand>
      <SourceProperties RasterXSize="57856" RasterYSize="37888" DataType="Byte" BlockXSize="256" BlockYSize="256" />
      <SrcRect xOff="0" yOff="0" xSize="57856" ySize="37888" />
      <DstRect xOff="170920" yOff="186800" xSize="57856" ySize="37888" />
    </SimpleSource>
    <SimpleSource>
      <SourceFilename relativeToVRT="0">/mnt/data/srv/carto_private/01_ORIGINAL/world/spain/provincias/toledo/pnoa_max_actual/PNOA_MA_OF_ETRS89_HU30_h25_0605_3.tif</SourceFilename>
      <SourceBand>1</SourceBand>
      <SourceProperties RasterXSize="57856" RasterYSize="38144" DataType="Byte" BlockXSize="256" BlockYSize="256" />
      <SrcRect xOff="0" yOff="0" xSize="57856" ySize="38144" />
      <DstRect xOff="114280" yOff="149320" xSize="57856" ySize="38144" />
    </SimpleSource>
    <SimpleSource>
      <SourceFilename relativeToVRT="0">/mnt/data/srv/carto_private/01_ORIGINAL/world/spain/provincias/toledo/pnoa_max_actual/PNOA_MA_OF_ETRS89_HU30_h25_0581_4.tif</SourceFilename>
      <SourceBand>1</SourceBand>
      <SourceProperties RasterXSize="57600" RasterYSize="38144" DataType="Byte" BlockXSize="256" BlockYSize="256" />
      <SrcRect xOff="0" yOff="0" xSize="57600" ySize="38144" />
      <DstRect xOff="58240" yOff="74720" xSize="57600" ySize="38144" />
    </SimpleSource>
    <SimpleSource>
      <SourceFilename relativeToVRT="0">/mnt/data/srv/carto_private/01_ORIGINAL/world/spain/provincias/toledo/pnoa_max_actual/PNOA_MA_OF_ETRS89_HU30_h25_0605_1.tif</SourceFilename>
      <SourceBand>1</SourceBand>
      <SourceProperties RasterXSize="57600" RasterYSize="38144" DataType="Byte" BlockXSize="256" BlockYSize="256" />
      <SrcRect xOff="0" yOff="0" xSize="57600" ySize="38144" />
      <DstRect xOff="114640" yOff="112320" xSize="57600" ySize="38144" />
    </SimpleSource>
    <SimpleSource>
      <SourceFilename relativeToVRT="0">/mnt/data/srv/carto_private/01_ORIGINAL/world/spain/provincias/toledo/pnoa_max_actual/PNOA_MA_OF_ETRS89_HU30_h25_0605_2.tif</SourceFilename>
      <SourceBand>1</SourceBand>
      <SourceProperties RasterXSize="57600" RasterYSize="37888" DataType="Byte" BlockXSize="256" BlockYSize="256" />
      <SrcRect xOff="0" yOff="0" xSize="57600" ySize="37888" />
      <DstRect xOff="171480" yOff="112800" xSize="57600" ySize="37888" />
    </SimpleSource>
    <SimpleSource>
      <SourceFilename relativeToVRT="0">/mnt/data/srv/carto_private/01_ORIGINAL/world/spain/provincias/toledo/pnoa_max_actual/PNOA_MA_OF_ETRS89_HU30_h25_0604_3.tif</SourceFilename>
      <SourceBand>1</SourceBand>
      <SourceProperties RasterXSize="57856" RasterYSize="38400" DataType="Byte" BlockXSize="256" BlockYSize="256" />
      <SrcRect xOff="0" yOff="0" xSize="57856" ySize="38400" />
      <DstRect xOff="480" yOff="148000" xSize="57856" ySize="38400" />
    </SimpleSource>
  </VRTRasterBand>
  <VRTRasterBand dataType="Byte" band="2">
    <ColorInterp>Green</ColorInterp>
    <SimpleSource>
      <SourceFilename relativeToVRT="0">/mnt/data/srv/carto_private/01_ORIGINAL/world/spain/provincias/madrid/pnoa_max_actual/PNOA_MA_OF_ETRS89_HU30_h25_0581_1.tif</SourceFilename>
      <SourceBand>2</SourceBand>
      <SourceProperties RasterXSize="57600" RasterYSize="38400" DataType="Byte" BlockXSize="256" BlockYSize="256" />
      <SrcRect xOff="0" yOff="0" xSize="57600" ySize="38400" />
      <DstRect xOff="1960" yOff="37000" xSize="57600" ySize="38400" />
    </SimpleSource>
    <SimpleSource>
      <SourceFilename relativeToVRT="0">/mnt/data/srv/carto_private/01_ORIGINAL/world/spain/provincias/madrid/pnoa_max_actual/PNOA_MA_OF_ETRS89_HU30_h25_0630_1.tif</SourceFilename>
      <SourceBand>2</SourceBand>
      <SourceProperties RasterXSize="57856" RasterYSize="38144" DataType="Byte" BlockXSize="256" BlockYSize="256" />
      <SrcRect xOff="0" yOff="0" xSize="57856" ySize="38144" />
      <DstRect xOff="113920" yOff="186320" xSize="57856" ySize="38144" />
    </SimpleSource>
    <SimpleSource>
      <SourceFilename relativeToVRT="0">/mnt/data/srv/carto_private/01_ORIGINAL/world/spain/provincias/madrid/pnoa_max_actual/PNOA_MA_OF_ETRS89_HU30_h25_0629_2.tif</SourceFilename>
      <SourceBand>2</SourceBand>
      <SourceProperties RasterXSize="57856" RasterYSize="38144" DataType="Byte" BlockXSize="256" BlockYSize="256" />
      <SrcRect xOff="0" yOff="0" xSize="57856" ySize="38144" />
      <DstRect xOff="56960" yOff="185720" xSize="57856" ySize="38144" />
    </SimpleSource>
    <SimpleSource>
      <SourceFilename relativeToVRT="0">/mnt/data/srv/carto_private/01_ORIGINAL/world/spain/provincias/madrid/pnoa_max_actual/PNOA_MA_OF_ETRS89_HU30_h25_0581_3.tif</SourceFilename>
      <SourceBand>2</SourceBand>
      <SourceProperties RasterXSize="57600" RasterYSize="38400" DataType="Byte" BlockXSize="256" BlockYSize="256" />
      <SrcRect xOff="0" yOff="0" xSize="57600" ySize="38400" />
      <DstRect xOff="1480" yOff="74000" xSize="57600" ySize="38400" />
    </SimpleSource>
    <SimpleSource>
      <SourceFilename relativeToVRT="0">/mnt/data/srv/carto_private/01_ORIGINAL/world/spain/provincias/madrid/pnoa_max_actual/PNOA_MA_OF_ETRS89_HU30_h25_0582_4.tif</SourceFilename>
      <SourceBand>2</SourceBand>
      <SourceProperties RasterXSize="57600" RasterYSize="37888" DataType="Byte" BlockXSize="256" BlockYSize="256" />
      <SrcRect xOff="0" yOff="0" xSize="57600" ySize="37888" />
      <DstRect xOff="171760" yOff="75800" xSize="57600" ySize="37888" />
    </SimpleSource>
    <SimpleSource>
      <SourceFilename relativeToVRT="0">/mnt/data/srv/carto_private/01_ORIGINAL/world/spain/provincias/madrid/pnoa_max_actual/PNOA_MA_OF_ETRS89_HU30_h25_0558_4.tif</SourceFilename>
      <SourceBand>2</SourceBand>
      <SourceProperties RasterXSize="57600" RasterYSize="38144" DataType="Byte" BlockXSize="256" BlockYSize="256" />
      <SrcRect xOff="0" yOff="0" xSize="57600" ySize="38144" />
      <DstRect xOff="59080" yOff="720" xSize="57600" ySize="38144" />
    </SimpleSource>
    <SimpleSource>
      <SourceFilename relativeToVRT="0">/mnt/data/srv/carto_private/01_ORIGINAL/world/spain/provincias/madrid/pnoa_max_actual/PNOA_MA_OF_ETRS89_HU30_h25_0559_4.tif</SourceFilename>
      <SourceBand>2</SourceBand>
      <SourceProperties RasterXSize="57344" RasterYSize="37888" DataType="Byte" BlockXSize="256" BlockYSize="256" />
      <SrcRect xOff="0" yOff="0" xSize="57344" ySize="37888" />
      <DstRect xOff="172360" yOff="1800" xSize="57344" ySize="37888" />
    </SimpleSource>
    <SimpleSource>
      <SourceFilename relativeToVRT="0">/mnt/data/srv/carto_private/01_ORIGINAL/world/spain/provincias/madrid/pnoa_max_actual/PNOA_MA_OF_ETRS89_HU30_h25_0582_3.tif</SourceFilename>
      <SourceBand>2</SourceBand>
      <SourceProperties RasterXSize="57600" RasterYSize="38144" DataType="Byte" BlockXSize="256" BlockYSize="256" />
      <SrcRect xOff="0" yOff="0" xSize="57600" ySize="38144" />
      <DstRect xOff="115000" yOff="75320" xSize="57600" ySize="38144" />
    </SimpleSource>
    <SimpleSource>
      <SourceFilename relativeToVRT="0">/mnt/data/srv/carto_private/01_ORIGINAL/world/spain/provincias/madrid/pnoa_max_actual/PNOA_MA_OF_ETRS89_HU30_h25_0559_3.tif</SourceFilename>
      <SourceBand>2</SourceBand>
      <SourceProperties RasterXSize="57600" RasterYSize="38144" DataType="Byte" BlockXSize="256" BlockYSize="256" />
      <SrcRect xOff="0" yOff="0" xSize="57600" ySize="38144" />
      <DstRect xOff="115720" yOff="1320" xSize="57600" ySize="38144" />
    </SimpleSource>
    <SimpleSource>
      <SourceFilename relativeToVRT="0">/mnt/data/srv/carto_private/01_ORIGINAL/world/spain/provincias/madrid/pnoa_max_actual/PNOA_MA_OF_ETRS89_HU30_h25_0605_4.tif</SourceFilename>
      <SourceBand>2</SourceBand>
      <SourceProperties RasterXSize="57600" RasterYSize="37888" DataType="Byte" BlockXSize="256" BlockYSize="256" />
      <SrcRect xOff="0" yOff="0" xSize="57600" ySize="37888" />
      <DstRect xOff="171200" yOff="149800" xSize="57600" ySize="37888" />
    </SimpleSource>
    <SimpleSource>
