<VRTDataset rasterXSize="231936" rasterYSize="261648">
  <SRS dataAxisToSRSAxisMapping="1,2">PROJCS["ETRS89 / UTM zone 30N",GEOGCS["ETRS89",DATUM["European_Terrestrial_Reference_System_1989",SPHEROID["GRS 1980",6378137,298.257222101,AUTHORITY["EPSG","7019"]],AUTHORITY["EPSG","6258"]],PRIMEM["Greenwich",0,AUTHORITY["EPSG","8901"]],UNIT["degree",0.0174532925199433,AUTHORITY["EPSG","9122"]],AUTHORITY["EPSG","4258"]],PROJECTION["Transverse_Mercator"],PARAMETER["latitude_of_origin",0],PARAMETER["central_meridian",-3],PARAMETER["scale_factor",0.9996],PARAMETER["false_easting",500000],PARAMETER["false_northing",0],UNIT["metre",1,AUTHORITY["EPSG","9001"]],AXIS["Easting",EAST],AXIS["Northing",NORTH],AUTHORITY["EPSG","25830"]]</SRS>
  <GeoTransform>  3.9760000000000000e+05,  2.5000000000000000e-01,  0.0000000000000000e+00,  4.4192400000000000e+06,  0.0000000000000000e+00, -2.5000000000000000e-01</GeoTransform>
  <VRTRasterBand dataType="Byte" band="1">
    <ColorInterp>Red</ColorInterp>
    <SimpleSource>
      <SourceFilename relativeToVRT="0">/mnt/data/srv/carto_private/01_ORIGINAL/world/spain/provincias/madrid/pnoa_max_actual/PNOA_MA_OF_ETRS89_HU30_h25_0629_4.tif</SourceFilename>
      <SourceBand>1</SourceBand>
      <SourceProperties RasterXSize="57856" RasterYSize="38144" DataType="Byte" BlockXSize="256" BlockYSize="256" />
      <SrcRect xOff="0" yOff="0" xSize="57856" ySize="38144" />
      <DstRect xOff="59960" yOff="720" xSize="57856" ySize="38144" />
    </SimpleSource>
    <SimpleSource>
      <SourceFilename relativeToVRT="0">/mnt/data/srv/carto_private/01_ORIGINAL/world/spain/provincias/madrid/pnoa_max_actual/PNOA_MA_OF_ETRS89_HU30_h25_0630_3.tif</SourceFilename>
      <SourceBand>1</SourceBand>
      <SourceProperties RasterXSize="57856" RasterYSize="38144" DataType="Byte" BlockXSize="256" BlockYSize="256" />
      <SrcRect xOff="0" yOff="0" xSize="57856" ySize="38144" />
      <DstRect xOff="117040" yOff="1320" xSize="57856" ySize="38144" />
    </SimpleSource>
    <SimpleSource>
      <SourceFilename relativeToVRT="0">/mnt/data/srv/carto_private/01_ORIGINAL/world/spain/provincias/toledo/pnoa_max_actual/PNOA_MA_OF_ETRS89_HU30_h25_0686_3.tif</SourceFilename>
      <SourceBand>1</SourceBand>
      <SourceProperties RasterXSize="58112" RasterYSize="38144" DataType="Byte" BlockXSize="256" BlockYSize="256" />
      <SrcRect xOff="0" yOff="0" xSize="58112" ySize="38144" />
      <DstRect xOff="115600" yOff="149280" xSize="58112" ySize="38144" />
    </SimpleSource>
    <SimpleSource>
      <SourceFilename relativeToVRT="0">/mnt/data/srv/carto_private/01_ORIGINAL/world/spain/provincias/toledo/pnoa_max_actual/PNOA_MA_OF_ETRS89_HU30_h25_0712_4.tif</SourceFilename>
      <SourceBand>1</SourceBand>
      <SourceProperties RasterXSize="58368" RasterYSize="37888" DataType="Byte" BlockXSize="256" BlockYSize="256" />
      <SrcRect xOff="0" yOff="0" xSize="58368" ySize="37888" />
      <DstRect xOff="172360" yOff="223760" xSize="58368" ySize="37888" />
    </SimpleSource>
    <SimpleSource>
      <SourceFilename relativeToVRT="0">/mnt/data/srv/carto_private/01_ORIGINAL/world/spain/provincias/toledo/pnoa_max_actual/PNOA_MA_OF_ETRS89_HU30_h25_0630_4.tif</SourceFilename>
      <SourceBand>1</SourceBand>
      <SourceProperties RasterXSize="57856" RasterYSize="37888" DataType="Byte" BlockXSize="256" BlockYSize="256" />
      <SrcRect xOff="0" yOff="0" xSize="57856" ySize="37888" />
      <DstRect xOff="174080" yOff="1800" xSize="57856" ySize="37888" />
    </SimpleSource>
    <SimpleSource>
      <SourceFilename relativeToVRT="0">/mnt/data/srv/carto_private/01_ORIGINAL/world/spain/provincias/toledo/pnoa_max_actual/PNOA_MA_OF_ETRS89_HU30_h25_0686_1.tif</SourceFilename>
      <SourceBand>1</SourceBand>
      <SourceProperties RasterXSize="58112" RasterYSize="38144" DataType="Byte" BlockXSize="256" BlockYSize="256" />
      <SrcRect xOff="0" yOff="0" xSize="58112" ySize="38144" />
      <DstRect xOff="115960" yOff="112280" xSize="58112" ySize="38144" />
    </SimpleSource>
    <SimpleSource>
      <SourceFilename relativeToVRT="0">/mnt/data/srv/carto_private/01_ORIGINAL/world/spain/provincias/toledo/pnoa_max_actual/PNOA_MA_OF_ETRS89_HU30_h25_0658_1.tif</SourceFilename>
      <SourceBand>1</SourceBand>
      <SourceProperties RasterXSize="57856" RasterYSize="38144" DataType="Byte" BlockXSize="256" BlockYSize="256" />
      <SrcRect xOff="0" yOff="0" xSize="57856" ySize="38144" />
      <DstRect xOff="116680" yOff="38320" xSize="57856" ySize="38144" />
    </SimpleSource>
    <SimpleSource>
      <SourceFilename relativeToVRT="0">/mnt/data/srv/carto_private/01_ORIGINAL/world/spain/provincias/toledo/pnoa_max_actual/PNOA_MA_OF_ETRS89_HU30_h25_0657_3.tif</SourceFilename>
      <SourceBand>1</SourceBand>
      <SourceProperties RasterXSize="58112" RasterYSize="38400" DataType="Byte" BlockXSize="256" BlockYSize="256" />
      <SrcRect xOff="0" yOff="0" xSize="58112" ySize="38400" />
      <DstRect xOff="1960" yOff="74000" xSize="58112" ySize="38400" />
    </SimpleSource>
    <SimpleSource>
      <SourceFilename relativeToVRT="0">/mnt/data/srv/carto_private/01_ORIGINAL/world/spain/provincias/toledo/pnoa_max_actual/PNOA_MA_OF_ETRS89_HU30_h25_0685_2.tif</SourceFilename>
      <SourceBand>1</SourceBand>
      <SourceProperties RasterXSize="58112" RasterYSize="38144" DataType="Byte" BlockXSize="256" BlockYSize="256" />
      <SrcRect xOff="0" yOff="0" xSize="58112" ySize="38144" />
      <DstRect xOff="58720" yOff="111720" xSize="58112" ySize="38144" />
    </SimpleSource>
    <SimpleSource>
      <SourceFilename relativeToVRT="0">/mnt/data/srv/carto_private/01_ORIGINAL/world/spain/provincias/toledo/pnoa_max_actual/PNOA_MA_OF_ETRS89_HU30_h25_0657_2.tif</SourceFilename>
      <SourceBand>1</SourceBand>
      <SourceProperties RasterXSize="58112" RasterYSize="38144" DataType="Byte" BlockXSize="256" BlockYSize="256" />
      <SrcRect xOff="0" yOff="0" xSize="58112" ySize="38144" />
      <DstRect xOff="59560" yOff="37720" xSize="58112" ySize="38144" />
    </SimpleSource>
    <SimpleSource>
      <SourceFilename relativeToVRT="0">/mnt/data/srv/carto_private/01_ORIGINAL/world/spain/provincias/toledo/pnoa_max_actual/PNOA_MA_OF_ETRS89_HU30_h25_0657_4.tif</SourceFilename>
      <SourceBand>1</SourceBand>
      <SourceProperties RasterXSize="58112" RasterYSize="38144" DataType="Byte" BlockXSize="256" BlockYSize="256" />
      <SrcRect xOff="0" yOff="0" xSize="58112" ySize="38144" />
      <DstRect xOff="59120" yOff="74720" xSize="58112" ySize="38144" />
    </SimpleSource>
    <SimpleSource>
      <SourceFilename relativeToVRT="0">/mnt/data/srv/carto_private/01_ORIGINAL/world/spain/provincias/toledo/pnoa_max_actual/PNOA_MA_OF_ETRS89_HU30_h25_0657_1.tif</SourceFilename>
      <SourceBand>1</SourceBand>
      <SourceProperties RasterXSize="58112" RasterYSize="38400" DataType="Byte" BlockXSize="256" BlockYSize="256" />
      <SrcRect xOff="0" yOff="0" xSize="58112" ySize="38400" />
      <DstRect xOff="2440" yOff="37000" xSize="58112" ySize="38400" />
    </SimpleSource>
    <SimpleSource>
      <SourceFilename relativeToVRT="0">/mnt/data/srv/carto_private/01_ORIGINAL/world/spain/provincias/toledo/pnoa_max_actual/PNOA_MA_OF_ETRS89_HU30_h25_0685_3.tif</SourceFilename>
      <SourceBand>1</SourceBand>
      <SourceProperties RasterXSize="58368" RasterYSize="38144" DataType="Byte" BlockXSize="256" BlockYSize="256" />
      <SrcRect xOff="0" yOff="0" xSize="58368" ySize="38144" />
      <DstRect xOff="960" yOff="148000" xSize="58368" ySize="38144" />
    </SimpleSource>
    <SimpleSource>
      <SourceFilename relativeToVRT="0">/mnt/data/srv/carto_private/01_ORIGINAL/world/spain/provincias/toledo/pnoa_max_actual/PNOA_MA_OF_ETRS89_HU30_h25_0629_4.tif</SourceFilename>
      <SourceBand>1</SourceBand>
      <SourceProperties RasterXSize="57856" RasterYSize="38144" DataType="Byte" BlockXSize="256" BlockYSize="256" />
      <SrcRect xOff="0" yOff="0" xSize="57856" ySize="38144" />
      <DstRect xOff="59960" yOff="720" xSize="57856" ySize="38144" />
    </SimpleSource>
    <SimpleSource>
      <SourceFilename relativeToVRT="0">/mnt/data/srv/carto_private/01_ORIGINAL/world/spain/provincias/toledo/pnoa_max_actual/PNOA_MA_OF_ETRS89_HU30_h25_0712_3.tif</SourceFilename>
      <SourceBand>1</SourceBand>
      <SourceProperties RasterXSize="58368" RasterYSize="38144" DataType="Byte" BlockXSize="256" BlockYSize="256" />
      <SrcRect xOff="0" yOff="0" xSize="58368" ySize="38144" />
      <DstRect xOff="114920" yOff="223280" xSize="58368" ySize="38144" />
    </SimpleSource>
    <SimpleSource>
      <SourceFilename relativeToVRT="0">/mnt/data/srv/carto_private/01_ORIGINAL/world/spain/provincias/toledo/pnoa_max_actual/PNOA_MA_OF_ETRS89_HU30_h25_0712_2.tif</SourceFilename>
      <SourceBand>1</SourceBand>
      <SourceProperties RasterXSize="58112" RasterYSize="37888" DataType="Byte" BlockXSize="256" BlockYSize="256" />
      <SrcRect xOff="0" yOff="0" xSize="58112" ySize="37888" />
      <DstRect xOff="172640" yOff="186760" xSize="58112" ySize="37888" />
    </SimpleSource>
    <SimpleSource>
      <SourceFilename relativeToVRT="0">/mnt/data/srv/carto_private/01_ORIGINAL/world/spain/provincias/toledo/pnoa_max_actual/PNOA_MA_OF_ETRS89_HU30_h25_0685_4.tif</SourceFilename>
      <SourceBand>1</SourceBand>
      <SourceProperties RasterXSize="58368" RasterYSize="38144" DataType="Byte" BlockXSize="256" BlockYSize="256" />
      <SrcRect xOff="0" yOff="0" xSize="58368" ySize="38144" />
      <DstRect xOff="58280" yOff="148680" xSize="58368" ySize="38144" />
    </SimpleSource>
    <SimpleSource>
      <SourceFilename relativeToVRT="0">/mnt/data/srv/carto_private/01_ORIGINAL/world/spain/provincias/toledo/pnoa_max_actual/PNOA_MA_OF_ETRS89_HU30_h25_0712_1.tif</SourceFilename>
      <SourceBand>1</SourceBand>
      <SourceProperties RasterXSize="58112" RasterYSize="38144" DataType="Byte" BlockXSize="256" BlockYSize="256" />
      <SrcRect xOff="0" yOff="0" xSize="58112" ySize="38144" />
      <DstRect xOff="115280" yOff="186280" xSize="58112" ySize="38144" />
    </SimpleSource>
    <SimpleSource>
      <SourceFilename relativeToVRT="0">/mnt/data/srv/carto_private/01_ORIGINAL/world/spain/provincias/toledo/pnoa_max_actual/PNOA_MA_OF_ETRS89_HU30_h25_0686_4.tif</SourceFilename>
      <SourceBand>1</SourceBand>
      <SourceProperties RasterXSize="58112" RasterYSize="37888" DataType="Byte" BlockXSize="256" BlockYSize="256" />
      <SrcRect xOff="0" yOff="0" xSize="58112" ySize="37888" />
      <DstRect xOff="172920" yOff="149800" xSize="58112" ySize="37888" />
    </SimpleSource>
    <SimpleSource>
      <SourceFilename relativeToVRT="0">/mnt/data/srv/carto_private/01_ORIGINAL/world/spain/provincias/toledo/pnoa_max_actual/PNOA_MA_OF_ETRS89_HU30_h25_0686_2.tif</SourceFilename>
      <SourceBand>1</SourceBand>
      <SourceProperties RasterXSize="58112" RasterYSize="37888" DataType="Byte" BlockXSize="256" BlockYSize="256" />
      <SrcRect xOff="0" yOff="0" xSize="58112" ySize="37888" />
      <DstRect xOff="173200" yOff="112800" xSize="58112" ySize="37888" />
    </SimpleSource>
    <SimpleSource>
      <SourceFilename relativeToVRT="0">/mnt/data/srv/carto_private/01_ORIGINAL/world/spain/provincias/toledo/pnoa_max_actual/PNOA_MA_OF_ETRS89_HU30_h25_0711_3.tif</SourceFilename>
      <SourceBand>1</SourceBand>
      <SourceProperties RasterXSize="58368" RasterYSize="38144" DataType="Byte" BlockXSize="256" BlockYSize="256" />
      <SrcRect xOff="0" yOff="0" xSize="58368" ySize="38144" />
      <DstRect xOff="0" yOff="222000" xSize="58368" ySize="38144" />
    </SimpleSource>
    <SimpleSource>
      <SourceFilename relativeToVRT="0">/mnt/data/srv/carto_private/01_ORIGINAL/world/spain/provincias/toledo/pnoa_max_actual/PNOA_MA_OF_ETRS89_HU30_h25_0685_1.tif</SourceFilename>
      <SourceBand>1</SourceBand>
      <SourceProperties RasterXSize="58112" RasterYSize="38144" DataType="Byte" BlockXSize="256" BlockYSize="256" />
      <SrcRect xOff="0" yOff="0" xSize="58112" ySize="38144" />
      <DstRect xOff="1480" yOff="111000" xSize="58112" ySize="38144" />
    </SimpleSource>
    <SimpleSource>
      <SourceFilename relativeToVRT="0">/mnt/data/srv/carto_private/01_ORIGINAL/world/spain/provincias/toledo/pnoa_max_actual/PNOA_MA_OF_ETRS89_HU30_h25_0711_4.tif</SourceFilename>
      <SourceBand>1</SourceBand>
      <SourceProperties RasterXSize="58368" RasterYSize="38144" DataType="Byte" BlockXSize="256" BlockYSize="256" />
      <SrcRect xOff="0" yOff="0" xSize="58368" ySize="38144" />
      <DstRect xOff="57440" yOff="222680" xSize="58368" ySize="38144" />
    </SimpleSource>
    <SimpleSource>
      <SourceFilename relativeToVRT="0">/mnt/data/srv/carto_private/01_ORIGINAL/world/spain/provincias/toledo/pnoa_max_actual/PNOA_MA_OF_ETRS89_HU30_h25_0658_2.tif</SourceFilename>
      <SourceBand>1</SourceBand>
      <SourceProperties RasterXSize="57856" RasterYSize="37888" DataType="Byte" BlockXSize="256" BlockYSize="256" />
      <SrcRect xOff="0" yOff="0" xSize="57856" ySize="37888" />
      <DstRect xOff="173800" yOff="38800" xSize="57856" ySize="37888" />
    </SimpleSource>
    <SimpleSource>
      <SourceFilename relativeToVRT="0">/mnt/data/srv/carto_private/01_ORIGINAL/world/spain/provincias/toledo/pnoa_max_actual/PNOA_MA_OF_ETRS89_HU30_h25_0630_3.tif</SourceFilename>
      <SourceBand>1</SourceBand>
      <SourceProperties RasterXSize="57856" RasterYSize="38144" DataType="Byte" BlockXSize="256" BlockYSize="256" />
      <SrcRect xOff="0" yOff="0" xSize="57856" ySize="38144" />
      <DstRect xOff="117040" yOff="1320" xSize="57856" ySize="38144" />
    </SimpleSource>
    <SimpleSource>
      <SourceFilename relativeToVRT="0">/mnt/data/srv/carto_private/01_ORIGINAL/world/spain/provincias/toledo/pnoa_max_actual/PNOA_MA_OF_ETRS89_HU30_h25_0658_3.tif</SourceFilename>
      <SourceBand>1</SourceBand>
      <SourceProperties RasterXSize="58112" RasterYSize="38144" DataType="Byte" BlockXSize="256" BlockYSize="256" />
      <SrcRect xOff="0" yOff="0" xSize="58112" ySize="38144" />
      <DstRect xOff="116320" yOff="75320" xSize="58112" ySize="38144" />
    </SimpleSource>
    <SimpleSource>
      <SourceFilename relativeToVRT="0">/mnt/data/srv/carto_private/01_ORIGINAL/world/spain/provincias/toledo/pnoa_max_actual/PNOA_MA_OF_ETRS89_HU30_h25_0711_1.tif</SourceFilename>
      <SourceBand>1</SourceBand>
      <SourceProperties RasterXSize="58368" RasterYSize="38144" DataType="Byte" BlockXSize="256" BlockYSize="256" />
      <SrcRect xOff="0" yOff="0" xSize="58368" ySize="38144" />
      <DstRect xOff="480" yOff="185000" xSize="58368" ySize="38144" />
    </SimpleSource>
    <SimpleSource>
      <SourceFilename relativeToVRT="0">/mnt/data/srv/carto_private/01_ORIGINAL/world/spain/provincias/toledo/pnoa_max_actual/PNOA_MA_OF_ETRS89_HU30_h25_0629_3.tif</SourceFilename>
      <SourceBand>1</SourceBand>
      <SourceProperties RasterXSize="58112" RasterYSize="38400" DataType="Byte" BlockXSize="256" BlockYSize="256" />
      <SrcRect xOff="0" yOff="0" xSize="58112" ySize="38400" />
      <DstRect xOff="2920" yOff="0" xSize="58112" ySize="38400" />
    </SimpleSource>
    <SimpleSource>
      <SourceFilename relativeToVRT="0">/mnt/data/srv/carto_private/01_ORIGINAL/world/spain/provincias/toledo/pnoa_max_actual/PNOA_MA_OF_ETRS89_HU30_h25_0711_2.tif</SourceFilename>
      <SourceBand>1</SourceBand>
      <SourceProperties RasterXSize="58368" RasterYSize="38144" DataType="Byte" BlockXSize="256" BlockYSize="256" />
      <SrcRect xOff="0" yOff="0" xSize="58368" ySize="38144" />
      <DstRect xOff="57880" yOff="185680" xSize="58368" ySize="38144" />
    </SimpleSource>
    <SimpleSource>
      <SourceFilename relativeToVRT="0">/mnt/data/srv/carto_private/01_ORIGINAL/world/spain/provincias/toledo/pnoa_max_actual/PNOA_MA_OF_ETRS89_HU30_h25_0658_4.tif</SourceFilename>
      <SourceBand>1</SourceBand>
      <SourceProperties RasterXSize="57856" RasterYSize="37888" DataType="Byte" BlockXSize="256" BlockYSize="256" />
      <SrcRect xOff="0" yOff="0" xSize="57856" ySize="37888" />
      <DstRect xOff="173520" yOff="75800" xSize="57856" ySize="37888" />
    </SimpleSource>
  </VRTRasterBand>
  <VRTRasterBand dataType="Byte" band="2">
    <ColorInterp>Green</ColorInterp>
    <SimpleSource>
      <SourceFilename relativeToVRT="0">/mnt/data/srv/carto_private/01_ORIGINAL/world/spain/provincias/madrid/pnoa_max_actual/PNOA_MA_OF_ETRS89_HU30_h25_0629_4.tif</SourceFilename>
      <SourceBand>2</SourceBand>
      <SourceProperties RasterXSize="57856" RasterYSize="38144" DataType="Byte" BlockXSize="256" BlockYSize="256" />
      <SrcRect xOff="0" yOff="0" xSize="57856" ySize="38144" />
      <DstRect xOff="59960" yOff="720" xSize="57856" ySize="38144" />
    </SimpleSource>
    <SimpleSource>
      <SourceFilename relativeToVRT="0">/mnt/data/srv/carto_private/01_ORIGINAL/world/spain/provincias/madrid/pnoa_max_actual/PNOA_MA_OF_ETRS89_HU30_h25_0630_3.tif</SourceFilename>
      <SourceBand>2</SourceBand>
      <SourceProperties RasterXSize="57856" RasterYSize="38144" DataType="Byte" BlockXSize="256" BlockYSize="256" />
      <SrcRect xOff="0" yOff="0" xSize="57856" ySize="38144" />
      <DstRect xOff="117040" yOff="1320" xSize="57856" ySize="38144" />
    </SimpleSource>
    <SimpleSource>
      <SourceFilename relativeToVRT="0">/mnt/data/srv/carto_private/01_ORIGINAL/world/spain/provincias/toledo/pnoa_max_actual/PNOA_MA_OF_ETRS89_HU30_h25_0686_3.tif</SourceFilename>
      <SourceBand>2</SourceBand>
      <SourceProperties RasterXSize="58112" RasterYSize="38144" DataType="Byte" BlockXSize="256" BlockYSize="256" />
      <SrcRect xOff="0" yOff="0" xSize="58112" ySize="38144" />
      <DstRect xOff="115600" yOff="149280" xSize="58112" ySize="38144" />
    </SimpleSource>
    <SimpleSource>
      <SourceFilename relativeToVRT="0">/mnt/data/srv/carto_private/01_ORIGINAL/world/spain/provincias/toledo/pnoa_max_actual/PNOA_MA_OF_ETRS89_HU30_h25_0712_4.tif</SourceFilename>
      <SourceBand>2</SourceBand>
      <SourceProperties RasterXSize="58368" RasterYSize="37888" DataType="Byte" BlockXSize="256" BlockYSize="256" />
      <SrcRect xOff="0" yOff="0" xSize="58368" ySize="37888" />
      <DstRect xOff="172360" yOff="223760" xSize="58368" ySize="37888" />
    </SimpleSource>
    <SimpleSource>
      <SourceFilename relativeToVRT="0">/mnt/data/srv/carto_private/01_ORIGINAL/world/spain/provincias/toledo/pnoa_max_actual/PNOA_MA_OF_ETRS89_HU30_h25_0630_4.tif</SourceFilename>
      <SourceBand>2</SourceBand>
      <SourceProperties RasterXSize="57856" RasterYSize="37888" DataType="Byte" BlockXSize="256" BlockYSize="256" />
      <SrcRect xOff="0" yOff="0" xSize="57856" ySize="37888" />
      <DstRect xOff="174080" yOff="1800" xSize="57856" ySize="37888" />
    </SimpleSource>
    <SimpleSource>
      <SourceFilename relativeToVRT="0">/mnt/data/srv/carto_private/01_ORIGINAL/world/spain/provincias/toledo/pnoa_max_actual/PNOA_MA_OF_ETRS89_HU30_h25_0686_1.tif</SourceFilename>
      <SourceBand>2</SourceBand>
      <SourceProperties RasterXSize="58112" RasterYSize="38144" DataType="Byte" BlockXSize="256" BlockYSize="256" />
      <SrcRect xOff="0" yOff="0" xSize="58112" ySize="38144" />
      <DstRect xOff="115960" yOff="112280" xSize="58112" ySize="38144" />
    </SimpleSource>
    <SimpleSource>
      <SourceFilename relativeToVRT="0">/mnt/data/srv/carto_private/01_ORIGINAL/world/spain/provincias/toledo/pnoa_max_actual/PNOA_MA_OF_ETRS89_HU30_h25_0658_1.tif</SourceFilename>
      <SourceBand>2</SourceBand>
      <SourceProperties RasterXSize="57856" RasterYSize="38144" DataType="Byte" BlockXSize="256" BlockYSize="256" />
      <SrcRect xOff="0" yOff="0" xSize="57856" ySize="38144" />
      <DstRect xOff="116680" yOff="38320" xSize="57856" ySize="38144" />
    </SimpleSource>
    <SimpleSource>
      <SourceFilename relativeToVRT="0">/mnt/data/srv/carto_private/01_ORIGINAL/world/spain/provincias/toledo/pnoa_max_actual/PNOA_MA_OF_ETRS89_HU30_h25_0657_3.tif</SourceFilename>
      <SourceBand>2</SourceBand>
      <SourceProperties RasterXSize="58112" RasterYSize="38400" DataType="Byte" BlockXSize="256" BlockYSize="256" />
      <SrcRect xOff="0" yOff="0" xSize="58112" ySize="38400" />
      <DstRect xOff="1960" yOff="74000" xSize="58112" ySize="38400" />
    </SimpleSource>
    <SimpleSource>
      <SourceFilename relativeToVRT="0">/mnt/data/srv/carto_private/01_ORIGINAL/world/spain/provincias/toledo/pnoa_max_actual/PNOA_MA_OF_ETRS89_HU30_h25_0685_2.tif</SourceFilename>
      <SourceBand>2</SourceBand>
      <SourceProperties RasterXSize="58112" RasterYSize="38144" DataType="Byte" BlockXSize="256" BlockYSize="256" />
      <SrcRect xOff="0" yOff="0" xSize="58112" ySize="38144" />
      <DstRect xOff="58720" yOff="111720" xSize="58112" ySize="38144" />
    </SimpleSource>
    <SimpleSource>
      <SourceFilename relativeToVRT="0">/mnt/data/srv/carto_private/01_ORIGINAL/world/spain/provincias/toledo/pnoa_max_actual/PNOA_MA_OF_ETRS89_HU30_h25_0657_2.tif</SourceFilename>
      <SourceBand>2</SourceBand>
      <SourceProperties RasterXSize="58112" RasterYSize="38144" DataType="Byte" BlockXSize="256" BlockYSize="256" />
      <SrcRect xOff="0" yOff="0" xSize="58112" ySize="38144" />
      <DstRect xOff="59560" yOff="37720" xSize="58112" ySize="38144" />
    </SimpleSource>
    <SimpleSource>
      <SourceFilename relativeToVRT="0">/mnt/data/srv/carto_private/01_ORIGINAL/world/spain/provincias/toledo/pnoa_max_actual/PNOA_MA_OF_ETRS89_HU30_h25_0657_4.tif</SourceFilename>
      <SourceBand>2</SourceBand>
      <SourceProperties RasterXSize="58112" RasterYSize="38144" DataType="Byte" BlockXSize="256" BlockYSize="256" />
      <SrcRect xOff="0" yOff="0" xSize="58112" ySize="38144" />
      <DstRect xOff="59120" yOff="74720" xSize="58112" ySize="38144" />
    </SimpleSource>
    <SimpleSource>
      <SourceFilename relativeToVRT="0">/mnt/data/srv/carto_private/01_ORIGINAL/world/spain/provincias/toledo/pnoa_max_actual/PNOA_MA_OF_ETRS89_HU30_h25_0657_1.tif</SourceFilename>
      <SourceBand>2</SourceBand>
      <SourceProperties RasterXSize="58112" RasterYSize="38400" DataType="Byte" BlockXSize="256" BlockYSize="256" />
      <SrcRect xOff="0" yOff="0" xSize="58112" ySize="38400" />
      <DstRect xOff="2440" yOff="37000" xSize="58112" ySize="38400" />
    </SimpleSource>
    <SimpleSource>
      <SourceFilename relativeToVRT="0">/mnt/data/srv/carto_private/01_ORIGINAL/world/spain/provincias/toledo/pnoa_max_actual/PNOA_MA_OF_ETRS89_HU30_h25_0685_3.tif</SourceFilename>
      <SourceBand>2</SourceBand>
      <SourceProperties RasterXSize="58368" RasterYSize="38144" DataType="Byte" BlockXSize="256" BlockYSize="256" />
      <SrcRect xOff="0" yOff="0" xSize="58368" ySize="38144" />
      <DstRect xOff="960" yOff="148000" xSize="58368" ySize="38144" />
    </SimpleSource>
    <SimpleSource>
      <SourceFilename relativeToVRT="0">/mnt/data/srv/carto_private/01_ORIGINAL/world/spain/provincias/toledo/pnoa_max_actual/PNOA_MA_OF_ETRS89_HU30_h25_0629_4.tif</SourceFilename>
      <SourceBand>2</SourceBand>
      <SourceProperties RasterXSize="57856" RasterYSize="38144" DataType="Byte" BlockXSize="256" BlockYSize="256" />
      <SrcRect xOff="0" yOff="0" xSize="57856" ySize="38144" />
      <DstRect xOff="59960" yOff="720" xSize="57856" ySize="38144" />
    </SimpleSource>
    <SimpleSource>
      <SourceFilename relativeToVRT="0">/mnt/data/srv/carto_private/01_ORIGINAL/world/spain/provincias/toledo/pnoa_max_actual/PNOA_MA_OF_ETRS89_HU30_h25_0712_3.tif</SourceFilename>
      <SourceBand>2</SourceBand>
      <SourceProperties RasterXSize="58368" RasterYSize="38144" DataType="Byte" BlockXSize="256" BlockYSize="256" />
      <SrcRect xOff="0" yOff="0" xSize="58368" ySize="38144" />
      <DstRect xOff="114920" yOff="223280" xSize="58368" ySize="38144" />
    </SimpleSource>
    <SimpleSource>
