<VRTDataset rasterXSize="59024" rasterYSize="149400">
  <SRS dataAxisToSRSAxisMapping="1,2">PROJCS["ETRS89 / UTM zone 30N",GEOGCS["ETRS89",DATUM["European_Terrestrial_Reference_System_1989",SPHEROID["GRS 1980",6378137,298.257222101,AUTHORITY["EPSG","7019"]],AUTHORITY["EPSG","6258"]],PRIMEM["Greenwich",0,AUTHORITY["EPSG","8901"]],UNIT["degree",0.0174532925199433,AUTHORITY["EPSG","9122"]],AUTHORITY["EPSG","4258"]],PROJECTION["Transverse_Mercator"],PARAMETER["latitude_of_origin",0],PARAMETER["central_meridian",-3],PARAMETER["scale_factor",0.9996],PARAMETER["false_easting",500000],PARAMETER["false_northing",0],UNIT["metre",1,AUTHORITY["EPSG","9001"]],AXIS["Easting",EAST],AXIS["Northing",NORTH],AUTHORITY["EPSG","25830"]]</SRS>
  <GeoTransform>  3.8506000000000000e+05,  2.5000000000000000e-01,  0.0000000000000000e+00,  4.5119400000000000e+06,  0.0000000000000000e+00, -2.5000000000000000e-01</GeoTransform>
  <VRTRasterBand dataType="Byte" band="1">
    <ColorInterp>Red</ColorInterp>
    <SimpleSource>
      <SourceFilename relativeToVRT="0">/mnt/data/srv/carto_private/01_ORIGINAL/world/spain/provincias/madrid/pnoa_max_actual/PNOA_MA_OF_ETRS89_HU30_h25_0507_4.tif</SourceFilename>
      <SourceBand>1</SourceBand>
      <SourceProperties RasterXSize="57344" RasterYSize="38400" DataType="Byte" BlockXSize="256" BlockYSize="256" />
      <SrcRect xOff="0" yOff="0" xSize="57344" ySize="38400" />
      <DstRect xOff="1680" yOff="0" xSize="57344" ySize="38400" />
    </SimpleSource>
    <SimpleSource>
      <SourceFilename relativeToVRT="0">/mnt/data/srv/carto_private/01_ORIGINAL/world/spain/provincias/madrid/pnoa_max_actual/PNOA_MA_OF_ETRS89_HU30_h25_0532_4.tif</SourceFilename>
      <SourceBand>1</SourceBand>
      <SourceProperties RasterXSize="57600" RasterYSize="38400" DataType="Byte" BlockXSize="256" BlockYSize="256" />
      <SrcRect xOff="0" yOff="0" xSize="57600" ySize="38400" />
      <DstRect xOff="560" yOff="74000" xSize="57600" ySize="38400" />
    </SimpleSource>
    <SimpleSource>
      <SourceFilename relativeToVRT="0">/mnt/data/srv/carto_private/01_ORIGINAL/world/spain/provincias/madrid/pnoa_max_actual/PNOA_MA_OF_ETRS89_HU30_h25_0532_2.tif</SourceFilename>
      <SourceBand>1</SourceBand>
      <SourceProperties RasterXSize="57600" RasterYSize="38400" DataType="Byte" BlockXSize="256" BlockYSize="256" />
      <SrcRect xOff="0" yOff="0" xSize="57600" ySize="38400" />
      <DstRect xOff="1120" yOff="37000" xSize="57600" ySize="38400" />
    </SimpleSource>
    <SimpleSource>
      <SourceFilename relativeToVRT="0">/mnt/data/srv/carto_private/01_ORIGINAL/world/spain/provincias/madrid/pnoa_max_actual/PNOA_MA_OF_ETRS89_HU30_h25_0557_2.tif</SourceFilename>
      <SourceBand>1</SourceBand>
      <SourceProperties RasterXSize="57600" RasterYSize="38400" DataType="Byte" BlockXSize="256" BlockYSize="256" />
      <SrcRect xOff="0" yOff="0" xSize="57600" ySize="38400" />
      <DstRect xOff="0" yOff="111000" xSize="57600" ySize="38400" />
    </SimpleSource>
  </VRTRasterBand>
  <VRTRasterBand dataType="Byte" band="2">
    <ColorInterp>Green</ColorInterp>
    <SimpleSource>
      <SourceFilename relativeToVRT="0">/mnt/data/srv/carto_private/01_ORIGINAL/world/spain/provincias/madrid/pnoa_max_actual/PNOA_MA_OF_ETRS89_HU30_h25_0507_4.tif</SourceFilename>
      <SourceBand>2</SourceBand>
      <SourceProperties RasterXSize="57344" RasterYSize="38400" DataType="Byte" BlockXSize="256" BlockYSize="256" />
      <SrcRect xOff="0" yOff="0" xSize="57344" ySize="38400" />
      <DstRect xOff="1680" yOff="0" xSize="57344" ySize="38400" />
    </SimpleSource>
    <SimpleSource>
      <SourceFilename relativeToVRT="0">/mnt/data/srv/carto_private/01_ORIGINAL/world/spain/provincias/madrid/pnoa_max_actual/PNOA_MA_OF_ETRS89_HU30_h25_0532_4.tif</SourceFilename>
      <SourceBand>2</SourceBand>
      <SourceProperties RasterXSize="57600" RasterYSize="38400" DataType="Byte" BlockXSize="256" BlockYSize="256" />
      <SrcRect xOff="0" yOff="0" xSize="57600" ySize="38400" />
      <DstRect xOff="560" yOff="74000" xSize="57600" ySize="38400" />
    </SimpleSource>
    <SimpleSource>
      <SourceFilename relativeToVRT="0">/mnt/data/srv/carto_private/01_ORIGINAL/world/spain/provincias/madrid/pnoa_max_actual/PNOA_MA_OF_ETRS89_HU30_h25_0532_2.tif</SourceFilename>
      <SourceBand>2</SourceBand>
      <SourceProperties RasterXSize="57600" RasterYSize="38400" DataType="Byte" BlockXSize="256" BlockYSize="256" />
      <SrcRect xOff="0" yOff="0" xSize="57600" ySize="38400" />
      <DstRect xOff="1120" yOff="37000" xSize="57600" ySize="38400" />
    </SimpleSource>
    <SimpleSource>
      <SourceFilename relativeToVRT="0">/mnt/data/srv/carto_private/01_ORIGINAL/world/spain/provincias/madrid/pnoa_max_actual/PNOA_MA_OF_ETRS89_HU30_h25_0557_2.tif</SourceFilename>
      <SourceBand>2</SourceBand>
      <SourceProperties RasterXSize="57600" RasterYSize="38400" DataType="Byte" BlockXSize="256" BlockYSize="256" />
      <SrcRect xOff="0" yOff="0" xSize="57600" ySize="38400" />
      <DstRect xOff="0" yOff="111000" xSize="57600" ySize="38400" />
    </SimpleSource>
  </VRTRasterBand>
  <VRTRasterBand dataType="Byte" band="3">
    <ColorInterp>Blue</ColorInterp>
    <SimpleSource>
      <SourceFilename relativeToVRT="0">/mnt/data/srv/carto_private/01_ORIGINAL/world/spain/provincias/madrid/pnoa_max_actual/PNOA_MA_OF_ETRS89_HU30_h25_0507_4.tif</SourceFilename>
      <SourceBand>3</SourceBand>
      <SourceProperties RasterXSize="57344" RasterYSize="38400" DataType="Byte" BlockXSize="256" BlockYSize="256" />
      <SrcRect xOff="0" yOff="0" xSize="57344" ySize="38400" />
      <DstRect xOff="1680" yOff="0" xSize="57344" ySize="38400" />
    </SimpleSource>
    <SimpleSource>
      <SourceFilename relativeToVRT="0">/mnt/data/srv/carto_private/01_ORIGINAL/world/spain/provincias/madrid/pnoa_max_actual/PNOA_MA_OF_ETRS89_HU30_h25_0532_4.tif</SourceFilename>
      <SourceBand>3</SourceBand>
      <SourceProperties RasterXSize="57600" RasterYSize="38400" DataType="Byte" BlockXSize="256" BlockYSize="256" />
      <SrcRect xOff="0" yOff="0" xSize="57600" ySize="38400" />
      <DstRect xOff="560" yOff="74000" xSize="57600" ySize="38400" />
    </SimpleSource>
    <SimpleSource>
      <SourceFilename relativeToVRT="0">/mnt/data/srv/carto_private/01_ORIGINAL/world/spain/provincias/madrid/pnoa_max_actual/PNOA_MA_OF_ETRS89_HU30_h25_0532_2.tif</SourceFilename>
      <SourceBand>3</SourceBand>
      <SourceProperties RasterXSize="57600" RasterYSize="38400" DataType="Byte" BlockXSize="256" BlockYSize="256" />
      <SrcRect xOff="0" yOff="0" xSize="57600" ySize="38400" />
      <DstRect xOff="1120" yOff="37000" xSize="57600" ySize="38400" />
    </SimpleSource>
    <SimpleSource>
      <SourceFilename relativeToVRT="0">/mnt/data/srv/carto_private/01_ORIGINAL/world/spain/provincias/madrid/pnoa_max_actual/PNOA_MA_OF_ETRS89_HU30_h25_0557_2.tif</SourceFilename>
      <SourceBand>3</SourceBand>
      <SourceProperties RasterXSize="57600" RasterYSize="38400" DataType="Byte" BlockXSize="256" BlockYSize="256" />
      <SrcRect xOff="0" yOff="0" xSize="57600" ySize="38400" />
      <DstRect xOff="0" yOff="111000" xSize="57600" ySize="38400" />
    </SimpleSource>
  </VRTRasterBand>
  <OverviewList resampling="nearest">2 4 8 16 32 64 128 256</OverviewList>
</VRTDataset>
