<VRTDataset rasterXSize="231360" rasterYSize="225360">
  <SRS dataAxisToSRSAxisMapping="1,2">PROJCS["ETRS89 / UTM zone 30N",GEOGCS["ETRS89",DATUM["European_Terrestrial_Reference_System_1989",SPHEROID["GRS 1980",6378137,298.257222101,AUTHORITY["EPSG","7019"]],AUTHORITY["EPSG","6258"]],PRIMEM["Greenwich",0,AUTHORITY["EPSG","8901"]],UNIT["degree",0.0174532925199433,AUTHORITY["EPSG","9122"]],AUTHORITY["EPSG","4258"]],PROJECTION["Transverse_Mercator"],PARAMETER["latitude_of_origin",0],PARAMETER["central_meridian",-3],PARAMETER["scale_factor",0.9996],PARAMETER["false_easting",500000],PARAMETER["false_northing",0],UNIT["metre",1,AUTHORITY["EPSG","9001"]],AXIS["Easting",EAST],AXIS["Northing",NORTH],AUTHORITY["EPSG","25830"]]</SRS>
  <GeoTransform>  3.4148000000000000e+05,  2.5000000000000000e-01,  0.0000000000000000e+00,  4.4754300000000000e+06,  0.0000000000000000e+00, -2.5000000000000000e-01</GeoTransform>
  <VRTRasterBand dataType="Byte" band="1">
    <ColorInterp>Red</ColorInterp>
    <SimpleSource>
      <SourceFilename relativeToVRT="0">/mnt/data/srv/carto_private/01_ORIGINAL/world/spain/provincias/madrid/pnoa_max_actual/PNOA_MA_OF_ETRS89_HU30_h25_0557_4.tif</SourceFilename>
      <SourceBand>1</SourceBand>
      <SourceProperties RasterXSize="57600" RasterYSize="38400" DataType="Byte" BlockXSize="256" BlockYSize="256" />
      <SrcRect xOff="0" yOff="0" xSize="57600" ySize="38400" />
      <DstRect xOff="173760" yOff="1960" xSize="57600" ySize="38400" />
    </SimpleSource>
    <SimpleSource>
      <SourceFilename relativeToVRT="0">/mnt/data/srv/carto_private/01_ORIGINAL/world/spain/provincias/madrid/pnoa_max_actual/PNOA_MA_OF_ETRS89_HU30_h25_0557_3.tif</SourceFilename>
      <SourceBand>1</SourceBand>
      <SourceProperties RasterXSize="57856" RasterYSize="38400" DataType="Byte" BlockXSize="256" BlockYSize="256" />
      <SrcRect xOff="0" yOff="0" xSize="57856" ySize="38400" />
      <DstRect xOff="117120" yOff="1040" xSize="57856" ySize="38400" />
    </SimpleSource>
    <SimpleSource>
      <SourceFilename relativeToVRT="0">/mnt/data/srv/carto_private/01_ORIGINAL/world/spain/provincias/madrid/pnoa_max_actual/PNOA_MA_OF_ETRS89_HU30_h25_0556_4.tif</SourceFilename>
      <SourceBand>1</SourceBand>
      <SourceProperties RasterXSize="57856" RasterYSize="38656" DataType="Byte" BlockXSize="256" BlockYSize="256" />
      <SrcRect xOff="0" yOff="0" xSize="57856" ySize="38656" />
      <DstRect xOff="60480" yOff="0" xSize="57856" ySize="38656" />
    </SimpleSource>
    <SimpleSource>
      <SourceFilename relativeToVRT="0">/mnt/data/srv/carto_private/01_ORIGINAL/world/spain/provincias/madrid/pnoa_max_actual/PNOA_MA_OF_ETRS89_HU30_h25_0580_2.tif</SourceFilename>
      <SourceBand>1</SourceBand>
      <SourceProperties RasterXSize="57856" RasterYSize="38400" DataType="Byte" BlockXSize="256" BlockYSize="256" />
      <SrcRect xOff="0" yOff="0" xSize="57856" ySize="38400" />
      <DstRect xOff="173160" yOff="38960" xSize="57856" ySize="38400" />
    </SimpleSource>
    <SimpleSource>
      <SourceFilename relativeToVRT="0">/mnt/data/srv/carto_private/01_ORIGINAL/world/spain/provincias/madrid/pnoa_max_actual/PNOA_MA_OF_ETRS89_HU30_h25_0579_4.tif</SourceFilename>
      <SourceBand>1</SourceBand>
      <SourceProperties RasterXSize="57856" RasterYSize="38656" DataType="Byte" BlockXSize="256" BlockYSize="256" />
      <SrcRect xOff="0" yOff="0" xSize="57856" ySize="38656" />
      <DstRect xOff="59080" yOff="74000" xSize="57856" ySize="38656" />
    </SimpleSource>
    <SimpleSource>
      <SourceFilename relativeToVRT="0">/mnt/data/srv/carto_private/01_ORIGINAL/world/spain/provincias/madrid/pnoa_max_actual/PNOA_MA_OF_ETRS89_HU30_h25_0579_2.tif</SourceFilename>
      <SourceBand>1</SourceBand>
      <SourceProperties RasterXSize="57856" RasterYSize="38656" DataType="Byte" BlockXSize="256" BlockYSize="256" />
      <SrcRect xOff="0" yOff="0" xSize="57856" ySize="38656" />
      <DstRect xOff="59760" yOff="37000" xSize="57856" ySize="38656" />
    </SimpleSource>
    <SimpleSource>
      <SourceFilename relativeToVRT="0">/mnt/data/srv/carto_private/01_ORIGINAL/world/spain/provincias/madrid/pnoa_max_actual/PNOA_MA_OF_ETRS89_HU30_h25_0580_1.tif</SourceFilename>
      <SourceBand>1</SourceBand>
      <SourceProperties RasterXSize="57856" RasterYSize="38400" DataType="Byte" BlockXSize="256" BlockYSize="256" />
      <SrcRect xOff="0" yOff="0" xSize="57856" ySize="38400" />
      <DstRect xOff="116480" yOff="38040" xSize="57856" ySize="38400" />
    </SimpleSource>
    <SimpleSource>
      <SourceFilename relativeToVRT="0">/mnt/data/srv/carto_private/01_ORIGINAL/world/spain/provincias/madrid/pnoa_max_actual/PNOA_MA_OF_ETRS89_HU30_h25_0580_3.tif</SourceFilename>
      <SourceBand>1</SourceBand>
      <SourceProperties RasterXSize="57856" RasterYSize="38400" DataType="Byte" BlockXSize="256" BlockYSize="256" />
      <SrcRect xOff="0" yOff="0" xSize="57856" ySize="38400" />
      <DstRect xOff="115840" yOff="75040" xSize="57856" ySize="38400" />
    </SimpleSource>
    <SimpleSource>
      <SourceFilename relativeToVRT="0">/mnt/data/srv/carto_private/01_ORIGINAL/world/spain/provincias/madrid/pnoa_max_actual/PNOA_MA_OF_ETRS89_HU30_h25_0580_4.tif</SourceFilename>
      <SourceBand>1</SourceBand>
      <SourceProperties RasterXSize="57856" RasterYSize="38400" DataType="Byte" BlockXSize="256" BlockYSize="256" />
      <SrcRect xOff="0" yOff="0" xSize="57856" ySize="38400" />
      <DstRect xOff="172600" yOff="75960" xSize="57856" ySize="38400" />
    </SimpleSource>
    <SimpleSource>
      <SourceFilename relativeToVRT="0">/mnt/data/srv/carto_private/01_ORIGINAL/world/spain/provincias/toledo/pnoa_max_actual/PNOA_MA_OF_ETRS89_HU30_h25_0627_1.tif</SourceFilename>
      <SourceBand>1</SourceBand>
      <SourceProperties RasterXSize="58368" RasterYSize="38656" DataType="Byte" BlockXSize="256" BlockYSize="256" />
      <SrcRect xOff="0" yOff="0" xSize="58368" ySize="38656" />
      <DstRect xOff="0" yOff="183880" xSize="58368" ySize="38656" />
    </SimpleSource>
    <SimpleSource>
      <SourceFilename relativeToVRT="0">/mnt/data/srv/carto_private/01_ORIGINAL/world/spain/provincias/toledo/pnoa_max_actual/PNOA_MA_OF_ETRS89_HU30_h25_0628_2.tif</SourceFilename>
      <SourceBand>1</SourceBand>
      <SourceProperties RasterXSize="58112" RasterYSize="38400" DataType="Byte" BlockXSize="256" BlockYSize="256" />
      <SrcRect xOff="0" yOff="0" xSize="58112" ySize="38400" />
      <DstRect xOff="170920" yOff="186960" xSize="58112" ySize="38400" />
    </SimpleSource>
    <SimpleSource>
      <SourceFilename relativeToVRT="0">/mnt/data/srv/carto_private/01_ORIGINAL/world/spain/provincias/toledo/pnoa_max_actual/PNOA_MA_OF_ETRS89_HU30_h25_0602_4.tif</SourceFilename>
      <SourceBand>1</SourceBand>
      <SourceProperties RasterXSize="58112" RasterYSize="38656" DataType="Byte" BlockXSize="256" BlockYSize="256" />
      <SrcRect xOff="0" yOff="0" xSize="58112" ySize="38656" />
      <DstRect xOff="57680" yOff="148000" xSize="58112" ySize="38656" />
    </SimpleSource>
    <SimpleSource>
      <SourceFilename relativeToVRT="0">/mnt/data/srv/carto_private/01_ORIGINAL/world/spain/provincias/toledo/pnoa_max_actual/PNOA_MA_OF_ETRS89_HU30_h25_0602_1.tif</SourceFilename>
      <SourceBand>1</SourceBand>
      <SourceProperties RasterXSize="58112" RasterYSize="38656" DataType="Byte" BlockXSize="256" BlockYSize="256" />
      <SrcRect xOff="0" yOff="0" xSize="58112" ySize="38656" />
      <DstRect xOff="1520" yOff="109880" xSize="58112" ySize="38656" />
    </SimpleSource>
    <SimpleSource>
      <SourceFilename relativeToVRT="0">/mnt/data/srv/carto_private/01_ORIGINAL/world/spain/provincias/toledo/pnoa_max_actual/PNOA_MA_OF_ETRS89_HU30_h25_0603_3.tif</SourceFilename>
      <SourceBand>1</SourceBand>
      <SourceProperties RasterXSize="58112" RasterYSize="38400" DataType="Byte" BlockXSize="256" BlockYSize="256" />
      <SrcRect xOff="0" yOff="0" xSize="58112" ySize="38400" />
      <DstRect xOff="114560" yOff="149040" xSize="58112" ySize="38400" />
    </SimpleSource>
    <SimpleSource>
      <SourceFilename relativeToVRT="0">/mnt/data/srv/carto_private/01_ORIGINAL/world/spain/provincias/toledo/pnoa_max_actual/PNOA_MA_OF_ETRS89_HU30_h25_0579_3.tif</SourceFilename>
      <SourceBand>1</SourceBand>
      <SourceProperties RasterXSize="58112" RasterYSize="38656" DataType="Byte" BlockXSize="256" BlockYSize="256" />
      <SrcRect xOff="0" yOff="0" xSize="58112" ySize="38656" />
      <DstRect xOff="2280" yOff="72880" xSize="58112" ySize="38656" />
    </SimpleSource>
    <SimpleSource>
      <SourceFilename relativeToVRT="0">/mnt/data/srv/carto_private/01_ORIGINAL/world/spain/provincias/toledo/pnoa_max_actual/PNOA_MA_OF_ETRS89_HU30_h25_0602_3.tif</SourceFilename>
      <SourceBand>1</SourceBand>
      <SourceProperties RasterXSize="58112" RasterYSize="38656" DataType="Byte" BlockXSize="256" BlockYSize="256" />
      <SrcRect xOff="0" yOff="0" xSize="58112" ySize="38656" />
      <DstRect xOff="760" yOff="146880" xSize="58112" ySize="38656" />
    </SimpleSource>
    <SimpleSource>
      <SourceFilename relativeToVRT="0">/mnt/data/srv/carto_private/01_ORIGINAL/world/spain/provincias/toledo/pnoa_max_actual/PNOA_MA_OF_ETRS89_HU30_h25_0627_2.tif</SourceFilename>
      <SourceBand>1</SourceBand>
      <SourceProperties RasterXSize="58112" RasterYSize="38656" DataType="Byte" BlockXSize="256" BlockYSize="256" />
      <SrcRect xOff="0" yOff="0" xSize="58112" ySize="38656" />
      <DstRect xOff="56960" yOff="185000" xSize="58112" ySize="38656" />
    </SimpleSource>
    <SimpleSource>
      <SourceFilename relativeToVRT="0">/mnt/data/srv/carto_private/01_ORIGINAL/world/spain/provincias/toledo/pnoa_max_actual/PNOA_MA_OF_ETRS89_HU30_h25_0602_2.tif</SourceFilename>
      <SourceBand>1</SourceBand>
      <SourceProperties RasterXSize="58112" RasterYSize="38656" DataType="Byte" BlockXSize="256" BlockYSize="256" />
      <SrcRect xOff="0" yOff="0" xSize="58112" ySize="38656" />
      <DstRect xOff="58360" yOff="111000" xSize="58112" ySize="38656" />
    </SimpleSource>
    <SimpleSource>
      <SourceFilename relativeToVRT="0">/mnt/data/srv/carto_private/01_ORIGINAL/world/spain/provincias/toledo/pnoa_max_actual/PNOA_MA_OF_ETRS89_HU30_h25_0580_2.tif</SourceFilename>
      <SourceBand>1</SourceBand>
      <SourceProperties RasterXSize="57856" RasterYSize="38400" DataType="Byte" BlockXSize="256" BlockYSize="256" />
      <SrcRect xOff="0" yOff="0" xSize="57856" ySize="38400" />
      <DstRect xOff="173160" yOff="38960" xSize="57856" ySize="38400" />
    </SimpleSource>
    <SimpleSource>
      <SourceFilename relativeToVRT="0">/mnt/data/srv/carto_private/01_ORIGINAL/world/spain/provincias/toledo/pnoa_max_actual/PNOA_MA_OF_ETRS89_HU30_h25_0628_1.tif</SourceFilename>
      <SourceBand>1</SourceBand>
      <SourceProperties RasterXSize="58112" RasterYSize="38400" DataType="Byte" BlockXSize="256" BlockYSize="256" />
      <SrcRect xOff="0" yOff="0" xSize="58112" ySize="38400" />
      <DstRect xOff="113960" yOff="186040" xSize="58112" ySize="38400" />
    </SimpleSource>
    <SimpleSource>
      <SourceFilename relativeToVRT="0">/mnt/data/srv/carto_private/01_ORIGINAL/world/spain/provincias/toledo/pnoa_max_actual/PNOA_MA_OF_ETRS89_HU30_h25_0579_4.tif</SourceFilename>
      <SourceBand>1</SourceBand>
      <SourceProperties RasterXSize="57856" RasterYSize="38656" DataType="Byte" BlockXSize="256" BlockYSize="256" />
      <SrcRect xOff="0" yOff="0" xSize="57856" ySize="38656" />
      <DstRect xOff="59080" yOff="74000" xSize="57856" ySize="38656" />
    </SimpleSource>
    <SimpleSource>
      <SourceFilename relativeToVRT="0">/mnt/data/srv/carto_private/01_ORIGINAL/world/spain/provincias/toledo/pnoa_max_actual/PNOA_MA_OF_ETRS89_HU30_h25_0579_1.tif</SourceFilename>
      <SourceBand>1</SourceBand>
      <SourceProperties RasterXSize="57856" RasterYSize="38656" DataType="Byte" BlockXSize="256" BlockYSize="256" />
      <SrcRect xOff="0" yOff="0" xSize="57856" ySize="38656" />
      <DstRect xOff="3080" yOff="35880" xSize="57856" ySize="38656" />
    </SimpleSource>
    <SimpleSource>
      <SourceFilename relativeToVRT="0">/mnt/data/srv/carto_private/01_ORIGINAL/world/spain/provincias/toledo/pnoa_max_actual/PNOA_MA_OF_ETRS89_HU30_h25_0580_1.tif</SourceFilename>
      <SourceBand>1</SourceBand>
      <SourceProperties RasterXSize="57856" RasterYSize="38400" DataType="Byte" BlockXSize="256" BlockYSize="256" />
      <SrcRect xOff="0" yOff="0" xSize="57856" ySize="38400" />
      <DstRect xOff="116480" yOff="38040" xSize="57856" ySize="38400" />
    </SimpleSource>
    <SimpleSource>
      <SourceFilename relativeToVRT="0">/mnt/data/srv/carto_private/01_ORIGINAL/world/spain/provincias/toledo/pnoa_max_actual/PNOA_MA_OF_ETRS89_HU30_h25_0603_2.tif</SourceFilename>
      <SourceBand>1</SourceBand>
      <SourceProperties RasterXSize="57856" RasterYSize="38400" DataType="Byte" BlockXSize="256" BlockYSize="256" />
      <SrcRect xOff="0" yOff="0" xSize="57856" ySize="38400" />
      <DstRect xOff="172040" yOff="112960" xSize="57856" ySize="38400" />
    </SimpleSource>
    <SimpleSource>
      <SourceFilename relativeToVRT="0">/mnt/data/srv/carto_private/01_ORIGINAL/world/spain/provincias/toledo/pnoa_max_actual/PNOA_MA_OF_ETRS89_HU30_h25_0580_3.tif</SourceFilename>
      <SourceBand>1</SourceBand>
      <SourceProperties RasterXSize="57856" RasterYSize="38400" DataType="Byte" BlockXSize="256" BlockYSize="256" />
      <SrcRect xOff="0" yOff="0" xSize="57856" ySize="38400" />
      <DstRect xOff="115840" yOff="75040" xSize="57856" ySize="38400" />
    </SimpleSource>
    <SimpleSource>
      <SourceFilename relativeToVRT="0">/mnt/data/srv/carto_private/01_ORIGINAL/world/spain/provincias/toledo/pnoa_max_actual/PNOA_MA_OF_ETRS89_HU30_h25_0603_1.tif</SourceFilename>
      <SourceBand>1</SourceBand>
      <SourceProperties RasterXSize="57856" RasterYSize="38400" DataType="Byte" BlockXSize="256" BlockYSize="256" />
      <SrcRect xOff="0" yOff="0" xSize="57856" ySize="38400" />
      <DstRect xOff="115200" yOff="112040" xSize="57856" ySize="38400" />
    </SimpleSource>
    <SimpleSource>
      <SourceFilename relativeToVRT="0">/mnt/data/srv/carto_private/01_ORIGINAL/world/spain/provincias/toledo/pnoa_max_actual/PNOA_MA_OF_ETRS89_HU30_h25_0603_4.tif</SourceFilename>
      <SourceBand>1</SourceBand>
      <SourceProperties RasterXSize="57856" RasterYSize="38400" DataType="Byte" BlockXSize="256" BlockYSize="256" />
      <SrcRect xOff="0" yOff="0" xSize="57856" ySize="38400" />
      <DstRect xOff="171480" yOff="149960" xSize="57856" ySize="38400" />
    </SimpleSource>
    <SimpleSource>
      <SourceFilename relativeToVRT="0">/mnt/data/srv/carto_private/01_ORIGINAL/world/spain/provincias/toledo/pnoa_max_actual/PNOA_MA_OF_ETRS89_HU30_h25_0580_4.tif</SourceFilename>
      <SourceBand>1</SourceBand>
      <SourceProperties RasterXSize="57856" RasterYSize="38400" DataType="Byte" BlockXSize="256" BlockYSize="256" />
      <SrcRect xOff="0" yOff="0" xSize="57856" ySize="38400" />
      <DstRect xOff="172600" yOff="75960" xSize="57856" ySize="38400" />
    </SimpleSource>
  </VRTRasterBand>
  <VRTRasterBand dataType="Byte" band="2">
    <ColorInterp>Green</ColorInterp>
    <SimpleSource>
      <SourceFilename relativeToVRT="0">/mnt/data/srv/carto_private/01_ORIGINAL/world/spain/provincias/madrid/pnoa_max_actual/PNOA_MA_OF_ETRS89_HU30_h25_0557_4.tif</SourceFilename>
      <SourceBand>2</SourceBand>
      <SourceProperties RasterXSize="57600" RasterYSize="38400" DataType="Byte" BlockXSize="256" BlockYSize="256" />
      <SrcRect xOff="0" yOff="0" xSize="57600" ySize="38400" />
      <DstRect xOff="173760" yOff="1960" xSize="57600" ySize="38400" />
    </SimpleSource>
    <SimpleSource>
      <SourceFilename relativeToVRT="0">/mnt/data/srv/carto_private/01_ORIGINAL/world/spain/provincias/madrid/pnoa_max_actual/PNOA_MA_OF_ETRS89_HU30_h25_0557_3.tif</SourceFilename>
      <SourceBand>2</SourceBand>
      <SourceProperties RasterXSize="57856" RasterYSize="38400" DataType="Byte" BlockXSize="256" BlockYSize="256" />
      <SrcRect xOff="0" yOff="0" xSize="57856" ySize="38400" />
      <DstRect xOff="117120" yOff="1040" xSize="57856" ySize="38400" />
    </SimpleSource>
    <SimpleSource>
      <SourceFilename relativeToVRT="0">/mnt/data/srv/carto_private/01_ORIGINAL/world/spain/provincias/madrid/pnoa_max_actual/PNOA_MA_OF_ETRS89_HU30_h25_0556_4.tif</SourceFilename>
      <SourceBand>2</SourceBand>
      <SourceProperties RasterXSize="57856" RasterYSize="38656" DataType="Byte" BlockXSize="256" BlockYSize="256" />
      <SrcRect xOff="0" yOff="0" xSize="57856" ySize="38656" />
      <DstRect xOff="60480" yOff="0" xSize="57856" ySize="38656" />
    </SimpleSource>
    <SimpleSource>
      <SourceFilename relativeToVRT="0">/mnt/data/srv/carto_private/01_ORIGINAL/world/spain/provincias/madrid/pnoa_max_actual/PNOA_MA_OF_ETRS89_HU30_h25_0580_2.tif</SourceFilename>
      <SourceBand>2</SourceBand>
      <SourceProperties RasterXSize="57856" RasterYSize="38400" DataType="Byte" BlockXSize="256" BlockYSize="256" />
      <SrcRect xOff="0" yOff="0" xSize="57856" ySize="38400" />
      <DstRect xOff="173160" yOff="38960" xSize="57856" ySize="38400" />
    </SimpleSource>
    <SimpleSource>
      <SourceFilename relativeToVRT="0">/mnt/data/srv/carto_private/01_ORIGINAL/world/spain/provincias/madrid/pnoa_max_actual/PNOA_MA_OF_ETRS89_HU30_h25_0579_4.tif</SourceFilename>
      <SourceBand>2</SourceBand>
      <SourceProperties RasterXSize="57856" RasterYSize="38656" DataType="Byte" BlockXSize="256" BlockYSize="256" />
      <SrcRect xOff="0" yOff="0" xSize="57856" ySize="38656" />
      <DstRect xOff="59080" yOff="74000" xSize="57856" ySize="38656" />
    </SimpleSource>
    <SimpleSource>
      <SourceFilename relativeToVRT="0">/mnt/data/srv/carto_private/01_ORIGINAL/world/spain/provincias/madrid/pnoa_max_actual/PNOA_MA_OF_ETRS89_HU30_h25_0579_2.tif</SourceFilename>
      <SourceBand>2</SourceBand>
      <SourceProperties RasterXSize="57856" RasterYSize="38656" DataType="Byte" BlockXSize="256" BlockYSize="256" />
      <SrcRect xOff="0" yOff="0" xSize="57856" ySize="38656" />
      <DstRect xOff="59760" yOff="37000" xSize="57856" ySize="38656" />
    </SimpleSource>
    <SimpleSource>
      <SourceFilename relativeToVRT="0">/mnt/data/srv/carto_private/01_ORIGINAL/world/spain/provincias/madrid/pnoa_max_actual/PNOA_MA_OF_ETRS89_HU30_h25_0580_1.tif</SourceFilename>
      <SourceBand>2</SourceBand>
      <SourceProperties RasterXSize="57856" RasterYSize="38400" DataType="Byte" BlockXSize="256" BlockYSize="256" />
      <SrcRect xOff="0" yOff="0" xSize="57856" ySize="38400" />
      <DstRect xOff="116480" yOff="38040" xSize="57856" ySize="38400" />
    </SimpleSource>
    <SimpleSource>
      <SourceFilename relativeToVRT="0">/mnt/data/srv/carto_private/01_ORIGINAL/world/spain/provincias/madrid/pnoa_max_actual/PNOA_MA_OF_ETRS89_HU30_h25_0580_3.tif</SourceFilename>
      <SourceBand>2</SourceBand>
      <SourceProperties RasterXSize="57856" RasterYSize="38400" DataType="Byte" BlockXSize="256" BlockYSize="256" />
      <SrcRect xOff="0" yOff="0" xSize="57856" ySize="38400" />
      <DstRect xOff="115840" yOff="75040" xSize="57856" ySize="38400" />
    </SimpleSource>
    <SimpleSource>
      <SourceFilename relativeToVRT="0">/mnt/data/srv/carto_private/01_ORIGINAL/world/spain/provincias/madrid/pnoa_max_actual/PNOA_MA_OF_ETRS89_HU30_h25_0580_4.tif</SourceFilename>
      <SourceBand>2</SourceBand>
      <SourceProperties RasterXSize="57856" RasterYSize="38400" DataType="Byte" BlockXSize="256" BlockYSize="256" />
      <SrcRect xOff="0" yOff="0" xSize="57856" ySize="38400" />
      <DstRect xOff="172600" yOff="75960" xSize="57856" ySize="38400" />
    </SimpleSource>
    <SimpleSource>
      <SourceFilename relativeToVRT="0">/mnt/data/srv/carto_private/01_ORIGINAL/world/spain/provincias/toledo/pnoa_max_actual/PNOA_MA_OF_ETRS89_HU30_h25_0627_1.tif</SourceFilename>
      <SourceBand>2</SourceBand>
      <SourceProperties RasterXSize="58368" RasterYSize="38656" DataType="Byte" BlockXSize="256" BlockYSize="256" />
      <SrcRect xOff="0" yOff="0" xSize="58368" ySize="38656" />
      <DstRect xOff="0" yOff="183880" xSize="58368" ySize="38656" />
    </SimpleSource>
    <SimpleSource>
      <SourceFilename relativeToVRT="0">/mnt/data/srv/carto_private/01_ORIGINAL/world/spain/provincias/toledo/pnoa_max_actual/PNOA_MA_OF_ETRS89_HU30_h25_0628_2.tif</SourceFilename>
      <SourceBand>2</SourceBand>
      <SourceProperties RasterXSize="58112" RasterYSize="38400" DataType="Byte" BlockXSize="256" BlockYSize="256" />
      <SrcRect xOff="0" yOff="0" xSize="58112" ySize="38400" />
      <DstRect xOff="170920" yOff="186960" xSize="58112" ySize="38400" />
    </SimpleSource>
    <SimpleSource>
      <SourceFilename relativeToVRT="0">/mnt/data/srv/carto_private/01_ORIGINAL/world/spain/provincias/toledo/pnoa_max_actual/PNOA_MA_OF_ETRS89_HU30_h25_0602_4.tif</SourceFilename>
      <SourceBand>2</SourceBand>
      <SourceProperties RasterXSize="58112" RasterYSize="38656" DataType="Byte" BlockXSize="256" BlockYSize="256" />
      <SrcRect xOff="0" yOff="0" xSize="58112" ySize="38656" />
      <DstRect xOff="57680" yOff="148000" xSize="58112" ySize="38656" />
    </SimpleSource>
    <SimpleSource>
      <SourceFilename relativeToVRT="0">/mnt/data/srv/carto_private/01_ORIGINAL/world/spain/provincias/toledo/pnoa_max_actual/PNOA_MA_OF_ETRS89_HU30_h25_0602_1.tif</SourceFilename>
      <SourceBand>2</SourceBand>
      <SourceProperties RasterXSize="58112" RasterYSize="38656" DataType="Byte" BlockXSize="256" BlockYSize="256" />
      <SrcRect xOff="0" yOff="0" xSize="58112" ySize="38656" />
      <DstRect xOff="1520" yOff="109880" xSize="58112" ySize="38656" />
    </SimpleSource>
    <SimpleSource>
      <SourceFilename relativeToVRT="0">/mnt/data/srv/carto_private/01_ORIGINAL/world/spain/provincias/toledo/pnoa_max_actual/PNOA_MA_OF_ETRS89_HU30_h25_0603_3.tif</SourceFilename>
      <SourceBand>2</SourceBand>
      <SourceProperties RasterXSize="58112" RasterYSize="38400" DataType="Byte" BlockXSize="256" BlockYSize="256" />
      <SrcRect xOff="0" yOff="0" xSize="58112" ySize="38400" />
      <DstRect xOff="114560" yOff="149040" xSize="58112" ySize="38400" />
    </SimpleSource>
    <SimpleSource>
      <SourceFilename relativeToVRT="0">/mnt/data/srv/carto_private/01_ORIGINAL/world/spain/provincias/toledo/pnoa_max_actual/PNOA_MA_OF_ETRS89_HU30_h25_0579_3.tif</SourceFilename>
      <SourceBand>2</SourceBand>
      <SourceProperties RasterXSize="58112" RasterYSize="38656" DataType="Byte" BlockXSize="256" BlockYSize="256" />
      <SrcRect xOff="0" yOff="0" xSize="58112" ySize="38656" />
      <DstRect xOff="2280" yOff="72880" xSize="58112" ySize="38656" />
    </SimpleSource>
    <SimpleSource>
      <SourceFilename relativeToVRT="0">/mnt/data/srv/carto_private/01_ORIGINAL/world/spain/provincias/toledo/pnoa_max_actual/PNOA_MA_OF_ETRS89_HU30_h25_0602_3.tif</SourceFilename>
      <SourceBand>2</SourceBand>
      <SourceProperties RasterXSize="58112" RasterYSize="38656" DataType="Byte" BlockXSize="256" BlockYSize="256" />
      <SrcRect xOff="0" yOff="0" xSize="58112" ySize="38656" />
      <DstRect xOff="760" yOff="146880" xSize="58112" ySize="38656" />
    </SimpleSource>
    <SimpleSource>
      <SourceFilename relativeToVRT="0">/mnt/data/srv/carto_private/01_ORIGINAL/world/spain/provincias/toledo/pnoa_max_actual/PNOA_MA_OF_ETRS89_HU30_h25_0627_2.tif</SourceFilename>
      <SourceBand>2</SourceBand>
      <SourceProperties RasterXSize="58112" RasterYSize="38656" DataType="Byte" BlockXSize="256" BlockYSize="256" />
      <SrcRect xOff="0" yOff="0" xSize="58112" ySize="38656" />
      <DstRect xOff="56960" yOff="185000" xSize="58112" ySize="38656" />
    </SimpleSource>
    <SimpleSource>
