<VRTDataset rasterXSize="231592" rasterYSize="149912">
  <SRS dataAxisToSRSAxisMapping="1,2">PROJCS["ETRS89 / UTM zone 30N",GEOGCS["ETRS89",DATUM["European_Terrestrial_Reference_System_1989",SPHEROID["GRS 1980",6378137,298.257222101,AUTHORITY["EPSG","7019"]],AUTHORITY["EPSG","6258"]],PRIMEM["Greenwich",0,AUTHORITY["EPSG","8901"]],UNIT["degree",0.0174532925199433,AUTHORITY["EPSG","9122"]],AUTHORITY["EPSG","4258"]],PROJECTION["Transverse_Mercator"],PARAMETER["latitude_of_origin",0],PARAMETER["central_meridian",-3],PARAMETER["scale_factor",0.9996],PARAMETER["false_easting",500000],PARAMETER["false_northing",0],UNIT["metre",1,AUTHORITY["EPSG","9001"]],AXIS["Easting",EAST],AXIS["Northing",NORTH],AUTHORITY["EPSG","25830"]]</SRS>
  <GeoTransform>  2.8449000000000000e+05,  2.5000000000000000e-01,  0.0000000000000000e+00,  4.4575200000000000e+06,  0.0000000000000000e+00, -2.5000000000000000e-01</GeoTransform>
  <VRTRasterBand dataType="Byte" band="1">
    <ColorInterp>Red</ColorInterp>
    <SimpleSource>
      <SourceFilename relativeToVRT="0">/mnt/data/srv/carto_private/01_ORIGINAL/world/spain/provincias/toledo/pnoa_max_actual/PNOA_MA_OF_ETRS89_HU30_h25_0601_4.tif</SourceFilename>
      <SourceBand>1</SourceBand>
      <SourceProperties RasterXSize="58368" RasterYSize="38912" DataType="Byte" BlockXSize="256" BlockYSize="256" />
      <SrcRect xOff="0" yOff="0" xSize="58368" ySize="38912" />
      <DstRect xOff="171800" yOff="74000" xSize="58368" ySize="38912" />
    </SimpleSource>
    <SimpleSource>
      <SourceFilename relativeToVRT="0">/mnt/data/srv/carto_private/01_ORIGINAL/world/spain/provincias/toledo/pnoa_max_actual/PNOA_MA_OF_ETRS89_HU30_h25_0626_2.tif</SourceFilename>
      <SourceBand>1</SourceBand>
      <SourceProperties RasterXSize="58368" RasterYSize="38912" DataType="Byte" BlockXSize="256" BlockYSize="256" />
      <SrcRect xOff="0" yOff="0" xSize="58368" ySize="38912" />
      <DstRect xOff="170960" yOff="111000" xSize="58368" ySize="38912" />
    </SimpleSource>
    <SimpleSource>
      <SourceFilename relativeToVRT="0">/mnt/data/srv/carto_private/01_ORIGINAL/world/spain/provincias/toledo/pnoa_max_actual/PNOA_MA_OF_ETRS89_HU30_h25_0600_3.tif</SourceFilename>
      <SourceBand>1</SourceBand>
      <SourceProperties RasterXSize="58368" RasterYSize="39168" DataType="Byte" BlockXSize="256" BlockYSize="256" />
      <SrcRect xOff="0" yOff="0" xSize="58368" ySize="39168" />
      <DstRect xOff="1080" yOff="69640" xSize="58368" ySize="39168" />
    </SimpleSource>
    <SimpleSource>
      <SourceFilename relativeToVRT="0">/mnt/data/srv/carto_private/01_ORIGINAL/world/spain/provincias/toledo/pnoa_max_actual/PNOA_MA_OF_ETRS89_HU30_h25_0601_3.tif</SourceFilename>
      <SourceBand>1</SourceBand>
      <SourceProperties RasterXSize="58368" RasterYSize="38912" DataType="Byte" BlockXSize="256" BlockYSize="256" />
      <SrcRect xOff="0" yOff="0" xSize="58368" ySize="38912" />
      <DstRect xOff="114880" yOff="72680" xSize="58368" ySize="38912" />
    </SimpleSource>
    <SimpleSource>
      <SourceFilename relativeToVRT="0">/mnt/data/srv/carto_private/01_ORIGINAL/world/spain/provincias/toledo/pnoa_max_actual/PNOA_MA_OF_ETRS89_HU30_h25_0625_2.tif</SourceFilename>
      <SourceBand>1</SourceBand>
      <SourceProperties RasterXSize="58368" RasterYSize="39168" DataType="Byte" BlockXSize="256" BlockYSize="256" />
      <SrcRect xOff="0" yOff="0" xSize="58368" ySize="39168" />
      <DstRect xOff="57000" yOff="108200" xSize="58368" ySize="39168" />
    </SimpleSource>
    <SimpleSource>
      <SourceFilename relativeToVRT="0">/mnt/data/srv/carto_private/01_ORIGINAL/world/spain/provincias/toledo/pnoa_max_actual/PNOA_MA_OF_ETRS89_HU30_h25_0578_4.tif</SourceFilename>
      <SourceBand>1</SourceBand>
      <SourceProperties RasterXSize="58112" RasterYSize="38912" DataType="Byte" BlockXSize="256" BlockYSize="256" />
      <SrcRect xOff="0" yOff="0" xSize="58112" ySize="38912" />
      <DstRect xOff="173480" yOff="0" xSize="58112" ySize="38912" />
    </SimpleSource>
    <SimpleSource>
      <SourceFilename relativeToVRT="0">/mnt/data/srv/carto_private/01_ORIGINAL/world/spain/provincias/toledo/pnoa_max_actual/PNOA_MA_OF_ETRS89_HU30_h25_0601_2.tif</SourceFilename>
      <SourceBand>1</SourceBand>
      <SourceProperties RasterXSize="58112" RasterYSize="38912" DataType="Byte" BlockXSize="256" BlockYSize="256" />
      <SrcRect xOff="0" yOff="0" xSize="58112" ySize="38912" />
      <DstRect xOff="172640" yOff="37000" xSize="58112" ySize="38912" />
    </SimpleSource>
    <SimpleSource>
      <SourceFilename relativeToVRT="0">/mnt/data/srv/carto_private/01_ORIGINAL/world/spain/provincias/toledo/pnoa_max_actual/PNOA_MA_OF_ETRS89_HU30_h25_0600_2.tif</SourceFilename>
      <SourceBand>1</SourceBand>
      <SourceProperties RasterXSize="58368" RasterYSize="39168" DataType="Byte" BlockXSize="256" BlockYSize="256" />
      <SrcRect xOff="0" yOff="0" xSize="58368" ySize="39168" />
      <DstRect xOff="58960" yOff="34200" xSize="58368" ySize="39168" />
    </SimpleSource>
    <SimpleSource>
      <SourceFilename relativeToVRT="0">/mnt/data/srv/carto_private/01_ORIGINAL/world/spain/provincias/toledo/pnoa_max_actual/PNOA_MA_OF_ETRS89_HU30_h25_0626_1.tif</SourceFilename>
      <SourceBand>1</SourceBand>
      <SourceProperties RasterXSize="58368" RasterYSize="38912" DataType="Byte" BlockXSize="256" BlockYSize="256" />
      <SrcRect xOff="0" yOff="0" xSize="58368" ySize="38912" />
      <DstRect xOff="114000" yOff="109680" xSize="58368" ySize="38912" />
    </SimpleSource>
    <SimpleSource>
      <SourceFilename relativeToVRT="0">/mnt/data/srv/carto_private/01_ORIGINAL/world/spain/provincias/toledo/pnoa_max_actual/PNOA_MA_OF_ETRS89_HU30_h25_0600_1.tif</SourceFilename>
      <SourceBand>1</SourceBand>
      <SourceProperties RasterXSize="58368" RasterYSize="39168" DataType="Byte" BlockXSize="256" BlockYSize="256" />
      <SrcRect xOff="0" yOff="0" xSize="58368" ySize="39168" />
      <DstRect xOff="2120" yOff="32640" xSize="58368" ySize="39168" />
    </SimpleSource>
    <SimpleSource>
      <SourceFilename relativeToVRT="0">/mnt/data/srv/carto_private/01_ORIGINAL/world/spain/provincias/toledo/pnoa_max_actual/PNOA_MA_OF_ETRS89_HU30_h25_0625_1.tif</SourceFilename>
      <SourceBand>1</SourceBand>
      <SourceProperties RasterXSize="58624" RasterYSize="39168" DataType="Byte" BlockXSize="256" BlockYSize="256" />
      <SrcRect xOff="0" yOff="0" xSize="58624" ySize="39168" />
      <DstRect xOff="0" yOff="106640" xSize="58624" ySize="39168" />
    </SimpleSource>
    <SimpleSource>
      <SourceFilename relativeToVRT="0">/mnt/data/srv/carto_private/01_ORIGINAL/world/spain/provincias/toledo/pnoa_max_actual/PNOA_MA_OF_ETRS89_HU30_h25_0600_4.tif</SourceFilename>
      <SourceBand>1</SourceBand>
      <SourceProperties RasterXSize="58368" RasterYSize="39168" DataType="Byte" BlockXSize="256" BlockYSize="256" />
      <SrcRect xOff="0" yOff="0" xSize="58368" ySize="39168" />
      <DstRect xOff="57960" yOff="71200" xSize="58368" ySize="39168" />
    </SimpleSource>
    <SimpleSource>
      <SourceFilename relativeToVRT="0">/mnt/data/srv/carto_private/01_ORIGINAL/world/spain/provincias/toledo/pnoa_max_actual/PNOA_MA_OF_ETRS89_HU30_h25_0601_1.tif</SourceFilename>
      <SourceBand>1</SourceBand>
      <SourceProperties RasterXSize="58368" RasterYSize="38912" DataType="Byte" BlockXSize="256" BlockYSize="256" />
      <SrcRect xOff="0" yOff="0" xSize="58368" ySize="38912" />
      <DstRect xOff="115800" yOff="35640" xSize="58368" ySize="38912" />
    </SimpleSource>
  </VRTRasterBand>
  <VRTRasterBand dataType="Byte" band="2">
    <ColorInterp>Green</ColorInterp>
    <SimpleSource>
      <SourceFilename relativeToVRT="0">/mnt/data/srv/carto_private/01_ORIGINAL/world/spain/provincias/toledo/pnoa_max_actual/PNOA_MA_OF_ETRS89_HU30_h25_0601_4.tif</SourceFilename>
      <SourceBand>2</SourceBand>
      <SourceProperties RasterXSize="58368" RasterYSize="38912" DataType="Byte" BlockXSize="256" BlockYSize="256" />
      <SrcRect xOff="0" yOff="0" xSize="58368" ySize="38912" />
      <DstRect xOff="171800" yOff="74000" xSize="58368" ySize="38912" />
    </SimpleSource>
    <SimpleSource>
      <SourceFilename relativeToVRT="0">/mnt/data/srv/carto_private/01_ORIGINAL/world/spain/provincias/toledo/pnoa_max_actual/PNOA_MA_OF_ETRS89_HU30_h25_0626_2.tif</SourceFilename>
      <SourceBand>2</SourceBand>
      <SourceProperties RasterXSize="58368" RasterYSize="38912" DataType="Byte" BlockXSize="256" BlockYSize="256" />
      <SrcRect xOff="0" yOff="0" xSize="58368" ySize="38912" />
      <DstRect xOff="170960" yOff="111000" xSize="58368" ySize="38912" />
    </SimpleSource>
    <SimpleSource>
      <SourceFilename relativeToVRT="0">/mnt/data/srv/carto_private/01_ORIGINAL/world/spain/provincias/toledo/pnoa_max_actual/PNOA_MA_OF_ETRS89_HU30_h25_0600_3.tif</SourceFilename>
      <SourceBand>2</SourceBand>
      <SourceProperties RasterXSize="58368" RasterYSize="39168" DataType="Byte" BlockXSize="256" BlockYSize="256" />
      <SrcRect xOff="0" yOff="0" xSize="58368" ySize="39168" />
      <DstRect xOff="1080" yOff="69640" xSize="58368" ySize="39168" />
    </SimpleSource>
    <SimpleSource>
      <SourceFilename relativeToVRT="0">/mnt/data/srv/carto_private/01_ORIGINAL/world/spain/provincias/toledo/pnoa_max_actual/PNOA_MA_OF_ETRS89_HU30_h25_0601_3.tif</SourceFilename>
      <SourceBand>2</SourceBand>
      <SourceProperties RasterXSize="58368" RasterYSize="38912" DataType="Byte" BlockXSize="256" BlockYSize="256" />
      <SrcRect xOff="0" yOff="0" xSize="58368" ySize="38912" />
      <DstRect xOff="114880" yOff="72680" xSize="58368" ySize="38912" />
    </SimpleSource>
    <SimpleSource>
      <SourceFilename relativeToVRT="0">/mnt/data/srv/carto_private/01_ORIGINAL/world/spain/provincias/toledo/pnoa_max_actual/PNOA_MA_OF_ETRS89_HU30_h25_0625_2.tif</SourceFilename>
      <SourceBand>2</SourceBand>
      <SourceProperties RasterXSize="58368" RasterYSize="39168" DataType="Byte" BlockXSize="256" BlockYSize="256" />
      <SrcRect xOff="0" yOff="0" xSize="58368" ySize="39168" />
      <DstRect xOff="57000" yOff="108200" xSize="58368" ySize="39168" />
    </SimpleSource>
    <SimpleSource>
      <SourceFilename relativeToVRT="0">/mnt/data/srv/carto_private/01_ORIGINAL/world/spain/provincias/toledo/pnoa_max_actual/PNOA_MA_OF_ETRS89_HU30_h25_0578_4.tif</SourceFilename>
      <SourceBand>2</SourceBand>
      <SourceProperties RasterXSize="58112" RasterYSize="38912" DataType="Byte" BlockXSize="256" BlockYSize="256" />
      <SrcRect xOff="0" yOff="0" xSize="58112" ySize="38912" />
      <DstRect xOff="173480" yOff="0" xSize="58112" ySize="38912" />
    </SimpleSource>
    <SimpleSource>
      <SourceFilename relativeToVRT="0">/mnt/data/srv/carto_private/01_ORIGINAL/world/spain/provincias/toledo/pnoa_max_actual/PNOA_MA_OF_ETRS89_HU30_h25_0601_2.tif</SourceFilename>
      <SourceBand>2</SourceBand>
      <SourceProperties RasterXSize="58112" RasterYSize="38912" DataType="Byte" BlockXSize="256" BlockYSize="256" />
      <SrcRect xOff="0" yOff="0" xSize="58112" ySize="38912" />
      <DstRect xOff="172640" yOff="37000" xSize="58112" ySize="38912" />
    </SimpleSource>
    <SimpleSource>
      <SourceFilename relativeToVRT="0">/mnt/data/srv/carto_private/01_ORIGINAL/world/spain/provincias/toledo/pnoa_max_actual/PNOA_MA_OF_ETRS89_HU30_h25_0600_2.tif</SourceFilename>
      <SourceBand>2</SourceBand>
      <SourceProperties RasterXSize="58368" RasterYSize="39168" DataType="Byte" BlockXSize="256" BlockYSize="256" />
      <SrcRect xOff="0" yOff="0" xSize="58368" ySize="39168" />
      <DstRect xOff="58960" yOff="34200" xSize="58368" ySize="39168" />
    </SimpleSource>
    <SimpleSource>
      <SourceFilename relativeToVRT="0">/mnt/data/srv/carto_private/01_ORIGINAL/world/spain/provincias/toledo/pnoa_max_actual/PNOA_MA_OF_ETRS89_HU30_h25_0626_1.tif</SourceFilename>
      <SourceBand>2</SourceBand>
      <SourceProperties RasterXSize="58368" RasterYSize="38912" DataType="Byte" BlockXSize="256" BlockYSize="256" />
      <SrcRect xOff="0" yOff="0" xSize="58368" ySize="38912" />
      <DstRect xOff="114000" yOff="109680" xSize="58368" ySize="38912" />
    </SimpleSource>
    <SimpleSource>
      <SourceFilename relativeToVRT="0">/mnt/data/srv/carto_private/01_ORIGINAL/world/spain/provincias/toledo/pnoa_max_actual/PNOA_MA_OF_ETRS89_HU30_h25_0600_1.tif</SourceFilename>
      <SourceBand>2</SourceBand>
      <SourceProperties RasterXSize="58368" RasterYSize="39168" DataType="Byte" BlockXSize="256" BlockYSize="256" />
      <SrcRect xOff="0" yOff="0" xSize="58368" ySize="39168" />
      <DstRect xOff="2120" yOff="32640" xSize="58368" ySize="39168" />
    </SimpleSource>
    <SimpleSource>
      <SourceFilename relativeToVRT="0">/mnt/data/srv/carto_private/01_ORIGINAL/world/spain/provincias/toledo/pnoa_max_actual/PNOA_MA_OF_ETRS89_HU30_h25_0625_1.tif</SourceFilename>
      <SourceBand>2</SourceBand>
      <SourceProperties RasterXSize="58624" RasterYSize="39168" DataType="Byte" BlockXSize="256" BlockYSize="256" />
      <SrcRect xOff="0" yOff="0" xSize="58624" ySize="39168" />
      <DstRect xOff="0" yOff="106640" xSize="58624" ySize="39168" />
    </SimpleSource>
    <SimpleSource>
      <SourceFilename relativeToVRT="0">/mnt/data/srv/carto_private/01_ORIGINAL/world/spain/provincias/toledo/pnoa_max_actual/PNOA_MA_OF_ETRS89_HU30_h25_0600_4.tif</SourceFilename>
      <SourceBand>2</SourceBand>
      <SourceProperties RasterXSize="58368" RasterYSize="39168" DataType="Byte" BlockXSize="256" BlockYSize="256" />
      <SrcRect xOff="0" yOff="0" xSize="58368" ySize="39168" />
      <DstRect xOff="57960" yOff="71200" xSize="58368" ySize="39168" />
    </SimpleSource>
    <SimpleSource>
      <SourceFilename relativeToVRT="0">/mnt/data/srv/carto_private/01_ORIGINAL/world/spain/provincias/toledo/pnoa_max_actual/PNOA_MA_OF_ETRS89_HU30_h25_0601_1.tif</SourceFilename>
      <SourceBand>2</SourceBand>
      <SourceProperties RasterXSize="58368" RasterYSize="38912" DataType="Byte" BlockXSize="256" BlockYSize="256" />
      <SrcRect xOff="0" yOff="0" xSize="58368" ySize="38912" />
      <DstRect xOff="115800" yOff="35640" xSize="58368" ySize="38912" />
    </SimpleSource>
  </VRTRasterBand>
  <VRTRasterBand dataType="Byte" band="3">
    <ColorInterp>Blue</ColorInterp>
    <SimpleSource>
      <SourceFilename relativeToVRT="0">/mnt/data/srv/carto_private/01_ORIGINAL/world/spain/provincias/toledo/pnoa_max_actual/PNOA_MA_OF_ETRS89_HU30_h25_0601_4.tif</SourceFilename>
      <SourceBand>3</SourceBand>
      <SourceProperties RasterXSize="58368" RasterYSize="38912" DataType="Byte" BlockXSize="256" BlockYSize="256" />
      <SrcRect xOff="0" yOff="0" xSize="58368" ySize="38912" />
      <DstRect xOff="171800" yOff="74000" xSize="58368" ySize="38912" />
    </SimpleSource>
    <SimpleSource>
      <SourceFilename relativeToVRT="0">/mnt/data/srv/carto_private/01_ORIGINAL/world/spain/provincias/toledo/pnoa_max_actual/PNOA_MA_OF_ETRS89_HU30_h25_0626_2.tif</SourceFilename>
      <SourceBand>3</SourceBand>
      <SourceProperties RasterXSize="58368" RasterYSize="38912" DataType="Byte" BlockXSize="256" BlockYSize="256" />
      <SrcRect xOff="0" yOff="0" xSize="58368" ySize="38912" />
      <DstRect xOff="170960" yOff="111000" xSize="58368" ySize="38912" />
    </SimpleSource>
    <SimpleSource>
      <SourceFilename relativeToVRT="0">/mnt/data/srv/carto_private/01_ORIGINAL/world/spain/provincias/toledo/pnoa_max_actual/PNOA_MA_OF_ETRS89_HU30_h25_0600_3.tif</SourceFilename>
      <SourceBand>3</SourceBand>
      <SourceProperties RasterXSize="58368" RasterYSize="39168" DataType="Byte" BlockXSize="256" BlockYSize="256" />
      <SrcRect xOff="0" yOff="0" xSize="58368" ySize="39168" />
      <DstRect xOff="1080" yOff="69640" xSize="58368" ySize="39168" />
    </SimpleSource>
    <SimpleSource>
      <SourceFilename relativeToVRT="0">/mnt/data/srv/carto_private/01_ORIGINAL/world/spain/provincias/toledo/pnoa_max_actual/PNOA_MA_OF_ETRS89_HU30_h25_0601_3.tif</SourceFilename>
      <SourceBand>3</SourceBand>
      <SourceProperties RasterXSize="58368" RasterYSize="38912" DataType="Byte" BlockXSize="256" BlockYSize="256" />
      <SrcRect xOff="0" yOff="0" xSize="58368" ySize="38912" />
      <DstRect xOff="114880" yOff="72680" xSize="58368" ySize="38912" />
    </SimpleSource>
    <SimpleSource>
      <SourceFilename relativeToVRT="0">/mnt/data/srv/carto_private/01_ORIGINAL/world/spain/provincias/toledo/pnoa_max_actual/PNOA_MA_OF_ETRS89_HU30_h25_0625_2.tif</SourceFilename>
      <SourceBand>3</SourceBand>
      <SourceProperties RasterXSize="58368" RasterYSize="39168" DataType="Byte" BlockXSize="256" BlockYSize="256" />
      <SrcRect xOff="0" yOff="0" xSize="58368" ySize="39168" />
      <DstRect xOff="57000" yOff="108200" xSize="58368" ySize="39168" />
    </SimpleSource>
    <SimpleSource>
      <SourceFilename relativeToVRT="0">/mnt/data/srv/carto_private/01_ORIGINAL/world/spain/provincias/toledo/pnoa_max_actual/PNOA_MA_OF_ETRS89_HU30_h25_0578_4.tif</SourceFilename>
      <SourceBand>3</SourceBand>
      <SourceProperties RasterXSize="58112" RasterYSize="38912" DataType="Byte" BlockXSize="256" BlockYSize="256" />
      <SrcRect xOff="0" yOff="0" xSize="58112" ySize="38912" />
      <DstRect xOff="173480" yOff="0" xSize="58112" ySize="38912" />
    </SimpleSource>
    <SimpleSource>
      <SourceFilename relativeToVRT="0">/mnt/data/srv/carto_private/01_ORIGINAL/world/spain/provincias/toledo/pnoa_max_actual/PNOA_MA_OF_ETRS89_HU30_h25_0601_2.tif</SourceFilename>
      <SourceBand>3</SourceBand>
      <SourceProperties RasterXSize="58112" RasterYSize="38912" DataType="Byte" BlockXSize="256" BlockYSize="256" />
      <SrcRect xOff="0" yOff="0" xSize="58112" ySize="38912" />
      <DstRect xOff="172640" yOff="37000" xSize="58112" ySize="38912" />
    </SimpleSource>
    <SimpleSource>
      <SourceFilename relativeToVRT="0">/mnt/data/srv/carto_private/01_ORIGINAL/world/spain/provincias/toledo/pnoa_max_actual/PNOA_MA_OF_ETRS89_HU30_h25_0600_2.tif</SourceFilename>
      <SourceBand>3</SourceBand>
      <SourceProperties RasterXSize="58368" RasterYSize="39168" DataType="Byte" BlockXSize="256" BlockYSize="256" />
      <SrcRect xOff="0" yOff="0" xSize="58368" ySize="39168" />
      <DstRect xOff="58960" yOff="34200" xSize="58368" ySize="39168" />
    </SimpleSource>
    <SimpleSource>
      <SourceFilename relativeToVRT="0">/mnt/data/srv/carto_private/01_ORIGINAL/world/spain/provincias/toledo/pnoa_max_actual/PNOA_MA_OF_ETRS89_HU30_h25_0626_1.tif</SourceFilename>
      <SourceBand>3</SourceBand>
      <SourceProperties RasterXSize="58368" RasterYSize="38912" DataType="Byte" BlockXSize="256" BlockYSize="256" />
      <SrcRect xOff="0" yOff="0" xSize="58368" ySize="38912" />
      <DstRect xOff="114000" yOff="109680" xSize="58368" ySize="38912" />
    </SimpleSource>
    <SimpleSource>
      <SourceFilename relativeToVRT="0">/mnt/data/srv/carto_private/01_ORIGINAL/world/spain/provincias/toledo/pnoa_max_actual/PNOA_MA_OF_ETRS89_HU30_h25_0600_1.tif</SourceFilename>
      <SourceBand>3</SourceBand>
      <SourceProperties RasterXSize="58368" RasterYSize="39168" DataType="Byte" BlockXSize="256" BlockYSize="256" />
      <SrcRect xOff="0" yOff="0" xSize="58368" ySize="39168" />
      <DstRect xOff="2120" yOff="32640" xSize="58368" ySize="39168" />
    </SimpleSource>
    <SimpleSource>
      <SourceFilename relativeToVRT="0">/mnt/data/srv/carto_private/01_ORIGINAL/world/spain/provincias/toledo/pnoa_max_actual/PNOA_MA_OF_ETRS89_HU30_h25_0625_1.tif</SourceFilename>
      <SourceBand>3</SourceBand>
      <SourceProperties RasterXSize="58624" RasterYSize="39168" DataType="Byte" BlockXSize="256" BlockYSize="256" />
      <SrcRect xOff="0" yOff="0" xSize="58624" ySize="39168" />
      <DstRect xOff="0" yOff="106640" xSize="58624" ySize="39168" />
    </SimpleSource>
    <SimpleSource>
      <SourceFilename relativeToVRT="0">/mnt/data/srv/carto_private/01_ORIGINAL/world/spain/provincias/toledo/pnoa_max_actual/PNOA_MA_OF_ETRS89_HU30_h25_0600_4.tif</SourceFilename>
      <SourceBand>3</SourceBand>
      <SourceProperties RasterXSize="58368" RasterYSize="39168" DataType="Byte" BlockXSize="256" BlockYSize="256" />
      <SrcRect xOff="0" yOff="0" xSize="58368" ySize="39168" />
      <DstRect xOff="57960" yOff="71200" xSize="58368" ySize="39168" />
    </SimpleSource>
    <SimpleSource>
      <SourceFilename relativeToVRT="0">/mnt/data/srv/carto_private/01_ORIGINAL/world/spain/provincias/toledo/pnoa_max_actual/PNOA_MA_OF_ETRS89_HU30_h25_0601_1.tif</SourceFilename>
      <SourceBand>3</SourceBand>
      <SourceProperties RasterXSize="58368" RasterYSize="38912" DataType="Byte" BlockXSize="256" BlockYSize="256" />
      <SrcRect xOff="0" yOff="0" xSize="58368" ySize="38912" />
      <DstRect xOff="115800" yOff="35640" xSize="58368" ySize="38912" />
    </SimpleSource>
  </VRTRasterBand>
  <OverviewList resampling="nearest">2 4 8 16 32 64 128 256</OverviewList>
</VRTDataset>
