<VRTDataset rasterXSize="37175" rasterYSize="32564">
  <SRS dataAxisToSRSAxisMapping="2,1">GEOGCS["WGS 84",DATUM["WGS_1984",SPHEROID["WGS 84",6378137,298.257223563,AUTHORITY["EPSG","7030"]],AUTHORITY["EPSG","6326"]],PRIMEM["Greenwich",0,AUTHORITY["EPSG","8901"]],UNIT["degree",0.0174532925199433,AUTHORITY["EPSG","9122"]],AXIS["Latitude",NORTH],AXIS["Longitude",EAST],AUTHORITY["EPSG","4326"]]</SRS>
  <GeoTransform> -2.8550123286500959e+00,  1.8000000000000000e-05,  0.0000000000000000e+00,  4.1001508692181979e+01,  0.0000000000000000e+00, -1.8000000000000000e-05</GeoTransform>
  <VRTRasterBand dataType="Float32" band="1">
    <NoDataValue>-32767</NoDataValue>
    <ColorInterp>Gray</ColorInterp>
    <ComplexSource>
      <SourceFilename relativeToVRT="0">/mnt/data/srv/carto_private/01_ORIGINAL/world/spain/provincias/guadalajara/dtm2/MDT02-WGS84-0537-2-COB2.tif</SourceFilename>
      <SourceBand>1</SourceBand>
      <SourceProperties RasterXSize="9382" RasterYSize="4745" DataType="Float32" BlockXSize="512" BlockYSize="512" />
      <SrcRect xOff="0" yOff="0" xSize="9382" ySize="4745" />
      <DstRect xOff="9248.6411042069" yOff="18544.6389060533" xSize="9382" ySize="4745" />
      <NODATA>-32767</NODATA>
    </ComplexSource>
    <ComplexSource>
      <SourceFilename relativeToVRT="0">/mnt/data/srv/carto_private/01_ORIGINAL/world/spain/provincias/guadalajara/dtm2/MDT02-WGS84-0513-2-COB2.tif</SourceFilename>
      <SourceBand>1</SourceBand>
      <SourceProperties RasterXSize="9430" RasterYSize="4800" DataType="Float32" BlockXSize="512" BlockYSize="512" />
      <SrcRect xOff="0" yOff="0" xSize="9430" ySize="4800" />
      <DstRect xOff="27744.569693931" yOff="9258.51349078775" xSize="9430" ySize="4800" />
      <NODATA>-32767</NODATA>
    </ComplexSource>
    <ComplexSource>
      <SourceFilename relativeToVRT="0">/mnt/data/srv/carto_private/01_ORIGINAL/world/spain/provincias/guadalajara/dtm2/MDT02-WGS84-0537-3-COB2.tif</SourceFilename>
      <SourceBand>1</SourceBand>
      <SourceProperties RasterXSize="9360" RasterYSize="4720" DataType="Float32" BlockXSize="512" BlockYSize="512" />
      <SrcRect xOff="0" yOff="0" xSize="9360" ySize="4720" />
      <DstRect xOff="1.01292135343576" yOff="23186.8763726782" xSize="9360" ySize="4720" />
      <NODATA>-32767</NODATA>
    </ComplexSource>
    <ComplexSource>
      <SourceFilename relativeToVRT="0">/mnt/data/srv/carto_private/01_ORIGINAL/world/spain/provincias/guadalajara/dtm2/MDT02-WGS84-0487-1-COB2.tif</SourceFilename>
      <SourceBand>1</SourceBand>
      <SourceProperties RasterXSize="9360" RasterYSize="4720" DataType="Float32" BlockXSize="512" BlockYSize="512" />
      <SrcRect xOff="0" yOff="0" xSize="9360" ySize="4720" />
      <DstRect xOff="1.23998361070379" yOff="38.8814521667453" xSize="9360" ySize="4720" />
      <NODATA>-32767</NODATA>
    </ComplexSource>
    <ComplexSource>
      <SourceFilename relativeToVRT="0">/mnt/data/srv/carto_private/01_ORIGINAL/world/spain/provincias/guadalajara/dtm2/MDT02-WGS84-0487-3-COB2.tif</SourceFilename>
      <SourceBand>1</SourceBand>
      <SourceProperties RasterXSize="9362" RasterYSize="4720" DataType="Float32" BlockXSize="512" BlockYSize="512" />
      <SrcRect xOff="0" yOff="0" xSize="9362" ySize="4720" />
      <DstRect xOff="1.68573551525183" yOff="4669.1477017803" xSize="9362" ySize="4720" />
      <NODATA>-32767</NODATA>
    </ComplexSource>
    <ComplexSource>
      <SourceFilename relativeToVRT="0">/mnt/data/srv/carto_private/01_ORIGINAL/world/spain/provincias/guadalajara/dtm2/MDT02-WGS84-0538-2-COB2.tif</SourceFilename>
      <SourceBand>1</SourceBand>
      <SourceProperties RasterXSize="9430" RasterYSize="4800" DataType="Float32" BlockXSize="512" BlockYSize="512" />
      <SrcRect xOff="0" yOff="0" xSize="9430" ySize="4800" />
      <DstRect xOff="27744.8381236364" yOff="18517.2936235721" xSize="9430" ySize="4800" />
      <NODATA>-32767</NODATA>
    </ComplexSource>
    <ComplexSource>
      <SourceFilename relativeToVRT="0">/mnt/data/srv/carto_private/01_ORIGINAL/world/spain/provincias/guadalajara/dtm2/MDT02-WGS84-0512-3-COB2.tif</SourceFilename>
      <SourceBand>1</SourceBand>
      <SourceProperties RasterXSize="9362" RasterYSize="4720" DataType="Float32" BlockXSize="512" BlockYSize="512" />
      <SrcRect xOff="0" yOff="0" xSize="9362" ySize="4720" />
      <DstRect xOff="0" yOff="13927.876306718" xSize="9362" ySize="4720" />
      <NODATA>-32767</NODATA>
    </ComplexSource>
    <ComplexSource>
      <SourceFilename relativeToVRT="0">/mnt/data/srv/carto_private/01_ORIGINAL/world/spain/provincias/guadalajara/dtm2/MDT02-WGS84-0487-2-COB2.tif</SourceFilename>
      <SourceBand>1</SourceBand>
      <SourceProperties RasterXSize="9385" RasterYSize="4748" DataType="Float32" BlockXSize="512" BlockYSize="512" />
      <SrcRect xOff="0" yOff="0" xSize="9385" ySize="4748" />
      <DstRect xOff="9248.17410241337" yOff="25.2073235320122" xSize="9385" ySize="4748" />
      <NODATA>-32767</NODATA>
    </ComplexSource>
    <ComplexSource>
      <SourceFilename relativeToVRT="0">/mnt/data/srv/carto_private/01_ORIGINAL/world/spain/provincias/guadalajara/dtm2/MDT02-WGS84-0488-1-COB2.tif</SourceFilename>
      <SourceBand>1</SourceBand>
      <SourceProperties RasterXSize="9410" RasterYSize="4773" DataType="Float32" BlockXSize="512" BlockYSize="512" />
      <SrcRect xOff="0" yOff="0" xSize="9410" ySize="4773" />
      <DstRect xOff="18495.0905326432" yOff="12.9089000135233" xSize="9410" ySize="4773" />
      <NODATA>-32767</NODATA>
    </ComplexSource>
    <ComplexSource>
      <SourceFilename relativeToVRT="0">/mnt/data/srv/carto_private/01_ORIGINAL/world/spain/provincias/guadalajara/dtm2/MDT02-WGS84-0513-4-COB2.tif</SourceFilename>
      <SourceBand>1</SourceBand>
      <SourceProperties RasterXSize="9430" RasterYSize="4801" DataType="Float32" BlockXSize="512" BlockYSize="512" />
      <SrcRect xOff="0" yOff="0" xSize="9430" ySize="4801" />
      <DstRect xOff="27744.6567261281" yOff="13888.8711363919" xSize="9430" ySize="4801" />
      <NODATA>-32767</NODATA>
    </ComplexSource>
    <ComplexSource>
      <SourceFilename relativeToVRT="0">/mnt/data/srv/carto_private/01_ORIGINAL/world/spain/provincias/guadalajara/dtm2/MDT02-WGS84-0512-2-COB2.tif</SourceFilename>
      <SourceBand>1</SourceBand>
      <SourceProperties RasterXSize="9382" RasterYSize="4746" DataType="Float32" BlockXSize="512" BlockYSize="512" />
      <SrcRect xOff="0" yOff="0" xSize="9382" ySize="4746" />
      <DstRect xOff="9249.65143331202" yOff="9285.79360638161" xSize="9382" ySize="4746" />
      <NODATA>-32767</NODATA>
    </ComplexSource>
    <ComplexSource>
      <SourceFilename relativeToVRT="0">/mnt/data/srv/carto_private/01_ORIGINAL/world/spain/provincias/guadalajara/dtm2/MDT02-WGS84-0538-4-COB2.tif</SourceFilename>
      <SourceBand>1</SourceBand>
      <SourceProperties RasterXSize="9429" RasterYSize="4800" DataType="Float32" BlockXSize="512" BlockYSize="512" />
      <SrcRect xOff="0" yOff="0" xSize="9429" ySize="4800" />
      <DstRect xOff="27745.0752232782" yOff="23147.7845323711" xSize="9429" ySize="4800" />
      <NODATA>-32767</NODATA>
    </ComplexSource>
    <ComplexSource>
      <SourceFilename relativeToVRT="0">/mnt/data/srv/carto_private/01_ORIGINAL/world/spain/provincias/guadalajara/dtm2/MDT02-WGS84-0562-1-COB2.tif</SourceFilename>
      <SourceBand>1</SourceBand>
      <SourceProperties RasterXSize="9361" RasterYSize="4720" DataType="Float32" BlockXSize="512" BlockYSize="512" />
      <SrcRect xOff="0" yOff="0" xSize="9361" ySize="4720" />
      <DstRect xOff="1.54077445789645" yOff="27817.4778859257" xSize="9361" ySize="4720" />
      <NODATA>-32767</NODATA>
    </ComplexSource>
    <ComplexSource>
      <SourceFilename relativeToVRT="0">/mnt/data/srv/carto_private/01_ORIGINAL/world/spain/provincias/guadalajara/dtm2/MDT02-WGS84-0487-4-COB2.tif</SourceFilename>
      <SourceBand>1</SourceBand>
      <SourceProperties RasterXSize="9387" RasterYSize="4747" DataType="Float32" BlockXSize="512" BlockYSize="512" />
      <SrcRect xOff="0" yOff="0" xSize="9387" ySize="4747" />
      <DstRect xOff="9247.57296783708" yOff="4655.46337859695" xSize="9387" ySize="4747" />
      <NODATA>-32767</NODATA>
    </ComplexSource>
    <ComplexSource>
      <SourceFilename relativeToVRT="0">/mnt/data/srv/carto_private/01_ORIGINAL/world/spain/provincias/guadalajara/dtm2/MDT02-WGS84-0537-1-COB2.tif</SourceFilename>
      <SourceBand>1</SourceBand>
      <SourceProperties RasterXSize="9361" RasterYSize="4720" DataType="Float32" BlockXSize="512" BlockYSize="512" />
      <SrcRect xOff="0" yOff="0" xSize="9361" ySize="4720" />
      <DstRect xOff="0.496440790821574" yOff="18558.3438065085" xSize="9361" ySize="4720" />
      <NODATA>-32767</NODATA>
    </ComplexSource>
    <ComplexSource>
      <SourceFilename relativeToVRT="0">/mnt/data/srv/carto_private/01_ORIGINAL/world/spain/provincias/guadalajara/dtm2/MDT02-WGS84-0513-3-COB2.tif</SourceFilename>
      <SourceBand>1</SourceBand>
      <SourceProperties RasterXSize="9408" RasterYSize="4773" DataType="Float32" BlockXSize="512" BlockYSize="512" />
      <SrcRect xOff="0" yOff="0" xSize="9408" ySize="4773" />
      <DstRect xOff="18495.5976900346" yOff="13901.8411174526" xSize="9408" ySize="4773" />
      <NODATA>-32767</NODATA>
    </ComplexSource>
    <ComplexSource>
      <SourceFilename relativeToVRT="0">/mnt/data/srv/carto_private/01_ORIGINAL/world/spain/provincias/guadalajara/dtm2/MDT02-WGS84-0537-4-COB2.tif</SourceFilename>
      <SourceBand>1</SourceBand>
      <SourceProperties RasterXSize="9384" RasterYSize="4746" DataType="Float32" BlockXSize="512" BlockYSize="512" />
      <SrcRect xOff="0" yOff="0" xSize="9384" ySize="4746" />
      <DstRect xOff="9248.18779104367" yOff="23175.1629462704" xSize="9384" ySize="4746" />
      <NODATA>-32767</NODATA>
    </ComplexSource>
    <ComplexSource>
      <SourceFilename relativeToVRT="0">/mnt/data/srv/carto_private/01_ORIGINAL/world/spain/provincias/guadalajara/dtm2/MDT02-WGS84-0513-1-COB2.tif</SourceFilename>
      <SourceBand>1</SourceBand>
      <SourceProperties RasterXSize="9407" RasterYSize="4772" DataType="Float32" BlockXSize="512" BlockYSize="512" />
      <SrcRect xOff="0" yOff="0" xSize="9407" ySize="4772" />
      <DstRect xOff="18497.1327621544" yOff="9271.47019167052" xSize="9407" ySize="4772" />
      <NODATA>-32767</NODATA>
    </ComplexSource>
    <ComplexSource>
      <SourceFilename relativeToVRT="0">/mnt/data/srv/carto_private/01_ORIGINAL/world/spain/provincias/guadalajara/dtm2/MDT02-WGS84-0563-1-COB2.tif</SourceFilename>
      <SourceBand>1</SourceBand>
      <SourceProperties RasterXSize="9407" RasterYSize="4773" DataType="Float32" BlockXSize="512" BlockYSize="512" />
      <SrcRect xOff="0" yOff="0" xSize="9407" ySize="4772.62518708273" />
      <DstRect xOff="18496.6027715565" yOff="27791.3748129173" xSize="9407" ySize="4772.62518708273" />
      <NODATA>-32767</NODATA>
    </ComplexSource>
    <ComplexSource>
      <SourceFilename relativeToVRT="0">/mnt/data/srv/carto_private/01_ORIGINAL/world/spain/provincias/guadalajara/dtm2/MDT02-WGS84-0538-3-COB2.tif</SourceFilename>
      <SourceBand>1</SourceBand>
      <SourceProperties RasterXSize="9409" RasterYSize="4773" DataType="Float32" BlockXSize="512" BlockYSize="512" />
      <SrcRect xOff="0" yOff="0" xSize="9409" ySize="4773" />
      <DstRect xOff="18495.3432176534" yOff="23160.7925373132" xSize="9409" ySize="4773" />
      <NODATA>-32767</NODATA>
    </ComplexSource>
    <ComplexSource>
      <SourceFilename relativeToVRT="0">/mnt/data/srv/carto_private/01_ORIGINAL/world/spain/provincias/guadalajara/dtm2/MDT02-WGS84-0512-4-COB2.tif</SourceFilename>
      <SourceBand>1</SourceBand>
      <SourceProperties RasterXSize="9384" RasterYSize="4748" DataType="Float32" BlockXSize="512" BlockYSize="512" />
      <SrcRect xOff="0" yOff="0" xSize="9384" ySize="4748" />
      <DstRect xOff="9249.12275261855" yOff="13914.1818303135" xSize="9384" ySize="4748" />
      <NODATA>-32767</NODATA>
    </ComplexSource>
    <ComplexSource>
      <SourceFilename relativeToVRT="0">/mnt/data/srv/carto_private/01_ORIGINAL/world/spain/provincias/guadalajara/dtm2/MDT02-WGS84-0538-1-COB2.tif</SourceFilename>
      <SourceBand>1</SourceBand>
      <SourceProperties RasterXSize="9407" RasterYSize="4773" DataType="Float32" BlockXSize="512" BlockYSize="512" />
      <SrcRect xOff="0" yOff="0" xSize="9407" ySize="4773" />
      <DstRect xOff="18496.7480653158" yOff="18532.2898141239" xSize="9407" ySize="4773" />
      <NODATA>-32767</NODATA>
    </ComplexSource>
    <ComplexSource>
      <SourceFilename relativeToVRT="0">/mnt/data/srv/carto_private/01_ORIGINAL/world/spain/provincias/guadalajara/dtm2/MDT02-WGS84-0488-4-COB2.tif</SourceFilename>
      <SourceBand>1</SourceBand>
      <SourceProperties RasterXSize="9430" RasterYSize="4801" DataType="Float32" BlockXSize="512" BlockYSize="512" />
      <SrcRect xOff="0" yOff="0" xSize="9430" ySize="4801" />
      <DstRect xOff="27744.5580007817" yOff="4628.22253483668" xSize="9430" ySize="4801" />
      <NODATA>-32767</NODATA>
    </ComplexSource>
    <ComplexSource>
      <SourceFilename relativeToVRT="0">/mnt/data/srv/carto_private/01_ORIGINAL/world/spain/provincias/guadalajara/dtm2/MDT02-WGS84-0488-3-COB2.tif</SourceFilename>
      <SourceBand>1</SourceBand>
      <SourceProperties RasterXSize="9408" RasterYSize="4773" DataType="Float32" BlockXSize="512" BlockYSize="512" />
      <SrcRect xOff="0" yOff="0" xSize="9408" ySize="4773" />
      <DstRect xOff="18496.0777671375" yOff="4643.15700783126" xSize="9408" ySize="4773" />
      <NODATA>-32767</NODATA>
    </ComplexSource>
    <ComplexSource>
      <SourceFilename relativeToVRT="0">/mnt/data/srv/carto_private/01_ORIGINAL/world/spain/provincias/guadalajara/dtm2/MDT02-WGS84-0512-1-COB2.tif</SourceFilename>
      <SourceBand>1</SourceBand>
      <SourceProperties RasterXSize="9360" RasterYSize="4718" DataType="Float32" BlockXSize="512" BlockYSize="512" />
      <SrcRect xOff="0" yOff="0" xSize="9360" ySize="4718" />
      <DstRect xOff="2.15168322181825" yOff="9299.48106993569" xSize="9360" ySize="4718" />
      <NODATA>-32767</NODATA>
    </ComplexSource>
    <ComplexSource>
      <SourceFilename relativeToVRT="0">/mnt/data/srv/carto_private/01_ORIGINAL/world/spain/provincias/guadalajara/dtm2/MDT02-WGS84-0488-2-COB2.tif</SourceFilename>
      <SourceBand>1</SourceBand>
      <SourceProperties RasterXSize="9430" RasterYSize="4801" DataType="Float32" BlockXSize="512" BlockYSize="512" />
      <SrcRect xOff="0" yOff="0" xSize="9430" ySize="4801" />
      <DstRect xOff="27744.6023952676" yOff="0" xSize="9430" ySize="4801" />
      <NODATA>-32767</NODATA>
    </ComplexSource>
    <ComplexSource>
      <SourceFilename relativeToVRT="0">/mnt/data/srv/carto_private/01_ORIGINAL/world/spain/provincias/guadalajara/dtm2/MDT02-WGS84-0562-2-COB2.tif</SourceFilename>
      <SourceBand>1</SourceBand>
      <SourceProperties RasterXSize="9386" RasterYSize="4746" DataType="Float32" BlockXSize="512" BlockYSize="512" />
      <SrcRect xOff="0" yOff="0" xSize="9386" ySize="4746" />
      <DstRect xOff="9247.78126093659" yOff="27803.7519471069" xSize="9386" ySize="4746" />
      <NODATA>-32767</NODATA>
    </ComplexSource>
  </VRTRasterBand>
  <OverviewList resampling="nearest">2 4 8 16 32</OverviewList>
</VRTDataset>
