<VRTDataset rasterXSize="37157" rasterYSize="32532">
  <SRS dataAxisToSRSAxisMapping="2,1">GEOGCS["WGS 84",DATUM["WGS_1984",SPHEROID["WGS 84",6378137,298.257223563,AUTHORITY["EPSG","7030"]],AUTHORITY["EPSG","6326"]],PRIMEM["Greenwich",0,AUTHORITY["EPSG","8901"]],UNIT["degree",0.0174532925199433,AUTHORITY["EPSG","9122"]],AXIS["Latitude",NORTH],AXIS["Longitude",EAST],AUTHORITY["EPSG","4326"]]</SRS>
  <GeoTransform> -3.5221540693967008e+00,  1.8000000000000000e-05,  0.0000000000000000e+00,  4.1001114731383339e+01,  0.0000000000000000e+00, -1.8000000000000000e-05</GeoTransform>
  <VRTRasterBand dataType="Float32" band="1">
    <NoDataValue>-32767</NoDataValue>
    <ColorInterp>Gray</ColorInterp>
    <ComplexSource>
      <SourceFilename relativeToVRT="0">/mnt/data/srv/carto_private/01_ORIGINAL/world/spain/provincias/madrid/dtm2/MDT02-WGS84-0535-4-COB2.tif</SourceFilename>
      <SourceBand>1</SourceBand>
      <SourceProperties RasterXSize="9368" RasterYSize="4725" DataType="Float32" BlockXSize="512" BlockYSize="512" />
      <SrcRect xOff="0" yOff="0" xSize="9368" ySize="4725" />
      <DstRect xOff="9271.95266806261" yOff="23162.312564033" xSize="9368" ySize="4725" />
      <NODATA>-32767</NODATA>
    </ComplexSource>
    <ComplexSource>
      <SourceFilename relativeToVRT="0">/mnt/data/srv/carto_private/01_ORIGINAL/world/spain/provincias/madrid/dtm2/MDT02-WGS84-0485-3-COB2.tif</SourceFilename>
      <SourceBand>1</SourceBand>
      <SourceProperties RasterXSize="9392" RasterYSize="4753" DataType="Float32" BlockXSize="512" BlockYSize="512" />
      <SrcRect xOff="0" yOff="0" xSize="9392" ySize="4753" />
      <DstRect xOff="0" yOff="4630.25213096518" xSize="9392" ySize="4753" />
      <NODATA>-32767</NODATA>
    </ComplexSource>
    <ComplexSource>
      <SourceFilename relativeToVRT="0">/mnt/data/srv/carto_private/01_ORIGINAL/world/spain/provincias/madrid/dtm2/MDT02-WGS84-0535-1-COB2.tif</SourceFilename>
      <SourceBand>1</SourceBand>
      <SourceProperties RasterXSize="9391" RasterYSize="4752" DataType="Float32" BlockXSize="512" BlockYSize="512" />
      <SrcRect xOff="0" yOff="0" xSize="9391" ySize="4752" />
      <DstRect xOff="0.81264201274362" yOff="18519.4166945387" xSize="9391" ySize="4752" />
      <NODATA>-32767</NODATA>
    </ComplexSource>
    <ComplexSource>
      <SourceFilename relativeToVRT="0">/mnt/data/srv/carto_private/01_ORIGINAL/world/spain/provincias/madrid/dtm2/MDT02-WGS84-0535-2-COB2.tif</SourceFilename>
      <SourceBand>1</SourceBand>
      <SourceProperties RasterXSize="9369" RasterYSize="4726" DataType="Float32" BlockXSize="512" BlockYSize="512" />
      <SrcRect xOff="0" yOff="0" xSize="9369" ySize="4726" />
      <DstRect xOff="9271.07437010302" yOff="18533.7817723601" xSize="9369" ySize="4726" />
      <NODATA>-32767</NODATA>
    </ComplexSource>
    <ComplexSource>
      <SourceFilename relativeToVRT="0">/mnt/data/srv/carto_private/01_ORIGINAL/world/spain/provincias/madrid/dtm2/MDT02-WGS84-0535-3-COB2.tif</SourceFilename>
      <SourceBand>1</SourceBand>
      <SourceProperties RasterXSize="9387" RasterYSize="4753" DataType="Float32" BlockXSize="512" BlockYSize="512" />
      <SrcRect xOff="0" yOff="0" xSize="9387" ySize="4753" />
      <DstRect xOff="2.71585760522639" yOff="23149.9447459862" xSize="9387" ySize="4753" />
      <NODATA>-32767</NODATA>
    </ComplexSource>
    <ComplexSource>
      <SourceFilename relativeToVRT="0">/mnt/data/srv/carto_private/01_ORIGINAL/world/spain/provincias/madrid/dtm2/MDT02-WGS84-0560-1-COB2.tif</SourceFilename>
      <SourceBand>1</SourceBand>
      <SourceProperties RasterXSize="9389" RasterYSize="4753" DataType="Float32" BlockXSize="512" BlockYSize="512" />
      <SrcRect xOff="0" yOff="0" xSize="9389" ySize="4753" />
      <DstRect xOff="1.91526565728061" yOff="27778.5296906134" xSize="9389" ySize="4753" />
      <NODATA>-32767</NODATA>
    </ComplexSource>
    <ComplexSource>
      <SourceFilename relativeToVRT="0">/mnt/data/srv/carto_private/01_ORIGINAL/world/spain/provincias/madrid/dtm2/MDT02-WGS84-0560-2-COB2.tif</SourceFilename>
      <SourceBand>1</SourceBand>
      <SourceProperties RasterXSize="9366" RasterYSize="4726" DataType="Float32" BlockXSize="512" BlockYSize="512" />
      <SrcRect xOff="0" yOff="0" xSize="9366" ySize="4726" />
      <DstRect xOff="9272.79783146033" yOff="27792.9122850963" xSize="9366" ySize="4726" />
      <NODATA>-32767</NODATA>
    </ComplexSource>
    <ComplexSource>
      <SourceFilename relativeToVRT="0">/mnt/data/srv/carto_private/01_ORIGINAL/world/spain/provincias/madrid/dtm2/MDT02-WGS84-0561-1-COB2.tif</SourceFilename>
      <SourceBand>1</SourceBand>
      <SourceProperties RasterXSize="9341" RasterYSize="4700" DataType="Float32" BlockXSize="512" BlockYSize="512" />
      <SrcRect xOff="0" yOff="0" xSize="9341" ySize="4700" />
      <DstRect xOff="18543.6954202905" yOff="27804.6363956727" xSize="9341" ySize="4700" />
      <NODATA>-32767</NODATA>
    </ComplexSource>
    <ComplexSource>
      <SourceFilename relativeToVRT="0">/mnt/data/srv/carto_private/01_ORIGINAL/world/spain/provincias/madrid/dtm2/MDT02-WGS84-0510-1-COB2.tif</SourceFilename>
      <SourceBand>1</SourceBand>
      <SourceProperties RasterXSize="9388" RasterYSize="4753" DataType="Float32" BlockXSize="512" BlockYSize="512" />
      <SrcRect xOff="0" yOff="0" xSize="9388" ySize="4753" />
      <DstRect xOff="2.09500774464269" yOff="9260.57936253757" xSize="9388" ySize="4753" />
      <NODATA>-32767</NODATA>
    </ComplexSource>
    <ComplexSource>
      <SourceFilename relativeToVRT="0">/mnt/data/srv/carto_private/01_ORIGINAL/world/spain/provincias/madrid/dtm2/MDT02-WGS84-0510-3-COB2.tif</SourceFilename>
      <SourceBand>1</SourceBand>
      <SourceProperties RasterXSize="9390" RasterYSize="4755" DataType="Float32" BlockXSize="512" BlockYSize="512" />
      <SrcRect xOff="0" yOff="0" xSize="9390" ySize="4755" />
      <DstRect xOff="1.47575444168583" yOff="13888.9636193929" xSize="9390" ySize="4755" />
      <NODATA>-32767</NODATA>
    </ComplexSource>
    <ComplexSource>
      <SourceFilename relativeToVRT="0">/mnt/data/srv/carto_private/01_ORIGINAL/world/spain/provincias/madrid/dtm2/MDT02-WGS84-0485-1-COB2.tif</SourceFilename>
      <SourceBand>1</SourceBand>
      <SourceProperties RasterXSize="9391" RasterYSize="4755" DataType="Float32" BlockXSize="512" BlockYSize="512" />
      <SrcRect xOff="0" yOff="0" xSize="9391" ySize="4755" />
      <DstRect xOff="0.480718046825935" yOff="0" xSize="9391" ySize="4755" />
      <NODATA>-32767</NODATA>
    </ComplexSource>
    <ComplexSource>
      <SourceFilename relativeToVRT="0">/mnt/data/srv/carto_private/01_ORIGINAL/world/spain/provincias/guadalajara/dtm2/MDT02-WGS84-0561-2-COB2.tif</SourceFilename>
      <SourceBand>1</SourceBand>
      <SourceProperties RasterXSize="9341" RasterYSize="4692" DataType="Float32" BlockXSize="512" BlockYSize="512" />
      <SrcRect xOff="0" yOff="0" xSize="9341" ySize="4692" />
      <DstRect xOff="27814.6150977673" yOff="27808.5419411901" xSize="9341" ySize="4692" />
      <NODATA>-32767</NODATA>
    </ComplexSource>
    <ComplexSource>
      <SourceFilename relativeToVRT="0">/mnt/data/srv/carto_private/01_ORIGINAL/world/spain/provincias/guadalajara/dtm2/MDT02-WGS84-0535-4-COB2.tif</SourceFilename>
      <SourceBand>1</SourceBand>
      <SourceProperties RasterXSize="9368" RasterYSize="4725" DataType="Float32" BlockXSize="512" BlockYSize="512" />
      <SrcRect xOff="0" yOff="0" xSize="9368" ySize="4725" />
      <DstRect xOff="9271.95266806261" yOff="23162.312564033" xSize="9368" ySize="4725" />
      <NODATA>-32767</NODATA>
    </ComplexSource>
    <ComplexSource>
      <SourceFilename relativeToVRT="0">/mnt/data/srv/carto_private/01_ORIGINAL/world/spain/provincias/guadalajara/dtm2/MDT02-WGS84-0485-3-COB2.tif</SourceFilename>
      <SourceBand>1</SourceBand>
      <SourceProperties RasterXSize="9392" RasterYSize="4753" DataType="Float32" BlockXSize="512" BlockYSize="512" />
      <SrcRect xOff="0" yOff="0" xSize="9392" ySize="4753" />
      <DstRect xOff="0" yOff="4630.25213096518" xSize="9392" ySize="4753" />
      <NODATA>-32767</NODATA>
    </ComplexSource>
    <ComplexSource>
      <SourceFilename relativeToVRT="0">/mnt/data/srv/carto_private/01_ORIGINAL/world/spain/provincias/guadalajara/dtm2/MDT02-WGS84-0536-4-COB2.tif</SourceFilename>
      <SourceBand>1</SourceBand>
      <SourceProperties RasterXSize="9341" RasterYSize="4693" DataType="Float32" BlockXSize="512" BlockYSize="512" />
      <SrcRect xOff="0" yOff="0" xSize="9341" ySize="4693" />
      <DstRect xOff="27813.1349239308" yOff="23179.9405059299" xSize="9341" ySize="4693" />
      <NODATA>-32767</NODATA>
    </ComplexSource>
    <ComplexSource>
      <SourceFilename relativeToVRT="0">/mnt/data/srv/carto_private/01_ORIGINAL/world/spain/provincias/guadalajara/dtm2/MDT02-WGS84-0536-2-COB2.tif</SourceFilename>
      <SourceBand>1</SourceBand>
      <SourceProperties RasterXSize="9339" RasterYSize="4693" DataType="Float32" BlockXSize="512" BlockYSize="512" />
      <SrcRect xOff="0" yOff="0" xSize="9339" ySize="4693" />
      <DstRect xOff="27814.2770371228" yOff="18549.4040955068" xSize="9339" ySize="4693" />
      <NODATA>-32767</NODATA>
    </ComplexSource>
    <ComplexSource>
      <SourceFilename relativeToVRT="0">/mnt/data/srv/carto_private/01_ORIGINAL/world/spain/provincias/guadalajara/dtm2/MDT02-WGS84-0536-1-COB2.tif</SourceFilename>
      <SourceBand>1</SourceBand>
      <SourceProperties RasterXSize="9341" RasterYSize="4700" DataType="Float32" BlockXSize="512" BlockYSize="512" />
      <SrcRect xOff="0" yOff="0" xSize="9341" ySize="4700" />
      <DstRect xOff="18543.9793853674" yOff="18545.4987819086" xSize="9341" ySize="4700" />
      <NODATA>-32767</NODATA>
    </ComplexSource>
    <ComplexSource>
      <SourceFilename relativeToVRT="0">/mnt/data/srv/carto_private/01_ORIGINAL/world/spain/provincias/guadalajara/dtm2/MDT02-WGS84-0486-3-COB2.tif</SourceFilename>
      <SourceBand>1</SourceBand>
      <SourceProperties RasterXSize="9344" RasterYSize="4697" DataType="Float32" BlockXSize="512" BlockYSize="512" />
      <SrcRect xOff="0" yOff="0" xSize="9344" ySize="4697" />
      <DstRect xOff="18541.6059196937" yOff="4658.29585176378" xSize="9344" ySize="4697" />
      <NODATA>-32767</NODATA>
    </ComplexSource>
    <ComplexSource>
      <SourceFilename relativeToVRT="0">/mnt/data/srv/carto_private/01_ORIGINAL/world/spain/provincias/guadalajara/dtm2/MDT02-WGS84-0511-3-COB2.tif</SourceFilename>
      <SourceBand>1</SourceBand>
      <SourceProperties RasterXSize="9342" RasterYSize="4700" DataType="Float32" BlockXSize="512" BlockYSize="512" />
      <SrcRect xOff="0" yOff="0" xSize="9342" ySize="4700" />
      <DstRect xOff="18544.0915926667" yOff="13917.0312334211" xSize="9342" ySize="4700" />
      <NODATA>-32767</NODATA>
    </ComplexSource>
    <ComplexSource>
      <SourceFilename relativeToVRT="0">/mnt/data/srv/carto_private/01_ORIGINAL/world/spain/provincias/guadalajara/dtm2/MDT02-WGS84-0485-2-COB2.tif</SourceFilename>
      <SourceBand>1</SourceBand>
      <SourceProperties RasterXSize="9365" RasterYSize="4727" DataType="Float32" BlockXSize="512" BlockYSize="512" />
      <SrcRect xOff="0" yOff="0" xSize="9365" ySize="4727" />
      <DstRect xOff="9272.37418735253" yOff="14.3273513254864" xSize="9365" ySize="4727" />
      <NODATA>-32767</NODATA>
    </ComplexSource>
    <ComplexSource>
      <SourceFilename relativeToVRT="0">/mnt/data/srv/carto_private/01_ORIGINAL/world/spain/provincias/guadalajara/dtm2/MDT02-WGS84-0511-2-COB2.tif</SourceFilename>
      <SourceBand>1</SourceBand>
      <SourceProperties RasterXSize="9340" RasterYSize="4693" DataType="Float32" BlockXSize="512" BlockYSize="512" />
      <SrcRect xOff="0" yOff="0" xSize="9340" ySize="4693" />
      <DstRect xOff="27813.9271980224" yOff="9290.53436975854" xSize="9340" ySize="4693" />
      <NODATA>-32767</NODATA>
    </ComplexSource>
    <ComplexSource>
      <SourceFilename relativeToVRT="0">/mnt/data/srv/carto_private/01_ORIGINAL/world/spain/provincias/guadalajara/dtm2/MDT02-WGS84-0510-2-COB2.tif</SourceFilename>
      <SourceBand>1</SourceBand>
      <SourceProperties RasterXSize="9366" RasterYSize="4727" DataType="Float32" BlockXSize="512" BlockYSize="512" />
      <SrcRect xOff="0" yOff="0" xSize="9366" ySize="4727" />
      <DstRect xOff="9271.80049759261" yOff="9272.92162361424" xSize="9366" ySize="4727" />
      <NODATA>-32767</NODATA>
    </ComplexSource>
    <ComplexSource>
      <SourceFilename relativeToVRT="0">/mnt/data/srv/carto_private/01_ORIGINAL/world/spain/provincias/guadalajara/dtm2/MDT02-WGS84-0535-1-COB2.tif</SourceFilename>
      <SourceBand>1</SourceBand>
      <SourceProperties RasterXSize="9391" RasterYSize="4752" DataType="Float32" BlockXSize="512" BlockYSize="512" />
      <SrcRect xOff="0" yOff="0" xSize="9391" ySize="4752" />
      <DstRect xOff="0.81264201274362" yOff="18519.4166945387" xSize="9391" ySize="4752" />
      <NODATA>-32767</NODATA>
    </ComplexSource>
    <ComplexSource>
      <SourceFilename relativeToVRT="0">/mnt/data/srv/carto_private/01_ORIGINAL/world/spain/provincias/guadalajara/dtm2/MDT02-WGS84-0535-2-COB2.tif</SourceFilename>
      <SourceBand>1</SourceBand>
      <SourceProperties RasterXSize="9369" RasterYSize="4726" DataType="Float32" BlockXSize="512" BlockYSize="512" />
      <SrcRect xOff="0" yOff="0" xSize="9369" ySize="4726" />
      <DstRect xOff="9271.07437010302" yOff="18533.7817723601" xSize="9369" ySize="4726" />
      <NODATA>-32767</NODATA>
    </ComplexSource>
    <ComplexSource>
      <SourceFilename relativeToVRT="0">/mnt/data/srv/carto_private/01_ORIGINAL/world/spain/provincias/guadalajara/dtm2/MDT02-WGS84-0485-4-COB2.tif</SourceFilename>
      <SourceBand>1</SourceBand>
      <SourceProperties RasterXSize="9367" RasterYSize="4726" DataType="Float32" BlockXSize="512" BlockYSize="512" />
      <SrcRect xOff="0" yOff="0" xSize="9367" ySize="4726" />
      <DstRect xOff="9270.79365541143" yOff="4644.59187383228" xSize="9367" ySize="4726" />
      <NODATA>-32767</NODATA>
    </ComplexSource>
    <ComplexSource>
      <SourceFilename relativeToVRT="0">/mnt/data/srv/carto_private/01_ORIGINAL/world/spain/provincias/guadalajara/dtm2/MDT02-WGS84-0511-4-COB2.tif</SourceFilename>
      <SourceBand>1</SourceBand>
      <SourceProperties RasterXSize="9341" RasterYSize="4695" DataType="Float32" BlockXSize="512" BlockYSize="512" />
      <SrcRect xOff="0" yOff="0" xSize="9341" ySize="4695" />
      <DstRect xOff="27812.7870669112" yOff="13918.9347450994" xSize="9341" ySize="4695" />
      <NODATA>-32767</NODATA>
    </ComplexSource>
    <ComplexSource>
      <SourceFilename relativeToVRT="0">/mnt/data/srv/carto_private/01_ORIGINAL/world/spain/provincias/guadalajara/dtm2/MDT02-WGS84-0560-2-COB2.tif</SourceFilename>
      <SourceBand>1</SourceBand>
      <SourceProperties RasterXSize="9366" RasterYSize="4726" DataType="Float32" BlockXSize="512" BlockYSize="512" />
      <SrcRect xOff="0" yOff="0" xSize="9366" ySize="4726" />
      <DstRect xOff="9272.79783146033" yOff="27792.9122850963" xSize="9366" ySize="4726" />
      <NODATA>-32767</NODATA>
    </ComplexSource>
    <ComplexSource>
      <SourceFilename relativeToVRT="0">/mnt/data/srv/carto_private/01_ORIGINAL/world/spain/provincias/guadalajara/dtm2/MDT02-WGS84-0510-4-COB2.tif</SourceFilename>
      <SourceBand>1</SourceBand>
      <SourceProperties RasterXSize="9367" RasterYSize="4726" DataType="Float32" BlockXSize="512" BlockYSize="512" />
      <SrcRect xOff="0" yOff="0" xSize="9367" ySize="4726" />
      <DstRect xOff="9272.77396061142" yOff="13903.3160379181" xSize="9367" ySize="4726" />
      <NODATA>-32767</NODATA>
    </ComplexSource>
    <ComplexSource>
      <SourceFilename relativeToVRT="0">/mnt/data/srv/carto_private/01_ORIGINAL/world/spain/provincias/guadalajara/dtm2/MDT02-WGS84-0561-1-COB2.tif</SourceFilename>
      <SourceBand>1</SourceBand>
      <SourceProperties RasterXSize="9341" RasterYSize="4700" DataType="Float32" BlockXSize="512" BlockYSize="512" />
      <SrcRect xOff="0" yOff="0" xSize="9341" ySize="4700" />
      <DstRect xOff="18543.6954202905" yOff="27804.6363956727" xSize="9341" ySize="4700" />
      <NODATA>-32767</NODATA>
    </ComplexSource>
    <ComplexSource>
      <SourceFilename relativeToVRT="0">/mnt/data/srv/carto_private/01_ORIGINAL/world/spain/provincias/guadalajara/dtm2/MDT02-WGS84-0486-4-COB2.tif</SourceFilename>
      <SourceBand>1</SourceBand>
      <SourceProperties RasterXSize="9343" RasterYSize="4693" DataType="Float32" BlockXSize="512" BlockYSize="512" />
      <SrcRect xOff="0" yOff="0" xSize="9343" ySize="4693" />
      <DstRect xOff="27812.4280097145" yOff="4660.19919234265" xSize="9343" ySize="4693" />
      <NODATA>-32767</NODATA>
    </ComplexSource>
    <ComplexSource>
      <SourceFilename relativeToVRT="0">/mnt/data/srv/carto_private/01_ORIGINAL/world/spain/provincias/guadalajara/dtm2/MDT02-WGS84-0486-2-COB2.tif</SourceFilename>
      <SourceBand>1</SourceBand>
      <SourceProperties RasterXSize="9343" RasterYSize="4692" DataType="Float32" BlockXSize="512" BlockYSize="512" />
      <SrcRect xOff="0" yOff="0" xSize="9343" ySize="4692" />
      <DstRect xOff="27813.565508652" yOff="31.9329866284887" xSize="9343" ySize="4692" />
      <NODATA>-32767</NODATA>
    </ComplexSource>
    <ComplexSource>
      <SourceFilename relativeToVRT="0">/mnt/data/srv/carto_private/01_ORIGINAL/world/spain/provincias/guadalajara/dtm2/MDT02-WGS84-0510-1-COB2.tif</SourceFilename>
      <SourceBand>1</SourceBand>
      <SourceProperties RasterXSize="9388" RasterYSize="4753" DataType="Float32" BlockXSize="512" BlockYSize="512" />
      <SrcRect xOff="0" yOff="0" xSize="9388" ySize="4753" />
      <DstRect xOff="2.09500774464269" yOff="9260.57936253757" xSize="9388" ySize="4753" />
      <NODATA>-32767</NODATA>
    </ComplexSource>
    <ComplexSource>
      <SourceFilename relativeToVRT="0">/mnt/data/srv/carto_private/01_ORIGINAL/world/spain/provincias/guadalajara/dtm2/MDT02-WGS84-0511-1-COB2.tif</SourceFilename>
      <SourceBand>1</SourceBand>
      <SourceProperties RasterXSize="9342" RasterYSize="4700" DataType="Float32" BlockXSize="512" BlockYSize="512" />
      <SrcRect xOff="0" yOff="0" xSize="9342" ySize="4700" />
      <DstRect xOff="18544.1763474363" yOff="9286.62928667458" xSize="9342" ySize="4700" />
      <NODATA>-32767</NODATA>
    </ComplexSource>
    <ComplexSource>
      <SourceFilename relativeToVRT="0">/mnt/data/srv/carto_private/01_ORIGINAL/world/spain/provincias/guadalajara/dtm2/MDT02-WGS84-0510-3-COB2.tif</SourceFilename>
      <SourceBand>1</SourceBand>
      <SourceProperties RasterXSize="9390" RasterYSize="4755" DataType="Float32" BlockXSize="512" BlockYSize="512" />
      <SrcRect xOff="0" yOff="0" xSize="9390" ySize="4755" />
      <DstRect xOff="1.47575444168583" yOff="13888.9636193929" xSize="9390" ySize="4755" />
      <NODATA>-32767</NODATA>
    </ComplexSource>
    <ComplexSource>
      <SourceFilename relativeToVRT="0">/mnt/data/srv/carto_private/01_ORIGINAL/world/spain/provincias/guadalajara/dtm2/MDT02-WGS84-0486-1-COB2.tif</SourceFilename>
      <SourceBand>1</SourceBand>
      <SourceProperties RasterXSize="9346" RasterYSize="4700" DataType="Float32" BlockXSize="512" BlockYSize="512" />
      <SrcRect xOff="0" yOff="0" xSize="9346" ySize="4700" />
      <DstRect xOff="18541.6435689645" yOff="28.0276691818749" xSize="9346" ySize="4700" />
      <NODATA>-32767</NODATA>
    </ComplexSource>
    <ComplexSource>
      <SourceFilename relativeToVRT="0">/mnt/data/srv/carto_private/01_ORIGINAL/world/spain/provincias/guadalajara/dtm2/MDT02-WGS84-0536-3-COB2.tif</SourceFilename>
      <SourceBand>1</SourceBand>
      <SourceProperties RasterXSize="9343" RasterYSize="4700" DataType="Float32" BlockXSize="512" BlockYSize="512" />
      <SrcRect xOff="0" yOff="0" xSize="9343" ySize="4700" />
      <DstRect xOff="18543.8510600237" yOff="23176.0348461359" xSize="9343" ySize="4700" />
      <NODATA>-32767</NODATA>
    </ComplexSource>
    <ComplexSource>
      <SourceFilename relativeToVRT="0">/mnt/data/srv/carto_private/01_ORIGINAL/world/spain/provincias/guadalajara/dtm2/MDT02-WGS84-0485-1-COB2.tif</SourceFilename>
      <SourceBand>1</SourceBand>
      <SourceProperties RasterXSize="9391" RasterYSize="4755" DataType="Float32" BlockXSize="512" BlockYSize="512" />
      <SrcRect xOff="0" yOff="0" xSize="9391" ySize="4755" />
      <DstRect xOff="0.480718046825935" yOff="0" xSize="9391" ySize="4755" />
      <NODATA>-32767</NODATA>
    </ComplexSource>
  </VRTRasterBand>
  <OverviewList resampling="nearest">2 4 8 16 32</OverviewList>
</VRTDataset>
