<VRTDataset rasterXSize="37224" rasterYSize="32637">
  <SRS dataAxisToSRSAxisMapping="2,1">GEOGCS["WGS 84",DATUM["WGS_1984",SPHEROID["WGS 84",6378137,298.257223563,AUTHORITY["EPSG","7030"]],AUTHORITY["EPSG","6326"]],PRIMEM["Greenwich",0,AUTHORITY["EPSG","8901"]],UNIT["degree",0.0174532925199433,AUTHORITY["EPSG","9122"]],AXIS["Latitude",NORTH],AXIS["Longitude",EAST],AUTHORITY["EPSG","4326"]]</SRS>
  <GeoTransform> -4.1895891934708080e+00,  1.8000000000000000e-05,  0.0000000000000000e+00,  3.9918709081419145e+01,  0.0000000000000000e+00, -1.8000000000000000e-05</GeoTransform>
  <VRTRasterBand dataType="Float32" band="1">
    <NoDataValue>-32767</NoDataValue>
    <ColorInterp>Gray</ColorInterp>
    <ComplexSource>
      <SourceFilename relativeToVRT="0">/mnt/data/srv/carto_private/01_ORIGINAL/world/spain/provincias/madrid/dtm2/MDT02-WGS84-0630-3-COB2.tif</SourceFilename>
      <SourceBand>1</SourceBand>
      <SourceProperties RasterXSize="9435" RasterYSize="4806" DataType="Float32" BlockXSize="512" BlockYSize="512" />
      <SrcRect xOff="0" yOff="0" xSize="9435" ySize="4806" />
      <DstRect xOff="18540.306907844" yOff="25.8240519461279" xSize="9435" ySize="4806" />
      <NODATA>-32767</NODATA>
    </ComplexSource>
    <ComplexSource>
      <SourceFilename relativeToVRT="0">/mnt/data/srv/carto_private/01_ORIGINAL/world/spain/provincias/madrid/dtm2/MDT02-WGS84-0629-4-COB2.tif</SourceFilename>
      <SourceBand>1</SourceBand>
      <SourceProperties RasterXSize="9456" RasterYSize="4831" DataType="Float32" BlockXSize="512" BlockYSize="512" />
      <SrcRect xOff="0" yOff="0" xSize="9456" ySize="4831" />
      <DstRect xOff="9270.75608875885" yOff="13.2517508397711" xSize="9456" ySize="4831" />
      <NODATA>-32767</NODATA>
    </ComplexSource>
    <ComplexSource>
      <SourceFilename relativeToVRT="0">/mnt/data/srv/carto_private/01_ORIGINAL/world/spain/provincias/toledo/dtm2/MDT02-WGS84-0685-4-COB2.tif</SourceFilename>
      <SourceBand>1</SourceBand>
      <SourceProperties RasterXSize="9452" RasterYSize="4832" DataType="Float32" BlockXSize="512" BlockYSize="512" />
      <SrcRect xOff="0" yOff="0" xSize="9452" ySize="4832" />
      <DstRect xOff="9272.25315199573" yOff="18531.8325407692" xSize="9452" ySize="4832" />
      <NODATA>-32767</NODATA>
    </ComplexSource>
    <ComplexSource>
      <SourceFilename relativeToVRT="0">/mnt/data/srv/carto_private/01_ORIGINAL/world/spain/provincias/toledo/dtm2/MDT02-WGS84-0712-4-COB2.tif</SourceFilename>
      <SourceBand>1</SourceBand>
      <SourceProperties RasterXSize="9407" RasterYSize="4779" DataType="Float32" BlockXSize="512" BlockYSize="512" />
      <SrcRect xOff="0" yOff="0" xSize="9407" ySize="4779" />
      <DstRect xOff="27813.8112723496" yOff="27817.3025417203" xSize="9407" ySize="4779" />
      <NODATA>-32767</NODATA>
    </ComplexSource>
    <ComplexSource>
      <SourceFilename relativeToVRT="0">/mnt/data/srv/carto_private/01_ORIGINAL/world/spain/provincias/toledo/dtm2/MDT02-WGS84-0658-2-COB2.tif</SourceFilename>
      <SourceBand>1</SourceBand>
      <SourceProperties RasterXSize="9410" RasterYSize="4779" DataType="Float32" BlockXSize="512" BlockYSize="512" />
      <SrcRect xOff="0" yOff="0" xSize="9410" ySize="4779" />
      <DstRect xOff="27812.0928186969" yOff="4668.80228216679" xSize="9410" ySize="4779" />
      <NODATA>-32767</NODATA>
    </ComplexSource>
    <ComplexSource>
      <SourceFilename relativeToVRT="0">/mnt/data/srv/carto_private/01_ORIGINAL/world/spain/provincias/toledo/dtm2/MDT02-WGS84-0630-3-COB2.tif</SourceFilename>
      <SourceBand>1</SourceBand>
      <SourceProperties RasterXSize="9435" RasterYSize="4806" DataType="Float32" BlockXSize="512" BlockYSize="512" />
      <SrcRect xOff="0" yOff="0" xSize="9435" ySize="4806" />
      <DstRect xOff="18540.306907844" yOff="25.8240519461279" xSize="9435" ySize="4806" />
      <NODATA>-32767</NODATA>
    </ComplexSource>
    <ComplexSource>
      <SourceFilename relativeToVRT="0">/mnt/data/srv/carto_private/01_ORIGINAL/world/spain/provincias/toledo/dtm2/MDT02-WGS84-0711-3-COB2.tif</SourceFilename>
      <SourceBand>1</SourceBand>
      <SourceProperties RasterXSize="9476" RasterYSize="4860" DataType="Float32" BlockXSize="512" BlockYSize="512" />
      <SrcRect xOff="0" yOff="0" xSize="9476" ySize="4860" />
      <DstRect xOff="0.981317515888789" yOff="27776.9708746815" xSize="9476" ySize="4860" />
      <NODATA>-32767</NODATA>
    </ComplexSource>
    <ComplexSource>
      <SourceFilename relativeToVRT="0">/mnt/data/srv/carto_private/01_ORIGINAL/world/spain/provincias/toledo/dtm2/MDT02-WGS84-0686-4-COB2.tif</SourceFilename>
      <SourceBand>1</SourceBand>
      <SourceProperties RasterXSize="9409" RasterYSize="4779" DataType="Float32" BlockXSize="512" BlockYSize="512" />
      <SrcRect xOff="0" yOff="0" xSize="9409" ySize="4779" />
      <DstRect xOff="27812.8586274352" yOff="18558.5020240693" xSize="9409" ySize="4779" />
      <NODATA>-32767</NODATA>
    </ComplexSource>
    <ComplexSource>
      <SourceFilename relativeToVRT="0">/mnt/data/srv/carto_private/01_ORIGINAL/world/spain/provincias/toledo/dtm2/MDT02-WGS84-0685-1-COB2.tif</SourceFilename>
      <SourceBand>1</SourceBand>
      <SourceProperties RasterXSize="9475" RasterYSize="4858" DataType="Float32" BlockXSize="512" BlockYSize="512" />
      <SrcRect xOff="0" yOff="0" xSize="9475" ySize="4858" />
      <DstRect xOff="1.77612582976907" yOff="13889.202707308" xSize="9475" ySize="4858" />
      <NODATA>-32767</NODATA>
    </ComplexSource>
    <ComplexSource>
      <SourceFilename relativeToVRT="0">/mnt/data/srv/carto_private/01_ORIGINAL/world/spain/provincias/toledo/dtm2/MDT02-WGS84-0658-4-COB2.tif</SourceFilename>
      <SourceBand>1</SourceBand>
      <SourceProperties RasterXSize="9411" RasterYSize="4780" DataType="Float32" BlockXSize="512" BlockYSize="512" />
      <SrcRect xOff="0" yOff="0" xSize="9411" ySize="4780" />
      <DstRect xOff="27811.5581559046" yOff="9297.96453762243" xSize="9411" ySize="4780" />
      <NODATA>-32767</NODATA>
    </ComplexSource>
    <ComplexSource>
      <SourceFilename relativeToVRT="0">/mnt/data/srv/carto_private/01_ORIGINAL/world/spain/provincias/toledo/dtm2/MDT02-WGS84-0712-3-COB2.tif</SourceFilename>
      <SourceBand>1</SourceBand>
      <SourceProperties RasterXSize="9429" RasterYSize="4806" DataType="Float32" BlockXSize="512" BlockYSize="512" />
      <SrcRect xOff="0" yOff="0" xSize="9429" ySize="4806" />
      <DstRect xOff="18543.6361176943" yOff="27803.2769157508" xSize="9429" ySize="4806" />
      <NODATA>-32767</NODATA>
    </ComplexSource>
    <ComplexSource>
      <SourceFilename relativeToVRT="0">/mnt/data/srv/carto_private/01_ORIGINAL/world/spain/provincias/toledo/dtm2/MDT02-WGS84-0711-2-COB2.tif</SourceFilename>
      <SourceBand>1</SourceBand>
      <SourceProperties RasterXSize="9451" RasterYSize="4831" DataType="Float32" BlockXSize="512" BlockYSize="512" />
      <SrcRect xOff="0" yOff="0" xSize="9451" ySize="4831" />
      <DstRect xOff="9272.96533378147" yOff="23161.137147056" xSize="9451" ySize="4831" />
      <NODATA>-32767</NODATA>
    </ComplexSource>
    <ComplexSource>
      <SourceFilename relativeToVRT="0">/mnt/data/srv/carto_private/01_ORIGINAL/world/spain/provincias/toledo/dtm2/MDT02-WGS84-0686-2-COB2.tif</SourceFilename>
      <SourceBand>1</SourceBand>
      <SourceProperties RasterXSize="9407" RasterYSize="4779" DataType="Float32" BlockXSize="512" BlockYSize="512" />
      <SrcRect xOff="0" yOff="0" xSize="9407" ySize="4779" />
      <DstRect xOff="27813.5547683074" yOff="13929.2070045087" xSize="9407" ySize="4779" />
      <NODATA>-32767</NODATA>
    </ComplexSource>
    <ComplexSource>
      <SourceFilename relativeToVRT="0">/mnt/data/srv/carto_private/01_ORIGINAL/world/spain/provincias/toledo/dtm2/MDT02-WGS84-0686-1-COB2.tif</SourceFilename>
      <SourceBand>1</SourceBand>
      <SourceProperties RasterXSize="9431" RasterYSize="4807" DataType="Float32" BlockXSize="512" BlockYSize="512" />
      <SrcRect xOff="0" yOff="0" xSize="9431" ySize="4807" />
      <DstRect xOff="18541.1453757845" yOff="13915.26158761" xSize="9431" ySize="4807" />
      <NODATA>-32767</NODATA>
    </ComplexSource>
    <ComplexSource>
      <SourceFilename relativeToVRT="0">/mnt/data/srv/carto_private/01_ORIGINAL/world/spain/provincias/toledo/dtm2/MDT02-WGS84-0685-2-COB2.tif</SourceFilename>
      <SourceBand>1</SourceBand>
      <SourceProperties RasterXSize="9452" RasterYSize="4832" DataType="Float32" BlockXSize="512" BlockYSize="512" />
      <SrcRect xOff="0" yOff="0" xSize="9452" ySize="4832" />
      <DstRect xOff="9271.41943296093" yOff="13902.5937729969" xSize="9452" ySize="4832" />
      <NODATA>-32767</NODATA>
    </ComplexSource>
    <ComplexSource>
      <SourceFilename relativeToVRT="0">/mnt/data/srv/carto_private/01_ORIGINAL/world/spain/provincias/toledo/dtm2/MDT02-WGS84-0657-2-COB2.tif</SourceFilename>
      <SourceBand>1</SourceBand>
      <SourceProperties RasterXSize="9452" RasterYSize="4834" DataType="Float32" BlockXSize="512" BlockYSize="512" />
      <SrcRect xOff="0" yOff="0" xSize="9452" ySize="4834" />
      <DstRect xOff="9271.95315873113" yOff="4642.31189047245" xSize="9452" ySize="4834" />
      <NODATA>-32767</NODATA>
    </ComplexSource>
    <ComplexSource>
      <SourceFilename relativeToVRT="0">/mnt/data/srv/carto_private/01_ORIGINAL/world/spain/provincias/toledo/dtm2/MDT02-WGS84-0711-4-COB2.tif</SourceFilename>
      <SourceBand>1</SourceBand>
      <SourceProperties RasterXSize="9450" RasterYSize="4832" DataType="Float32" BlockXSize="512" BlockYSize="512" />
      <SrcRect xOff="0" yOff="0" xSize="9450" ySize="4832" />
      <DstRect xOff="9273.55627294599" yOff="27790.5075535768" xSize="9450" ySize="4832" />
      <NODATA>-32767</NODATA>
    </ComplexSource>
    <ComplexSource>
      <SourceFilename relativeToVRT="0">/mnt/data/srv/carto_private/01_ORIGINAL/world/spain/provincias/toledo/dtm2/MDT02-WGS84-0686-3-COB2.tif</SourceFilename>
      <SourceBand>1</SourceBand>
      <SourceProperties RasterXSize="9433" RasterYSize="4806" DataType="Float32" BlockXSize="512" BlockYSize="512" />
      <SrcRect xOff="0" yOff="0" xSize="9433" ySize="4806" />
      <DstRect xOff="18541.2153349401" yOff="18544.5237419274" xSize="9433" ySize="4806" />
      <NODATA>-32767</NODATA>
    </ComplexSource>
    <ComplexSource>
      <SourceFilename relativeToVRT="0">/mnt/data/srv/carto_private/01_ORIGINAL/world/spain/provincias/toledo/dtm2/MDT02-WGS84-0658-3-COB2.tif</SourceFilename>
      <SourceBand>1</SourceBand>
      <SourceProperties RasterXSize="9433" RasterYSize="4806" DataType="Float32" BlockXSize="512" BlockYSize="512" />
      <SrcRect xOff="0" yOff="0" xSize="9433" ySize="4806" />
      <DstRect xOff="18540.9749667878" yOff="9286.05025911288" xSize="9433" ySize="4806" />
      <NODATA>-32767</NODATA>
    </ComplexSource>
    <ComplexSource>
      <SourceFilename relativeToVRT="0">/mnt/data/srv/carto_private/01_ORIGINAL/world/spain/provincias/toledo/dtm2/MDT02-WGS84-0685-3-COB2.tif</SourceFilename>
      <SourceBand>1</SourceBand>
      <SourceProperties RasterXSize="9475" RasterYSize="4859" DataType="Float32" BlockXSize="512" BlockYSize="512" />
      <SrcRect xOff="0" yOff="0" xSize="9475" ySize="4859" />
      <DstRect xOff="0.787436198764387" yOff="18518.3932336999" xSize="9475" ySize="4859" />
      <NODATA>-32767</NODATA>
    </ComplexSource>
    <ComplexSource>
      <SourceFilename relativeToVRT="0">/mnt/data/srv/carto_private/01_ORIGINAL/world/spain/provincias/toledo/dtm2/MDT02-WGS84-0658-1-COB2.tif</SourceFilename>
      <SourceBand>1</SourceBand>
      <SourceProperties RasterXSize="9434" RasterYSize="4806" DataType="Float32" BlockXSize="512" BlockYSize="512" />
      <SrcRect xOff="0" yOff="0" xSize="9434" ySize="4806" />
      <DstRect xOff="18540.6790173215" yOff="4654.90299808459" xSize="9434" ySize="4806" />
      <NODATA>-32767</NODATA>
    </ComplexSource>
    <ComplexSource>
      <SourceFilename relativeToVRT="0">/mnt/data/srv/carto_private/01_ORIGINAL/world/spain/provincias/toledo/dtm2/MDT02-WGS84-0711-1-COB2.tif</SourceFilename>
      <SourceBand>1</SourceBand>
      <SourceProperties RasterXSize="9475" RasterYSize="4859" DataType="Float32" BlockXSize="512" BlockYSize="512" />
      <SrcRect xOff="0" yOff="0" xSize="9475" ySize="4859" />
      <DstRect xOff="2.2461339920849" yOff="23147.6493025681" xSize="9475" ySize="4859" />
      <NODATA>-32767</NODATA>
    </ComplexSource>
    <ComplexSource>
      <SourceFilename relativeToVRT="0">/mnt/data/srv/carto_private/01_ORIGINAL/world/spain/provincias/toledo/dtm2/MDT02-WGS84-0630-4-COB2.tif</SourceFilename>
      <SourceBand>1</SourceBand>
      <SourceProperties RasterXSize="9411" RasterYSize="4779" DataType="Float32" BlockXSize="512" BlockYSize="512" />
      <SrcRect xOff="0" yOff="0" xSize="9411" ySize="4779" />
      <DstRect xOff="27812.5480477017" yOff="39.6947919764696" xSize="9411" ySize="4779" />
      <NODATA>-32767</NODATA>
    </ComplexSource>
    <ComplexSource>
      <SourceFilename relativeToVRT="0">/mnt/data/srv/carto_private/01_ORIGINAL/world/spain/provincias/toledo/dtm2/MDT02-WGS84-0657-4-COB2.tif</SourceFilename>
      <SourceBand>1</SourceBand>
      <SourceProperties RasterXSize="9454" RasterYSize="4834" DataType="Float32" BlockXSize="512" BlockYSize="512" />
      <SrcRect xOff="0" yOff="0" xSize="9454" ySize="4834" />
      <DstRect xOff="9270.43427364696" yOff="9271.41883980672" xSize="9454" ySize="4834" />
      <NODATA>-32767</NODATA>
    </ComplexSource>
    <ComplexSource>
      <SourceFilename relativeToVRT="0">/mnt/data/srv/carto_private/01_ORIGINAL/world/spain/provincias/toledo/dtm2/MDT02-WGS84-0629-3-COB2.tif</SourceFilename>
      <SourceBand>1</SourceBand>
      <SourceProperties RasterXSize="9475" RasterYSize="4859" DataType="Float32" BlockXSize="512" BlockYSize="512" />
      <SrcRect xOff="0" yOff="0" xSize="9475" ySize="4859" />
      <DstRect xOff="1.28463420395125" yOff="0" xSize="9475" ySize="4859" />
      <NODATA>-32767</NODATA>
    </ComplexSource>
    <ComplexSource>
      <SourceFilename relativeToVRT="0">/mnt/data/srv/carto_private/01_ORIGINAL/world/spain/provincias/toledo/dtm2/MDT02-WGS84-0712-2-COB2.tif</SourceFilename>
      <SourceBand>1</SourceBand>
      <SourceProperties RasterXSize="9408" RasterYSize="4779" DataType="Float32" BlockXSize="512" BlockYSize="512" />
      <SrcRect xOff="0" yOff="0" xSize="9408" ySize="4779" />
      <DstRect xOff="27812.0836156222" yOff="23187.8749321702" xSize="9408" ySize="4779" />
      <NODATA>-32767</NODATA>
    </ComplexSource>
    <ComplexSource>
      <SourceFilename relativeToVRT="0">/mnt/data/srv/carto_private/01_ORIGINAL/world/spain/provincias/toledo/dtm2/MDT02-WGS84-0712-1-COB2.tif</SourceFilename>
      <SourceBand>1</SourceBand>
      <SourceProperties RasterXSize="9432" RasterYSize="4806" DataType="Float32" BlockXSize="512" BlockYSize="512" />
      <SrcRect xOff="0" yOff="0" xSize="9432" ySize="4806" />
      <DstRect xOff="18541.1850836834" yOff="23173.86730481" xSize="9432" ySize="4806" />
      <NODATA>-32767</NODATA>
    </ComplexSource>
    <ComplexSource>
      <SourceFilename relativeToVRT="0">/mnt/data/srv/carto_private/01_ORIGINAL/world/spain/provincias/toledo/dtm2/MDT02-WGS84-0629-4-COB2.tif</SourceFilename>
      <SourceBand>1</SourceBand>
      <SourceProperties RasterXSize="9456" RasterYSize="4831" DataType="Float32" BlockXSize="512" BlockYSize="512" />
      <SrcRect xOff="0" yOff="0" xSize="9456" ySize="4831" />
      <DstRect xOff="9270.75608875885" yOff="13.2517508397711" xSize="9456" ySize="4831" />
      <NODATA>-32767</NODATA>
    </ComplexSource>
    <ComplexSource>
      <SourceFilename relativeToVRT="0">/mnt/data/srv/carto_private/01_ORIGINAL/world/spain/provincias/toledo/dtm2/MDT02-WGS84-0657-1-COB2.tif</SourceFilename>
      <SourceBand>1</SourceBand>
      <SourceProperties RasterXSize="9477" RasterYSize="4858" DataType="Float32" BlockXSize="512" BlockYSize="512" />
      <SrcRect xOff="0" yOff="0" xSize="9477" ySize="4858" />
      <DstRect xOff="0.71114343357258" yOff="4628.99368026331" xSize="9477" ySize="4858" />
      <NODATA>-32767</NODATA>
    </ComplexSource>
    <ComplexSource>
      <SourceFilename relativeToVRT="0">/mnt/data/srv/carto_private/01_ORIGINAL/world/spain/provincias/toledo/dtm2/MDT02-WGS84-0657-3-COB2.tif</SourceFilename>
      <SourceBand>1</SourceBand>
      <SourceProperties RasterXSize="9478" RasterYSize="4861" DataType="Float32" BlockXSize="512" BlockYSize="512" />
      <SrcRect xOff="0" yOff="0" xSize="9478" ySize="4861" />
      <DstRect xOff="0" yOff="9258.05301731428" xSize="9478" ySize="4861" />
      <NODATA>-32767</NODATA>
    </ComplexSource>
  </VRTRasterBand>
  <OverviewList resampling="nearest">2 4 8 16 32</OverviewList>
</VRTDataset>
