<VRTDataset rasterXSize="37316" rasterYSize="28103">
  <SRS dataAxisToSRSAxisMapping="2,1">GEOGCS["WGS 84",DATUM["WGS_1984",SPHEROID["WGS 84",6378137,298.257223563,AUTHORITY["EPSG","7030"]],AUTHORITY["EPSG","6326"]],PRIMEM["Greenwich",0,AUTHORITY["EPSG","8901"]],UNIT["degree",0.0174532925199433,AUTHORITY["EPSG","9122"]],AXIS["Latitude",NORTH],AXIS["Longitude",EAST],AUTHORITY["EPSG","4326"]]</SRS>
  <GeoTransform> -4.8571169727079146e+00,  1.8000000000000000e-05,  0.0000000000000000e+00,  4.0419464977821896e+01,  0.0000000000000000e+00, -1.8000000000000000e-05</GeoTransform>
  <VRTRasterBand dataType="Float32" band="1">
    <NoDataValue>-32767</NoDataValue>
    <ColorInterp>Gray</ColorInterp>
    <ComplexSource>
      <SourceFilename relativeToVRT="0">/mnt/data/srv/carto_private/01_ORIGINAL/world/spain/provincias/madrid/dtm2/MDT02-WGS84-0579-4-COB2.tif</SourceFilename>
      <SourceBand>1</SourceBand>
      <SourceProperties RasterXSize="9548" RasterYSize="4939" DataType="Float32" BlockXSize="512" BlockYSize="512" />
      <SrcRect xOff="0" yOff="0" xSize="9548" ySize="4939" />
      <DstRect xOff="9271.24458445716" yOff="9261.02100613314" xSize="9548" ySize="4939" />
      <NODATA>-32767</NODATA>
    </ComplexSource>
    <ComplexSource>
      <SourceFilename relativeToVRT="0">/mnt/data/srv/carto_private/01_ORIGINAL/world/spain/provincias/madrid/dtm2/MDT02-WGS84-0557-4-COB2.tif</SourceFilename>
      <SourceBand>1</SourceBand>
      <SourceProperties RasterXSize="9504" RasterYSize="4887" DataType="Float32" BlockXSize="512" BlockYSize="512" />
      <SrcRect xOff="0" yOff="0" xSize="9504" ySize="4887" />
      <DstRect xOff="27811.7711170466" yOff="27.3861846389581" xSize="9504" ySize="4887" />
      <NODATA>-32767</NODATA>
    </ComplexSource>
    <ComplexSource>
      <SourceFilename relativeToVRT="0">/mnt/data/srv/carto_private/01_ORIGINAL/world/spain/provincias/madrid/dtm2/MDT02-WGS84-0580-3-COB2.tif</SourceFilename>
      <SourceBand>1</SourceBand>
      <SourceProperties RasterXSize="9524" RasterYSize="4913" DataType="Float32" BlockXSize="512" BlockYSize="512" />
      <SrcRect xOff="0" yOff="0" xSize="9524" ySize="4913" />
      <DstRect xOff="18543.9151321827" yOff="9274.14220716156" xSize="9524" ySize="4913" />
      <NODATA>-32767</NODATA>
    </ComplexSource>
    <ComplexSource>
      <SourceFilename relativeToVRT="0">/mnt/data/srv/carto_private/01_ORIGINAL/world/spain/provincias/madrid/dtm2/MDT02-WGS84-0580-4-COB2.tif</SourceFilename>
      <SourceBand>1</SourceBand>
      <SourceProperties RasterXSize="9502" RasterYSize="4886" DataType="Float32" BlockXSize="512" BlockYSize="512" />
      <SrcRect xOff="0" yOff="0" xSize="9501.9159817785" ySize="4886" />
      <DstRect xOff="27814.0840182215" yOff="9286.59594182493" xSize="9501.9159817785" ySize="4886" />
      <NODATA>-32767</NODATA>
    </ComplexSource>
    <ComplexSource>
      <SourceFilename relativeToVRT="0">/mnt/data/srv/carto_private/01_ORIGINAL/world/spain/provincias/madrid/dtm2/MDT02-WGS84-0580-2-COB2.tif</SourceFilename>
      <SourceBand>1</SourceBand>
      <SourceProperties RasterXSize="9503" RasterYSize="4886" DataType="Float32" BlockXSize="512" BlockYSize="512" />
      <SrcRect xOff="0" yOff="0" xSize="9502.97157649646" ySize="4886" />
      <DstRect xOff="27813.0284235035" yOff="4657.95914303197" xSize="9502.97157649646" ySize="4886" />
      <NODATA>-32767</NODATA>
    </ComplexSource>
    <ComplexSource>
      <SourceFilename relativeToVRT="0">/mnt/data/srv/carto_private/01_ORIGINAL/world/spain/provincias/madrid/dtm2/MDT02-WGS84-0557-3-COB2.tif</SourceFilename>
      <SourceBand>1</SourceBand>
      <SourceProperties RasterXSize="9527" RasterYSize="4913" DataType="Float32" BlockXSize="512" BlockYSize="512" />
      <SrcRect xOff="0" yOff="0" xSize="9527" ySize="4913" />
      <DstRect xOff="18542.3265175155" yOff="15.0221331157102" xSize="9527" ySize="4913" />
      <NODATA>-32767</NODATA>
    </ComplexSource>
    <ComplexSource>
      <SourceFilename relativeToVRT="0">/mnt/data/srv/carto_private/01_ORIGINAL/world/spain/provincias/madrid/dtm2/MDT02-WGS84-0580-1-COB2.tif</SourceFilename>
      <SourceBand>1</SourceBand>
      <SourceProperties RasterXSize="9525" RasterYSize="4914" DataType="Float32" BlockXSize="512" BlockYSize="512" />
      <SrcRect xOff="0" yOff="0" xSize="9525" ySize="4914" />
      <DstRect xOff="18541.8808393225" yOff="4643.56421332507" xSize="9525" ySize="4914" />
      <NODATA>-32767</NODATA>
    </ComplexSource>
    <ComplexSource>
      <SourceFilename relativeToVRT="0">/mnt/data/srv/carto_private/01_ORIGINAL/world/spain/provincias/madrid/dtm2/MDT02-WGS84-0556-4-COB2.tif</SourceFilename>
      <SourceBand>1</SourceBand>
      <SourceProperties RasterXSize="9551" RasterYSize="4941" DataType="Float32" BlockXSize="512" BlockYSize="512" />
      <SrcRect xOff="0" yOff="0" xSize="9551" ySize="4941" />
      <DstRect xOff="9270.32030834769" yOff="0" xSize="9551" ySize="4941" />
      <NODATA>-32767</NODATA>
    </ComplexSource>
    <ComplexSource>
      <SourceFilename relativeToVRT="0">/mnt/data/srv/carto_private/01_ORIGINAL/world/spain/provincias/madrid/dtm2/MDT02-WGS84-0579-2-COB2.tif</SourceFilename>
      <SourceBand>1</SourceBand>
      <SourceProperties RasterXSize="9550" RasterYSize="4940" DataType="Float32" BlockXSize="512" BlockYSize="512" />
      <SrcRect xOff="0" yOff="0" xSize="9550" ySize="4940" />
      <DstRect xOff="9270.88197490357" yOff="4630.47823091658" xSize="9550" ySize="4940" />
      <NODATA>-32767</NODATA>
    </ComplexSource>
    <ComplexSource>
      <SourceFilename relativeToVRT="0">/mnt/data/srv/carto_private/01_ORIGINAL/world/spain/provincias/toledo/dtm2/MDT02-WGS84-0627-1-COB2.tif</SourceFilename>
      <SourceBand>1</SourceBand>
      <SourceProperties RasterXSize="9568" RasterYSize="4968" DataType="Float32" BlockXSize="512" BlockYSize="512" />
      <SrcRect xOff="0" yOff="0" xSize="9568" ySize="4968" />
      <DstRect xOff="3.78990387344618" yOff="23134.9812949379" xSize="9568" ySize="4968" />
      <NODATA>-32767</NODATA>
    </ComplexSource>
    <ComplexSource>
      <SourceFilename relativeToVRT="0">/mnt/data/srv/carto_private/01_ORIGINAL/world/spain/provincias/toledo/dtm2/MDT02-WGS84-0628-1-COB2.tif</SourceFilename>
      <SourceBand>1</SourceBand>
      <SourceProperties RasterXSize="9522" RasterYSize="4914" DataType="Float32" BlockXSize="512" BlockYSize="512" />
      <SrcRect xOff="0" yOff="0" xSize="9522" ySize="4914" />
      <DstRect xOff="18543.6270626922" yOff="23162.293617613" xSize="9522" ySize="4914" />
      <NODATA>-32767</NODATA>
    </ComplexSource>
    <ComplexSource>
      <SourceFilename relativeToVRT="0">/mnt/data/srv/carto_private/01_ORIGINAL/world/spain/provincias/toledo/dtm2/MDT02-WGS84-0602-1-COB2.tif</SourceFilename>
      <SourceBand>1</SourceBand>
      <SourceProperties RasterXSize="9569" RasterYSize="4968" DataType="Float32" BlockXSize="512" BlockYSize="512" />
      <SrcRect xOff="0" yOff="0" xSize="9569" ySize="4968" />
      <DstRect xOff="2.33430567507674" yOff="13875.7651485284" xSize="9569" ySize="4968" />
      <NODATA>-32767</NODATA>
    </ComplexSource>
    <ComplexSource>
      <SourceFilename relativeToVRT="0">/mnt/data/srv/carto_private/01_ORIGINAL/world/spain/provincias/toledo/dtm2/MDT02-WGS84-0579-4-COB2.tif</SourceFilename>
      <SourceBand>1</SourceBand>
      <SourceProperties RasterXSize="9548" RasterYSize="4939" DataType="Float32" BlockXSize="512" BlockYSize="512" />
      <SrcRect xOff="0" yOff="0" xSize="9548" ySize="4939" />
      <DstRect xOff="9271.24458445716" yOff="9261.02100613314" xSize="9548" ySize="4939" />
      <NODATA>-32767</NODATA>
    </ComplexSource>
    <ComplexSource>
      <SourceFilename relativeToVRT="0">/mnt/data/srv/carto_private/01_ORIGINAL/world/spain/provincias/toledo/dtm2/MDT02-WGS84-0580-3-COB2.tif</SourceFilename>
      <SourceBand>1</SourceBand>
      <SourceProperties RasterXSize="9524" RasterYSize="4913" DataType="Float32" BlockXSize="512" BlockYSize="512" />
      <SrcRect xOff="0" yOff="0" xSize="9524" ySize="4913" />
      <DstRect xOff="18543.9151321827" yOff="9274.14220716156" xSize="9524" ySize="4913" />
      <NODATA>-32767</NODATA>
    </ComplexSource>
    <ComplexSource>
      <SourceFilename relativeToVRT="0">/mnt/data/srv/carto_private/01_ORIGINAL/world/spain/provincias/toledo/dtm2/MDT02-WGS84-0603-4-COB2.tif</SourceFilename>
      <SourceBand>1</SourceBand>
      <SourceProperties RasterXSize="9502" RasterYSize="4887" DataType="Float32" BlockXSize="512" BlockYSize="512" />
      <SrcRect xOff="0" yOff="0" xSize="9502" ySize="4887" />
      <DstRect xOff="27813.1462036176" yOff="18546.0674448043" xSize="9502" ySize="4887" />
      <NODATA>-32767</NODATA>
    </ComplexSource>
    <ComplexSource>
      <SourceFilename relativeToVRT="0">/mnt/data/srv/carto_private/01_ORIGINAL/world/spain/provincias/toledo/dtm2/MDT02-WGS84-0580-4-COB2.tif</SourceFilename>
      <SourceBand>1</SourceBand>
      <SourceProperties RasterXSize="9502" RasterYSize="4886" DataType="Float32" BlockXSize="512" BlockYSize="512" />
      <SrcRect xOff="0" yOff="0" xSize="9501.9159817785" ySize="4886" />
      <DstRect xOff="27814.0840182215" yOff="9286.59594182493" xSize="9501.9159817785" ySize="4886" />
      <NODATA>-32767</NODATA>
    </ComplexSource>
    <ComplexSource>
      <SourceFilename relativeToVRT="0">/mnt/data/srv/carto_private/01_ORIGINAL/world/spain/provincias/toledo/dtm2/MDT02-WGS84-0602-3-COB2.tif</SourceFilename>
      <SourceBand>1</SourceBand>
      <SourceProperties RasterXSize="9567" RasterYSize="4966" DataType="Float32" BlockXSize="512" BlockYSize="512" />
      <SrcRect xOff="0" yOff="0" xSize="9567" ySize="4966" />
      <DstRect xOff="3.19886757551815" yOff="18506.3608607017" xSize="9567" ySize="4966" />
      <NODATA>-32767</NODATA>
    </ComplexSource>
    <ComplexSource>
      <SourceFilename relativeToVRT="0">/mnt/data/srv/carto_private/01_ORIGINAL/world/spain/provincias/toledo/dtm2/MDT02-WGS84-0580-2-COB2.tif</SourceFilename>
      <SourceBand>1</SourceBand>
      <SourceProperties RasterXSize="9503" RasterYSize="4886" DataType="Float32" BlockXSize="512" BlockYSize="512" />
      <SrcRect xOff="0" yOff="0" xSize="9502.97157649646" ySize="4886" />
      <DstRect xOff="27813.0284235035" yOff="4657.95914303197" xSize="9502.97157649646" ySize="4886" />
      <NODATA>-32767</NODATA>
    </ComplexSource>
    <ComplexSource>
      <SourceFilename relativeToVRT="0">/mnt/data/srv/carto_private/01_ORIGINAL/world/spain/provincias/toledo/dtm2/MDT02-WGS84-0628-2-COB2.tif</SourceFilename>
      <SourceBand>1</SourceBand>
      <SourceProperties RasterXSize="9501" RasterYSize="4886" DataType="Float32" BlockXSize="512" BlockYSize="512" />
      <SrcRect xOff="0" yOff="0" xSize="9501" ySize="4886" />
      <DstRect xOff="27813.7623445249" yOff="23176.9021345226" xSize="9501" ySize="4886" />
      <NODATA>-32767</NODATA>
    </ComplexSource>
    <ComplexSource>
      <SourceFilename relativeToVRT="0">/mnt/data/srv/carto_private/01_ORIGINAL/world/spain/provincias/toledo/dtm2/MDT02-WGS84-0603-3-COB2.tif</SourceFilename>
      <SourceBand>1</SourceBand>
      <SourceProperties RasterXSize="9526" RasterYSize="4913" DataType="Float32" BlockXSize="512" BlockYSize="512" />
      <SrcRect xOff="0" yOff="0" xSize="9526" ySize="4913" />
      <DstRect xOff="18542.1788557804" yOff="18533.4917739092" xSize="9526" ySize="4913" />
      <NODATA>-32767</NODATA>
    </ComplexSource>
    <ComplexSource>
      <SourceFilename relativeToVRT="0">/mnt/data/srv/carto_private/01_ORIGINAL/world/spain/provincias/toledo/dtm2/MDT02-WGS84-0580-1-COB2.tif</SourceFilename>
      <SourceBand>1</SourceBand>
      <SourceProperties RasterXSize="9525" RasterYSize="4914" DataType="Float32" BlockXSize="512" BlockYSize="512" />
      <SrcRect xOff="0" yOff="0" xSize="9525" ySize="4914" />
      <DstRect xOff="18541.8808393225" yOff="4643.56421332507" xSize="9525" ySize="4914" />
      <NODATA>-32767</NODATA>
    </ComplexSource>
    <ComplexSource>
      <SourceFilename relativeToVRT="0">/mnt/data/srv/carto_private/01_ORIGINAL/world/spain/provincias/toledo/dtm2/MDT02-WGS84-0579-3-COB2.tif</SourceFilename>
      <SourceBand>1</SourceBand>
      <SourceProperties RasterXSize="9571" RasterYSize="4967" DataType="Float32" BlockXSize="512" BlockYSize="512" />
      <SrcRect xOff="0" yOff="0" xSize="9571" ySize="4967" />
      <DstRect xOff="1.30461905259141" yOff="9247.234617453" xSize="9571" ySize="4967" />
      <NODATA>-32767</NODATA>
    </ComplexSource>
    <ComplexSource>
      <SourceFilename relativeToVRT="0">/mnt/data/srv/carto_private/01_ORIGINAL/world/spain/provincias/toledo/dtm2/MDT02-WGS84-0603-2-COB2.tif</SourceFilename>
      <SourceBand>1</SourceBand>
      <SourceProperties RasterXSize="9501" RasterYSize="4886" DataType="Float32" BlockXSize="512" BlockYSize="512" />
      <SrcRect xOff="0" yOff="0" xSize="9500.98164410406" ySize="4886" />
      <DstRect xOff="27815.0183558959" yOff="13917.2998375814" xSize="9500.98164410406" ySize="4886" />
      <NODATA>-32767</NODATA>
    </ComplexSource>
    <ComplexSource>
      <SourceFilename relativeToVRT="0">/mnt/data/srv/carto_private/01_ORIGINAL/world/spain/provincias/toledo/dtm2/MDT02-WGS84-0579-1-COB2.tif</SourceFilename>
      <SourceBand>1</SourceBand>
      <SourceProperties RasterXSize="9571" RasterYSize="4968" DataType="Float32" BlockXSize="512" BlockYSize="512" />
      <SrcRect xOff="0" yOff="0" xSize="9571" ySize="4968" />
      <DstRect xOff="0" yOff="4616.76683693213" xSize="9571" ySize="4968" />
      <NODATA>-32767</NODATA>
    </ComplexSource>
    <ComplexSource>
      <SourceFilename relativeToVRT="0">/mnt/data/srv/carto_private/01_ORIGINAL/world/spain/provincias/toledo/dtm2/MDT02-WGS84-0627-2-COB2.tif</SourceFilename>
      <SourceBand>1</SourceBand>
      <SourceProperties RasterXSize="9544" RasterYSize="4941" DataType="Float32" BlockXSize="512" BlockYSize="512" />
      <SrcRect xOff="0" yOff="0" xSize="9544" ySize="4941" />
      <DstRect xOff="9273.64645612904" yOff="23149" xSize="9544" ySize="4941" />
      <NODATA>-32767</NODATA>
    </ComplexSource>
    <ComplexSource>
      <SourceFilename relativeToVRT="0">/mnt/data/srv/carto_private/01_ORIGINAL/world/spain/provincias/toledo/dtm2/MDT02-WGS84-0603-1-COB2.tif</SourceFilename>
      <SourceBand>1</SourceBand>
      <SourceProperties RasterXSize="9525" RasterYSize="4914" DataType="Float32" BlockXSize="512" BlockYSize="512" />
      <SrcRect xOff="0" yOff="0" xSize="9525" ySize="4914" />
      <DstRect xOff="18543.1127140557" yOff="13902.7837095133" xSize="9525" ySize="4914" />
      <NODATA>-32767</NODATA>
    </ComplexSource>
    <ComplexSource>
      <SourceFilename relativeToVRT="0">/mnt/data/srv/carto_private/01_ORIGINAL/world/spain/provincias/toledo/dtm2/MDT02-WGS84-0602-4-COB2.tif</SourceFilename>
      <SourceBand>1</SourceBand>
      <SourceProperties RasterXSize="9546" RasterYSize="4939" DataType="Float32" BlockXSize="512" BlockYSize="512" />
      <SrcRect xOff="0" yOff="0" xSize="9546" ySize="4939" />
      <DstRect xOff="9273.93048883548" yOff="18520.264388667" xSize="9546" ySize="4939" />
      <NODATA>-32767</NODATA>
    </ComplexSource>
    <ComplexSource>
      <SourceFilename relativeToVRT="0">/mnt/data/srv/carto_private/01_ORIGINAL/world/spain/provincias/toledo/dtm2/MDT02-WGS84-0602-2-COB2.tif</SourceFilename>
      <SourceBand>1</SourceBand>
      <SourceProperties RasterXSize="9549" RasterYSize="4940" DataType="Float32" BlockXSize="512" BlockYSize="512" />
      <SrcRect xOff="0" yOff="0" xSize="9549" ySize="4940" />
      <DstRect xOff="9271.35897412907" yOff="13889.5926103299" xSize="9549" ySize="4940" />
      <NODATA>-32767</NODATA>
    </ComplexSource>
  </VRTRasterBand>
  <OverviewList resampling="nearest">2 4 8 16 32</OverviewList>
</VRTDataset>
