<VRTDataset rasterXSize="39458" rasterYSize="29683">
  <SRS dataAxisToSRSAxisMapping="1,2">PROJCS["WGS 84 / Pseudo-Mercator",GEOGCS["WGS 84",DATUM["WGS_1984",SPHEROID["WGS 84",6378137,298.257223563,AUTHORITY["EPSG","7030"]],AUTHORITY["EPSG","6326"]],PRIMEM["Greenwich",0,AUTHORITY["EPSG","8901"]],UNIT["degree",0.0174532925199433,AUTHORITY["EPSG","9122"]],AUTHORITY["EPSG","4326"]],PROJECTION["Mercator_1SP"],PARAMETER["central_meridian",0],PARAMETER["scale_factor",1],PARAMETER["false_easting",0],PARAMETER["false_northing",0],UNIT["metre",1,AUTHORITY["EPSG","9001"]],AXIS["Easting",EAST],AXIS["Northing",NORTH],EXTENSION["PROJ4","+proj=merc +a=6378137 +b=6378137 +lat_ts=0 +lon_0=0 +x_0=0 +y_0=0 +k=1 +units=m +nadgrids=@null +wktext +no_defs"],AUTHORITY["EPSG","3857"]]</SRS>
  <GeoTransform> -4.2935871045430686e+05,  6.6035089323840195e+00,  0.0000000000000000e+00,  5.0618661514214696e+06,  0.0000000000000000e+00, -6.6035089323840195e+00</GeoTransform>
  <VRTRasterBand dataType="Float32" band="1">
    <NoDataValue>-999</NoDataValue>
    <ComplexSource>
      <SourceFilename relativeToVRT="0">/home/01_ORIGINAL/world/spain/CastillaLaMancha/Guadalajara/dtm/PNOA_MDT05_ETRS89_HU30_0463_LID_3857.vrt</SourceFilename>
      <SourceBand>1</SourceBand>
      <SourceProperties RasterXSize="5698" RasterYSize="3860" DataType="Float32" BlockXSize="512" BlockYSize="128" />
      <SrcRect xOff="0" yOff="0" xSize="5698" ySize="3860" />
      <DstRect xOff="28098.4569733243" yOff="3696.41057766082" xSize="5724.38179118101" ySize="3877.87183467159" />
      <NODATA>-999</NODATA>
    </ComplexSource>
    <ComplexSource>
      <SourceFilename relativeToVRT="0">/home/01_ORIGINAL/world/spain/CastillaLaMancha/Guadalajara/dtm/PNOA_MDT05_ETRS89_HU30_0434_LID_3857.vrt</SourceFilename>
      <SourceBand>1</SourceBand>
      <SourceProperties RasterXSize="5628" RasterYSize="3775" DataType="Float32" BlockXSize="512" BlockYSize="128" />
      <SrcRect xOff="0" yOff="0" xSize="5628" ySize="3775" />
      <DstRect xOff="16887.9297205976" yOff="2.69820113164518" xSize="5668.6022755344" ySize="3802.23411338706" />
      <NODATA>-999</NODATA>
    </ComplexSource>
    <ComplexSource>
      <SourceFilename relativeToVRT="0">/home/01_ORIGINAL/world/spain/CastillaLaMancha/Guadalajara/dtm/PNOA_MDT05_ETRS89_HU30_0458_LID_3857.vrt</SourceFilename>
      <SourceBand>1</SourceBand>
      <SourceProperties RasterXSize="5674" RasterYSize="3824" DataType="Float32" BlockXSize="512" BlockYSize="128" />
      <SrcRect xOff="0" yOff="0" xSize="5674" ySize="3824" />
      <DstRect xOff="0" yOff="3715.11620423716" xSize="5700.0995440437" ySize="3841.58982312709" />
      <NODATA>-999</NODATA>
    </ComplexSource>
    <ComplexSource>
      <SourceFilename relativeToVRT="0">/home/01_ORIGINAL/world/spain/CastillaLaMancha/Guadalajara/dtm/PNOA_MDT05_ETRS89_HU30_0514_LID_3857.vrt</SourceFilename>
      <SourceBand>1</SourceBand>
      <SourceProperties RasterXSize="5728" RasterYSize="3858" DataType="Float32" BlockXSize="512" BlockYSize="128" />
      <SrcRect xOff="0" yOff="0" xSize="5728" ySize="3858" />
      <DstRect xOff="28098.0662471961" yOff="11143.5995990108" xSize="5725.6952261853" ySize="3856.44765758081" />
      <NODATA>-999</NODATA>
    </ComplexSource>
    <ComplexSource>
      <SourceFilename relativeToVRT="0">/home/01_ORIGINAL/world/spain/CastillaLaMancha/Guadalajara/dtm/PNOA_MDT05_ETRS89_HU30_0462_LID_3857.vrt</SourceFilename>
      <SourceBand>1</SourceBand>
      <SourceProperties RasterXSize="5672" RasterYSize="3817" DataType="Float32" BlockXSize="512" BlockYSize="128" />
      <SrcRect xOff="0" yOff="0" xSize="5672" ySize="3817" />
      <DstRect xOff="22492.1340994949" yOff="3719.13443517826" xSize="5698.41402498958" ySize="3834.77544664761" />
      <NODATA>-999</NODATA>
    </ComplexSource>
    <ComplexSource>
      <SourceFilename relativeToVRT="0">/home/01_ORIGINAL/world/spain/CastillaLaMancha/Guadalajara/dtm/PNOA_MDT05_ETRS89_HU30_0515_LID_3857.vrt</SourceFilename>
      <SourceBand>1</SourceBand>
      <SourceProperties RasterXSize="5754" RasterYSize="3902" DataType="Float32" BlockXSize="512" BlockYSize="128" />
      <SrcRect xOff="0" yOff="0" xSize="5754" ySize="3902" />
      <DstRect xOff="33704.2206167845" yOff="11122.3210268909" xSize="5751.41150312409" ySize="3900.24464462812" />
      <NODATA>-999</NODATA>
    </ComplexSource>
    <ComplexSource>
      <SourceFilename relativeToVRT="0">/home/01_ORIGINAL/world/spain/CastillaLaMancha/Guadalajara/dtm/PNOA_MDT05_ETRS89_HU30_0432_LID_3857.vrt</SourceFilename>
      <SourceBand>1</SourceBand>
      <SourceProperties RasterXSize="5634" RasterYSize="3780" DataType="Float32" BlockXSize="512" BlockYSize="128" />
      <SrcRect xOff="0" yOff="0" xSize="5634" ySize="3780" />
      <DstRect xOff="5632.37231878976" yOff="0" xSize="5674.47816270406" ySize="3807.15787274074" />
      <NODATA>-999</NODATA>
    </ComplexSource>
    <ComplexSource>
      <SourceFilename relativeToVRT="0">/home/01_ORIGINAL/world/spain/CastillaLaMancha/Guadalajara/dtm/PNOA_MDT05_ETRS89_HU30_0538_LID_3857.vrt</SourceFilename>
      <SourceBand>1</SourceBand>
      <SourceProperties RasterXSize="5712" RasterYSize="3817" DataType="Float32" BlockXSize="512" BlockYSize="128" />
      <SrcRect xOff="0" yOff="0" xSize="5712" ySize="3817" />
      <DstRect xOff="22493.7721962129" yOff="14872.9778070696" xSize="5695.68555387742" ySize="3806.09799705009" />
      <NODATA>-999</NODATA>
    </ComplexSource>
    <ComplexSource>
      <SourceFilename relativeToVRT="0">/home/01_ORIGINAL/world/spain/CastillaLaMancha/Guadalajara/dtm/PNOA_MDT05_ETRS89_HU30_0485_LID_3857.vrt</SourceFilename>
      <SourceBand>1</SourceBand>
      <SourceProperties RasterXSize="5662" RasterYSize="3778" DataType="Float32" BlockXSize="512" BlockYSize="128" />
      <SrcRect xOff="0" yOff="0" xSize="5662" ySize="3778" />
      <DstRect xOff="5632.84025098227" yOff="7465.78968223916" xSize="5673.95220391837" ySize="3785.97517244853" />
      <NODATA>-999</NODATA>
    </ComplexSource>
    <ComplexSource>
      <SourceFilename relativeToVRT="0">/home/01_ORIGINAL/world/spain/CastillaLaMancha/Guadalajara/dtm/PNOA_MDT05_ETRS89_HU30_0562_LID_3857.vrt</SourceFilename>
      <SourceBand>1</SourceBand>
      <SourceProperties RasterXSize="5699" RasterYSize="3773" DataType="Float32" BlockXSize="512" BlockYSize="128" />
      <SrcRect xOff="0" yOff="0" xSize="5699" ySize="3773" />
      <DstRect xOff="16887.4146496076" yOff="18594.5155254072" xSize="5668.73302698215" ySize="3752.9618723993" />
      <NODATA>-999</NODATA>
    </ComplexSource>
    <ComplexSource>
      <SourceFilename relativeToVRT="0">/home/01_ORIGINAL/world/spain/CastillaLaMancha/Guadalajara/dtm/PNOA_MDT05_ETRS89_HU30_0537_LID_3857.vrt</SourceFilename>
      <SourceBand>1</SourceBand>
      <SourceProperties RasterXSize="5685" RasterYSize="3773" DataType="Float32" BlockXSize="512" BlockYSize="128" />
      <SrcRect xOff="0" yOff="0" xSize="5685" ySize="3773" />
      <DstRect xOff="16887.4755999019" yOff="14895.0110869395" xSize="5668.80906740966" ySize="3762.25446109704" />
      <NODATA>-999</NODATA>
    </ComplexSource>
    <ComplexSource>
      <SourceFilename relativeToVRT="0">/home/01_ORIGINAL/world/spain/CastillaLaMancha/Guadalajara/dtm/PNOA_MDT05_ETRS89_HU30_0564_LID_3857.vrt</SourceFilename>
      <SourceBand>1</SourceBand>
      <SourceProperties RasterXSize="5756" RasterYSize="3858" DataType="Float32" BlockXSize="512" BlockYSize="128" />
      <SrcRect xOff="0" yOff="0" xSize="5756" ySize="3858" />
      <DstRect xOff="28098.1373287177" yOff="18551.856567973" xSize="5725.21007560948" ySize="3837.36283386056" />
      <NODATA>-999</NODATA>
    </ComplexSource>
    <ComplexSource>
      <SourceFilename relativeToVRT="0">/home/01_ORIGINAL/world/spain/CastillaLaMancha/Guadalajara/dtm/PNOA_MDT05_ETRS89_HU30_0565_LID_3857.vrt</SourceFilename>
      <SourceBand>1</SourceBand>
      <SourceProperties RasterXSize="5782" RasterYSize="3902" DataType="Float32" BlockXSize="512" BlockYSize="128" />
      <SrcRect xOff="0" yOff="0" xSize="5782" ySize="3902" />
      <DstRect xOff="33704.3883021333" yOff="18530.5685346817" xSize="5750.79485940187" ySize="3880.94111750019" />
      <NODATA>-999</NODATA>
    </ComplexSource>
    <ComplexSource>
      <SourceFilename relativeToVRT="0">/home/01_ORIGINAL/world/spain/CastillaLaMancha/Guadalajara/dtm/PNOA_MDT05_ETRS89_HU30_0460_LID_3857.vrt</SourceFilename>
      <SourceBand>1</SourceBand>
      <SourceProperties RasterXSize="5630" RasterYSize="3738" DataType="Float32" BlockXSize="512" BlockYSize="128" />
      <SrcRect xOff="0" yOff="0" xSize="5630" ySize="3738" />
      <DstRect xOff="11267.332833126" yOff="3757.39626727644" xSize="5656.20799844978" ySize="3755.40062135085" />
      <NODATA>-999</NODATA>
    </ComplexSource>
    <ComplexSource>
      <SourceFilename relativeToVRT="0">/home/01_ORIGINAL/world/spain/CastillaLaMancha/Guadalajara/dtm/PNOA_MDT05_ETRS89_HU30_0584_LID_3857.vrt</SourceFilename>
      <SourceBand>1</SourceBand>
      <SourceProperties RasterXSize="5699" RasterYSize="3739" DataType="Float32" BlockXSize="512" BlockYSize="128" />
      <SrcRect xOff="0" yOff="0" xSize="5699" ySize="3739" />
      <DstRect xOff="11267.0883448983" yOff="22300.8645868238" xSize="5654.75505537799" ySize="3709.9717761113" />
      <NODATA>-999</NODATA>
    </ComplexSource>
    <ComplexSource>
      <SourceFilename relativeToVRT="0">/home/01_ORIGINAL/world/spain/CastillaLaMancha/Guadalajara/dtm/PNOA_MDT05_ETRS89_HU30_0585_LID_3857.vrt</SourceFilename>
      <SourceBand>1</SourceBand>
      <SourceProperties RasterXSize="5713" RasterYSize="3773" DataType="Float32" BlockXSize="512" BlockYSize="128" />
      <SrcRect xOff="0" yOff="0" xSize="5713" ySize="3773" />
      <DstRect xOff="16887.3745193677" yOff="22284.9464863194" xSize="5668.70491490103" ySize="3743.74648064442" />
      <NODATA>-999</NODATA>
    </ComplexSource>
    <ComplexSource>
      <SourceFilename relativeToVRT="0">/home/01_ORIGINAL/world/spain/CastillaLaMancha/Guadalajara/dtm/PNOA_MDT05_ETRS89_HU30_0487_LID_3857.vrt</SourceFilename>
      <SourceBand>1</SourceBand>
      <SourceProperties RasterXSize="5656" RasterYSize="3773" DataType="Float32" BlockXSize="512" BlockYSize="128" />
      <SrcRect xOff="0" yOff="0" xSize="5656" ySize="3773" />
      <DstRect xOff="16887.660380562" yOff="7468.47563662273" xSize="5668.10706439217" ySize="3781.07637092497" />
      <NODATA>-999</NODATA>
    </ComplexSource>
    <ComplexSource>
      <SourceFilename relativeToVRT="0">/home/01_ORIGINAL/world/spain/CastillaLaMancha/Guadalajara/dtm/PNOA_MDT05_ETRS89_HU30_0539_LID_3857.vrt</SourceFilename>
      <SourceBand>1</SourceBand>
      <SourceProperties RasterXSize="5742" RasterYSize="3858" DataType="Float32" BlockXSize="512" BlockYSize="128" />
      <SrcRect xOff="0" yOff="0" xSize="5742" ySize="3858" />
      <DstRect xOff="28098.0443473914" yOff="14852.3038188041" xSize="5725.42798503421" ySize="3846.86540687251" />
      <NODATA>-999</NODATA>
    </ComplexSource>
    <ComplexSource>
      <SourceFilename relativeToVRT="0">/home/01_ORIGINAL/world/spain/CastillaLaMancha/Guadalajara/dtm/PNOA_MDT05_ETRS89_HU30_0536_LID_3857.vrt</SourceFilename>
      <SourceBand>1</SourceBand>
      <SourceProperties RasterXSize="5671" RasterYSize="3739" DataType="Float32" BlockXSize="512" BlockYSize="128" />
      <SrcRect xOff="0" yOff="0" xSize="5671" ySize="3739" />
      <DstRect xOff="11267.265740417" yOff="14911.0034974128" xSize="5654.79047671124" ySize="3728.3127477382" />
      <NODATA>-999</NODATA>
    </ComplexSource>
    <ComplexSource>
      <SourceFilename relativeToVRT="0">/home/01_ORIGINAL/world/spain/CastillaLaMancha/Guadalajara/dtm/PNOA_MDT05_ETRS89_HU30_0461_LID_3857.vrt</SourceFilename>
      <SourceBand>1</SourceBand>
      <SourceProperties RasterXSize="5642" RasterYSize="3773" DataType="Float32" BlockXSize="512" BlockYSize="128" />
      <SrcRect xOff="0" yOff="0" xSize="5642" ySize="3773" />
      <DstRect xOff="16887.7844257254" yOff="3741.28972467521" xSize="5668.32581745681" ySize="3790.60498214544" />
      <NODATA>-999</NODATA>
    </ComplexSource>
    <ComplexSource>
      <SourceFilename relativeToVRT="0">/home/01_ORIGINAL/world/spain/CastillaLaMancha/Guadalajara/dtm/PNOA_MDT05_ETRS89_HU30_0486_LID_3857.vrt</SourceFilename>
      <SourceBand>1</SourceBand>
      <SourceProperties RasterXSize="5644" RasterYSize="3738" DataType="Float32" BlockXSize="512" BlockYSize="128" />
      <SrcRect xOff="0" yOff="0" xSize="5644" ySize="3738" />
      <DstRect xOff="11267.3371760717" yOff="7484.54377543183" xSize="5656.01956304865" ySize="3745.96051145923" />
      <NODATA>-999</NODATA>
    </ComplexSource>
    <ComplexSource>
      <SourceFilename relativeToVRT="0">/home/01_ORIGINAL/world/spain/CastillaLaMancha/Guadalajara/dtm/PNOA_MDT05_ETRS89_HU30_0511_LID_3857.vrt</SourceFilename>
      <SourceBand>1</SourceBand>
      <SourceProperties RasterXSize="5657" RasterYSize="3738" DataType="Float32" BlockXSize="512" BlockYSize="128" />
      <SrcRect xOff="0" yOff="0" xSize="5657" ySize="3738" />
      <DstRect xOff="11267.3147677842" yOff="11202.3869135033" xSize="5654.87989309618" ySize="3736.59908792532" />
      <NODATA>-999</NODATA>
    </ComplexSource>
    <ComplexSource>
      <SourceFilename relativeToVRT="0">/home/01_ORIGINAL/world/spain/CastillaLaMancha/Guadalajara/dtm/PNOA_MDT05_ETRS89_HU30_0433_LID_3857.vrt</SourceFilename>
      <SourceBand>1</SourceBand>
      <SourceProperties RasterXSize="5616" RasterYSize="3738" DataType="Float32" BlockXSize="512" BlockYSize="128" />
      <SrcRect xOff="0" yOff="0" xSize="5616" ySize="3738" />
      <DstRect xOff="11267.3016043175" yOff="20.8658248114922" xSize="5656.44507493503" ySize="3764.92017273987" />
      <NODATA>-999</NODATA>
    </ComplexSource>
    <ComplexSource>
      <SourceFilename relativeToVRT="0">/home/01_ORIGINAL/world/spain/CastillaLaMancha/Guadalajara/dtm/PNOA_MDT05_ETRS89_HU30_0488_LID_3857.vrt</SourceFilename>
      <SourceBand>1</SourceBand>
      <SourceProperties RasterXSize="5686" RasterYSize="3817" DataType="Float32" BlockXSize="512" BlockYSize="128" />
      <SrcRect xOff="0" yOff="0" xSize="5686" ySize="3817" />
      <DstRect xOff="22491.9485531445" yOff="7446.35809225746" xSize="5698.11902704138" ySize="3825.13547770259" />
      <NODATA>-999</NODATA>
    </ComplexSource>
    <ComplexSource>
      <SourceFilename relativeToVRT="0">/home/01_ORIGINAL/world/spain/CastillaLaMancha/Guadalajara/dtm/PNOA_MDT05_ETRS89_HU30_0464_LID_3857.vrt</SourceFilename>
      <SourceBand>1</SourceBand>
      <SourceProperties RasterXSize="5729" RasterYSize="3904" DataType="Float32" BlockXSize="512" BlockYSize="128" />
      <SrcRect xOff="0" yOff="0" xSize="5729" ySize="3904" />
      <DstRect xOff="33702.6996613998" yOff="3675.11021751213" xSize="5755.24806080546" ySize="3921.88661710325" />
      <NODATA>-999</NODATA>
    </ComplexSource>
    <ComplexSource>
      <SourceFilename relativeToVRT="0">/home/01_ORIGINAL/world/spain/CastillaLaMancha/Guadalajara/dtm/PNOA_MDT05_ETRS89_HU30_0459_LID_3857.vrt</SourceFilename>
      <SourceBand>1</SourceBand>
      <SourceProperties RasterXSize="5648" RasterYSize="3778" DataType="Float32" BlockXSize="512" BlockYSize="128" />
      <SrcRect xOff="0" yOff="0" xSize="5648" ySize="3778" />
      <DstRect xOff="5632.65007382349" yOff="3738.59768628379" xSize="5674.18627729259" ySize="3795.5162456819" />
      <NODATA>-999</NODATA>
    </ComplexSource>
    <ComplexSource>
      <SourceFilename relativeToVRT="0">/home/01_ORIGINAL/world/spain/CastillaLaMancha/Guadalajara/dtm/PNOA_MDT05_ETRS89_HU30_0540_LID_3857.vrt</SourceFilename>
      <SourceBand>1</SourceBand>
      <SourceProperties RasterXSize="5768" RasterYSize="3902" DataType="Float32" BlockXSize="512" BlockYSize="128" />
      <SrcRect xOff="0" yOff="0" xSize="5768" ySize="3902" />
      <DstRect xOff="33704.2235169517" yOff="14831.0211246118" xSize="5751.07825177619" ySize="3890.55258988049" />
      <NODATA>-999</NODATA>
    </ComplexSource>
    <ComplexSource>
      <SourceFilename relativeToVRT="0">/home/01_ORIGINAL/world/spain/CastillaLaMancha/Guadalajara/dtm/PNOA_MDT05_ETRS89_HU30_0607_LID_3857.vrt</SourceFilename>
      <SourceBand>1</SourceBand>
      <SourceProperties RasterXSize="5713" RasterYSize="3739" DataType="Float32" BlockXSize="512" BlockYSize="128" />
      <SrcRect xOff="0" yOff="0" xSize="5713" ySize="3738.82177894272" />
      <DstRect xOff="11266.960229002" yOff="25982.2610749148" xSize="5654.8085811649" ySize="3700.73892508516" />
      <NODATA>-999</NODATA>
    </ComplexSource>
    <ComplexSource>
      <SourceFilename relativeToVRT="0">/home/01_ORIGINAL/world/spain/CastillaLaMancha/Guadalajara/dtm/PNOA_MDT05_ETRS89_HU30_0489_LID_3857.vrt</SourceFilename>
      <SourceBand>1</SourceBand>
      <SourceProperties RasterXSize="5712" RasterYSize="3858" DataType="Float32" BlockXSize="512" BlockYSize="128" />
      <SrcRect xOff="0" yOff="0" xSize="5712" ySize="3858" />
      <DstRect xOff="28098.2035962658" yOff="7425.66682107868" xSize="5724.01127934075" ySize="3866.11266031103" />
      <NODATA>-999</NODATA>
    </ComplexSource>
    <ComplexSource>
      <SourceFilename relativeToVRT="0">/home/01_ORIGINAL/world/spain/CastillaLaMancha/Guadalajara/dtm/PNOA_MDT05_ETRS89_HU30_0510_LID_3857.vrt</SourceFilename>
      <SourceBand>1</SourceBand>
      <SourceProperties RasterXSize="5675" RasterYSize="3778" DataType="Float32" BlockXSize="512" BlockYSize="128" />
      <SrcRect xOff="0" yOff="0" xSize="5675" ySize="3778" />
      <DstRect xOff="5632.95537727925" yOff="11183.6768685743" xSize="5672.76729466765" ySize="3776.51362806244" />
      <NODATA>-999</NODATA>
    </ComplexSource>
    <ComplexSource>
      <SourceFilename relativeToVRT="0">/home/01_ORIGINAL/world/spain/CastillaLaMancha/Guadalajara/dtm/PNOA_MDT05_ETRS89_HU30_0512_LID_3857.vrt</SourceFilename>
      <SourceBand>1</SourceBand>
      <SourceProperties RasterXSize="5672" RasterYSize="3773" DataType="Float32" BlockXSize="512" BlockYSize="128" />
      <SrcRect xOff="0" yOff="0" xSize="5672" ySize="3773" />
      <DstRect xOff="16887.5574747463" yOff="11186.356817694" xSize="5669.93291127758" ySize="3771.62497782974" />
      <NODATA>-999</NODATA>
    </ComplexSource>
    <ComplexSource>
      <SourceFilename relativeToVRT="0">/home/01_ORIGINAL/world/spain/CastillaLaMancha/Guadalajara/dtm/PNOA_MDT05_ETRS89_HU30_0535_LID_3857.vrt</SourceFilename>
      <SourceBand>1</SourceBand>
      <SourceProperties RasterXSize="5689" RasterYSize="3778" DataType="Float32" BlockXSize="512" BlockYSize="128" />
      <SrcRect xOff="0" yOff="0" xSize="5689" ySize="3778" />
      <DstRect xOff="5632.99583024886" yOff="14892.3370648912" xSize="5672.63299674773" ySize="3767.13085985462" />
      <NODATA>-999</NODATA>
    </ComplexSource>
    <ComplexSource>
      <SourceFilename relativeToVRT="0">/home/01_ORIGINAL/world/spain/CastillaLaMancha/Guadalajara/dtm/PNOA_MDT05_ETRS89_HU30_0513_LID_3857.vrt</SourceFilename>
      <SourceBand>1</SourceBand>
      <SourceProperties RasterXSize="5698" RasterYSize="3817" DataType="Float32" BlockXSize="512" BlockYSize="128" />
      <SrcRect xOff="0" yOff="0" xSize="5698" ySize="3817" />
      <DstRect xOff="22493.8259071505" yOff="11164.2872707032" xSize="5695.87730661003" ySize="3815.57804130054" />
      <NODATA>-999</NODATA>
    </ComplexSource>
    <ComplexSource>
      <SourceFilename relativeToVRT="0">/home/01_ORIGINAL/world/spain/CastillaLaMancha/Guadalajara/dtm/PNOA_MDT05_ETRS89_HU30_0561_LID_3857.vrt</SourceFilename>
      <SourceBand>1</SourceBand>
      <SourceProperties RasterXSize="5685" RasterYSize="3739" DataType="Float32" BlockXSize="512" BlockYSize="128" />
      <SrcRect xOff="0" yOff="0" xSize="5685" ySize="3739" />
      <DstRect xOff="11267.1902236846" yOff="18610.4706051254" xSize="5654.74894307228" ySize="3719.10401022819" />
      <NODATA>-999</NODATA>
    </ComplexSource>
    <ComplexSource>
      <SourceFilename relativeToVRT="0">/home/01_ORIGINAL/world/spain/CastillaLaMancha/Guadalajara/dtm/PNOA_MDT05_ETRS89_HU30_0490_LID_3857.vrt</SourceFilename>
      <SourceBand>1</SourceBand>
      <SourceProperties RasterXSize="5742" RasterYSize="3904" DataType="Float32" BlockXSize="512" BlockYSize="128" />
      <SrcRect xOff="0" yOff="0" xSize="5742" ySize="3904" />
      <DstRect xOff="33702.3814047917" yOff="7402.35290374911" xSize="5753.80466224593" ySize="3912.02601905401" />
      <NODATA>-999</NODATA>
    </ComplexSource>
  </VRTRasterBand>
</VRTDataset>
