<VRTDataset rasterXSize="91883" rasterYSize="77537">
  <SRS dataAxisToSRSAxisMapping="1,2">PROJCS["WGS 84 / Pseudo-Mercator",GEOGCS["WGS 84",DATUM["WGS_1984",SPHEROID["WGS 84",6378137,298.257223563,AUTHORITY["EPSG","7030"]],AUTHORITY["EPSG","6326"]],PRIMEM["Greenwich",0,AUTHORITY["EPSG","8901"]],UNIT["degree",0.0174532925199433,AUTHORITY["EPSG","9122"]],AUTHORITY["EPSG","4326"]],PROJECTION["Mercator_1SP"],PARAMETER["central_meridian",0],PARAMETER["scale_factor",1],PARAMETER["false_easting",0],PARAMETER["false_northing",0],UNIT["metre",1,AUTHORITY["EPSG","9001"]],AXIS["Easting",EAST],AXIS["Northing",NORTH],EXTENSION["PROJ4","+proj=merc +a=6378137 +b=6378137 +lat_ts=0 +lon_0=0 +x_0=0 +y_0=0 +k=1 +units=m +nadgrids=@null +wktext +no_defs"],AUTHORITY["EPSG","3857"]]</SRS>
  <GeoTransform>  1.2909140174354364e+06,  2.5000000000000000e-01,  0.0000000000000000e+00,  8.3149550933259735e+06,  0.0000000000000000e+00, -2.5000000000000000e-01</GeoTransform>
  <VRTRasterBand dataType="Byte" band="1">
    <NoDataValue>0</NoDataValue>
    <ColorInterp>Red</ColorInterp>
    <ComplexSource>
      <SourceFilename relativeToVRT="1">Z10X545Y724/33-2-470-126-02_3857.vrt</SourceFilename>
      <SourceBand>1</SourceBand>
      <SourceProperties RasterXSize="13068" RasterYSize="10099" DataType="Byte" BlockXSize="512" BlockYSize="128" />
      <SrcRect xOff="0" yOff="0" xSize="13068" ySize="10099" />
      <DstRect xOff="1936.85843662731" yOff="40997.8880446665" xSize="13068" ySize="10099" />
      <NODATA>0</NODATA>
    </ComplexSource>
    <ComplexSource>
      <SourceFilename relativeToVRT="1">Z10X545Y724/33-2-470-126-03_3857.vrt</SourceFilename>
      <SourceBand>1</SourceBand>
      <SourceProperties RasterXSize="13072" RasterYSize="10102" DataType="Byte" BlockXSize="512" BlockYSize="128" />
      <SrcRect xOff="0" yOff="0" xSize="13072" ySize="10102" />
      <DstRect xOff="1453.18754548114" yOff="31539.0814251304" xSize="13072" ySize="10102" />
      <NODATA>0</NODATA>
    </ComplexSource>
    <ComplexSource>
      <SourceFilename relativeToVRT="1">Z10X545Y724/33-2-470-127-30_3857.vrt</SourceFilename>
      <SourceBand>1</SourceBand>
      <SourceProperties RasterXSize="13066" RasterYSize="10090" DataType="Byte" BlockXSize="512" BlockYSize="128" />
      <SrcRect xOff="0" yOff="0" xSize="13066" ySize="10090" />
      <DstRect xOff="38758.0833954625" yOff="20177.2321993187" xSize="13066" ySize="10090" />
      <NODATA>0</NODATA>
    </ComplexSource>
    <ComplexSource>
      <SourceFilename relativeToVRT="1">Z10X545Y724/33-2-470-126-10_3857.vrt</SourceFilename>
      <SourceBand>1</SourceBand>
      <SourceProperties RasterXSize="13054" RasterYSize="10087" DataType="Byte" BlockXSize="512" BlockYSize="128" />
      <SrcRect xOff="0" yOff="0" xSize="13054" ySize="10087" />
      <DstRect xOff="15482.777985598" yOff="59269.7167027667" xSize="13054" ySize="10087" />
      <NODATA>0</NODATA>
    </ComplexSource>
    <ComplexSource>
      <SourceFilename relativeToVRT="1">Z10X545Y724/33-2-470-127-10_3857.vrt</SourceFilename>
      <SourceBand>1</SourceBand>
      <SourceProperties RasterXSize="13073" RasterYSize="10100" DataType="Byte" BlockXSize="512" BlockYSize="128" />
      <SrcRect xOff="0" yOff="0" xSize="13073" ySize="10100" />
      <DstRect xOff="13564.8265260709" yOff="21438.5727137998" xSize="13073" ySize="10100" />
      <NODATA>0</NODATA>
    </ComplexSource>
    <ComplexSource>
      <SourceFilename relativeToVRT="1">Z10X545Y724/33-2-471-127-12_3857.vrt</SourceFilename>
      <SourceBand>1</SourceBand>
      <SourceProperties RasterXSize="13067" RasterYSize="10088" DataType="Byte" BlockXSize="512" BlockYSize="128" />
      <SrcRect xOff="0" yOff="0" xSize="13067" ySize="10088" />
      <DstRect xOff="63024.8264170364" yOff="0" xSize="13067" ySize="10088" />
      <NODATA>0</NODATA>
    </ComplexSource>
    <ComplexSource>
      <SourceFilename relativeToVRT="1">Z10X545Y724/33-2-470-126-21_3857.vrt</SourceFilename>
      <SourceBand>1</SourceBand>
      <SourceProperties RasterXSize="13057" RasterYSize="10084" DataType="Byte" BlockXSize="512" BlockYSize="128" />
      <SrcRect xOff="0" yOff="0" xSize="13057" ySize="10084" />
      <DstRect xOff="27588.1263004979" yOff="49184.495953206" xSize="13057" ySize="10084" />
      <NODATA>0</NODATA>
    </ComplexSource>
    <ComplexSource>
      <SourceFilename relativeToVRT="1">Z10X545Y724/33-2-471-126-10_3857.vrt</SourceFilename>
      <SourceBand>1</SourceBand>
      <SourceProperties RasterXSize="13042" RasterYSize="10066" DataType="Byte" BlockXSize="512" BlockYSize="128" />
      <SrcRect xOff="0" yOff="0" xSize="13042" ySize="10066" />
      <DstRect xOff="65807.7433056505" yOff="56775.9295640625" xSize="13042" ySize="10066" />
      <NODATA>0</NODATA>
    </ComplexSource>
    <ComplexSource>
      <SourceFilename relativeToVRT="1">Z10X545Y724/33-2-470-126-13_3857.vrt</SourceFilename>
      <SourceBand>1</SourceBand>
      <SourceProperties RasterXSize="13068" RasterYSize="10096" DataType="Byte" BlockXSize="512" BlockYSize="128" />
      <SrcRect xOff="0" yOff="0" xSize="13068" ySize="10096" />
      <DstRect xOff="14044.8528804425" yOff="30900.8556696512" xSize="13068" ySize="10096" />
      <NODATA>0</NODATA>
    </ComplexSource>
    <ComplexSource>
      <SourceFilename relativeToVRT="1">Z10X545Y724/33-2-471-126-20_3857.vrt</SourceFilename>
      <SourceBand>1</SourceBand>
      <SourceProperties RasterXSize="13038" RasterYSize="10063" DataType="Byte" BlockXSize="512" BlockYSize="128" />
      <SrcRect xOff="0" yOff="0" xSize="13038" ySize="10063" />
      <DstRect xOff="78390.5366123915" yOff="56165.8369710408" xSize="13038" ySize="10063" />
      <NODATA>0</NODATA>
    </ComplexSource>
    <ComplexSource>
      <SourceFilename relativeToVRT="1">Z10X545Y724/33-2-471-127-00_3857.vrt</SourceFilename>
      <SourceBand>1</SourceBand>
      <SourceProperties RasterXSize="13062" RasterYSize="10087" DataType="Byte" BlockXSize="512" BlockYSize="128" />
      <SrcRect xOff="0" yOff="0" xSize="13062" ySize="10087" />
      <DstRect xOff="51355.6575546609" yOff="19554.5965780579" xSize="13062" ySize="10087" />
      <NODATA>0</NODATA>
    </ComplexSource>
    <ComplexSource>
      <SourceFilename relativeToVRT="1">Z10X545Y724/33-2-470-125-33_3857.vrt</SourceFilename>
      <SourceBand>1</SourceBand>
      <SourceProperties RasterXSize="13045" RasterYSize="10074" DataType="Byte" BlockXSize="512" BlockYSize="128" />
      <SrcRect xOff="0" yOff="0" xSize="13045" ySize="10073.6211225316" />
      <DstRect xOff="41114.6084136721" yOff="67463.3788774684" xSize="13045" ySize="10073.6211225316" />
      <NODATA>0</NODATA>
    </ComplexSource>
    <ComplexSource>
      <SourceFilename relativeToVRT="1">Z10X545Y724/33-2-471-127-02_3857.vrt</SourceFilename>
      <SourceBand>1</SourceBand>
      <SourceProperties RasterXSize="13070" RasterYSize="10093" DataType="Byte" BlockXSize="512" BlockYSize="128" />
      <SrcRect xOff="0" yOff="0" xSize="13070" ySize="10093" />
      <DstRect xOff="50418.6010615211" yOff="618.202393978834" xSize="13070" ySize="10093" />
      <NODATA>0</NODATA>
    </ComplexSource>
    <ComplexSource>
      <SourceFilename relativeToVRT="1">Z10X545Y724/33-2-470-127-22_3857.vrt</SourceFilename>
      <SourceBand>1</SourceBand>
      <SourceProperties RasterXSize="13077" RasterYSize="10102" DataType="Byte" BlockXSize="512" BlockYSize="128" />
      <SrcRect xOff="0" yOff="0" xSize="13077" ySize="10102" />
      <DstRect xOff="25208.0298203537" yOff="1870.7030031234" xSize="13077" ySize="10102" />
      <NODATA>0</NODATA>
    </ComplexSource>
    <ComplexSource>
      <SourceFilename relativeToVRT="1">Z10X545Y724/33-2-470-126-00_3857.vrt</SourceFilename>
      <SourceBand>1</SourceBand>
      <SourceProperties RasterXSize="13058" RasterYSize="10092" DataType="Byte" BlockXSize="512" BlockYSize="128" />
      <SrcRect xOff="0" yOff="0" xSize="13058" ySize="10092" />
      <DstRect xOff="2903.11506441236" yOff="59906.5133347996" xSize="13058" ySize="10092" />
      <NODATA>0</NODATA>
    </ComplexSource>
    <ComplexSource>
      <SourceFilename relativeToVRT="1">Z10X545Y724/33-2-470-127-11_3857.vrt</SourceFilename>
      <SourceBand>1</SourceBand>
      <SourceProperties RasterXSize="13077" RasterYSize="10105" DataType="Byte" BlockXSize="512" BlockYSize="128" />
      <SrcRect xOff="0" yOff="0" xSize="13077" ySize="10105" />
      <DstRect xOff="13084.4405498961" yOff="11973.2880589776" xSize="13077" ySize="10105" />
      <NODATA>0</NODATA>
    </ComplexSource>
    <ComplexSource>
      <SourceFilename relativeToVRT="1">Z10X545Y724/33-2-470-127-00_3857.vrt</SourceFilename>
      <SourceBand>1</SourceBand>
      <SourceProperties RasterXSize="13076" RasterYSize="10105" DataType="Byte" BlockXSize="512" BlockYSize="128" />
      <SrcRect xOff="0" yOff="0" xSize="13076" ySize="10105" />
      <DstRect xOff="969.154429522343" yOff="22077.2758447006" xSize="13076" ySize="10105" />
      <NODATA>0</NODATA>
    </ComplexSource>
    <ComplexSource>
      <SourceFilename relativeToVRT="1">Z10X545Y724/33-2-470-126-23_3857.vrt</SourceFilename>
      <SourceBand>1</SourceBand>
      <SourceProperties RasterXSize="13065" RasterYSize="10093" DataType="Byte" BlockXSize="512" BlockYSize="128" />
      <SrcRect xOff="0" yOff="0" xSize="13065" ySize="10093" />
      <DstRect xOff="26637.1568716299" yOff="30267.9808892608" xSize="13065" ySize="10093" />
      <NODATA>0</NODATA>
    </ComplexSource>
    <ComplexSource>
      <SourceFilename relativeToVRT="1">Z10X545Y724/33-2-470-126-12_3857.vrt</SourceFilename>
      <SourceBand>1</SourceBand>
      <SourceProperties RasterXSize="13064" RasterYSize="10093" DataType="Byte" BlockXSize="512" BlockYSize="128" />
      <SrcRect xOff="0" yOff="0" xSize="13064" ySize="10093" />
      <DstRect xOff="14524.5199905653" yOff="40360.139163658" xSize="13064" ySize="10093" />
      <NODATA>0</NODATA>
    </ComplexSource>
    <ComplexSource>
      <SourceFilename relativeToVRT="1">Z10X545Y724/33-2-470-126-31_3857.vrt</SourceFilename>
      <SourceBand>1</SourceBand>
      <SourceProperties RasterXSize="13053" RasterYSize="10081" DataType="Byte" BlockXSize="512" BlockYSize="128" />
      <SrcRect xOff="0" yOff="0" xSize="13053" ySize="10081" />
      <DstRect xOff="40173.0563947652" yOff="48557.9103863537" xSize="13053" ySize="10081" />
      <NODATA>0</NODATA>
    </ComplexSource>
    <ComplexSource>
      <SourceFilename relativeToVRT="1">Z10X545Y724/33-2-470-126-32_3857.vrt</SourceFilename>
      <SourceBand>1</SourceBand>
      <SourceProperties RasterXSize="13057" RasterYSize="10084" DataType="Byte" BlockXSize="512" BlockYSize="128" />
      <SrcRect xOff="0" yOff="0" xSize="13057" ySize="10084" />
      <DstRect xOff="39701.7517614113" yOff="39100.6832845323" xSize="13057" ySize="10084" />
      <NODATA>0</NODATA>
    </ComplexSource>
    <ComplexSource>
      <SourceFilename relativeToVRT="1">Z10X545Y724/33-2-470-126-01_3857.vrt</SourceFilename>
      <SourceBand>1</SourceBand>
      <SourceProperties RasterXSize="13062" RasterYSize="10096" DataType="Byte" BlockXSize="512" BlockYSize="128" />
      <SrcRect xOff="0" yOff="0" xSize="13062" ySize="10096" />
      <DstRect xOff="2420.16748307645" yOff="50453.697937306" xSize="13062" ySize="10096" />
      <NODATA>0</NODATA>
    </ComplexSource>
    <ComplexSource>
      <SourceFilename relativeToVRT="1">Z10X545Y724/33-2-470-126-30_3857.vrt</SourceFilename>
      <SourceBand>1</SourceBand>
      <SourceProperties RasterXSize="13049" RasterYSize="10078" DataType="Byte" BlockXSize="512" BlockYSize="128" />
      <SrcRect xOff="0" yOff="0" xSize="13049" ySize="10078" />
      <DstRect xOff="40644.0084889289" yOff="58012.1415068135" xSize="13049" ySize="10078" />
      <NODATA>0</NODATA>
    </ComplexSource>
    <ComplexSource>
      <SourceFilename relativeToVRT="1">Z10X545Y724/33-2-470-127-12_3857.vrt</SourceFilename>
      <SourceBand>1</SourceBand>
      <SourceProperties RasterXSize="13081" RasterYSize="10108" DataType="Byte" BlockXSize="512" BlockYSize="128" />
      <SrcRect xOff="0" yOff="0" xSize="13081" ySize="10108" />
      <DstRect xOff="12603.6945738364" yOff="2505" xSize="13081" ySize="10108" />
      <NODATA>0</NODATA>
    </ComplexSource>
    <ComplexSource>
      <SourceFilename relativeToVRT="1">Z10X545Y724/33-2-470-127-31_3857.vrt</SourceFilename>
      <SourceBand>1</SourceBand>
      <SourceProperties RasterXSize="13070" RasterYSize="10094" DataType="Byte" BlockXSize="512" BlockYSize="128" />
      <SrcRect xOff="0" yOff="0" xSize="13070" ySize="10094" />
      <DstRect xOff="38285.7189207198" yOff="10711.003741242" xSize="13070" ySize="10094" />
      <NODATA>0</NODATA>
    </ComplexSource>
    <ComplexSource>
      <SourceFilename relativeToVRT="1">Z10X545Y724/33-2-470-127-01_3857.vrt</SourceFilename>
      <SourceBand>1</SourceBand>
      <SourceProperties RasterXSize="13080" RasterYSize="10109" DataType="Byte" BlockXSize="512" BlockYSize="128" />
      <SrcRect xOff="0" yOff="0" xSize="13080" ySize="10109" />
      <DstRect xOff="484.758708092384" yOff="12612.4690669402" xSize="13080" ySize="10109" />
      <NODATA>0</NODATA>
    </ComplexSource>
    <ComplexSource>
      <SourceFilename relativeToVRT="1">Z10X545Y724/33-2-470-127-32_3857.vrt</SourceFilename>
      <SourceBand>1</SourceBand>
      <SourceProperties RasterXSize="13074" RasterYSize="10097" DataType="Byte" BlockXSize="512" BlockYSize="128" />
      <SrcRect xOff="0" yOff="0" xSize="13074" ySize="10097" />
      <DstRect xOff="37813" yOff="1241.77035253122" xSize="13074" ySize="10097" />
      <NODATA>0</NODATA>
    </ComplexSource>
    <ComplexSource>
      <SourceFilename relativeToVRT="1">Z10X545Y724/33-2-470-126-20_3857.vrt</SourceFilename>
      <SourceBand>1</SourceBand>
      <SourceProperties RasterXSize="13052" RasterYSize="10081" DataType="Byte" BlockXSize="512" BlockYSize="128" />
      <SrcRect xOff="0" yOff="0" xSize="13052" ySize="10081" />
      <DstRect xOff="28063.0775550827" yOff="58638.2591334879" xSize="13052" ySize="10081" />
      <NODATA>0</NODATA>
    </ComplexSource>
    <ComplexSource>
      <SourceFilename relativeToVRT="1">Z10X545Y724/33-2-471-127-01_3857.vrt</SourceFilename>
      <SourceBand>1</SourceBand>
      <SourceProperties RasterXSize="13066" RasterYSize="10090" DataType="Byte" BlockXSize="512" BlockYSize="128" />
      <SrcRect xOff="0" yOff="0" xSize="13066" ySize="10090" />
      <DstRect xOff="50887.3048250293" yOff="10087.9021962769" xSize="13066" ySize="10090" />
      <NODATA>0</NODATA>
    </ComplexSource>
    <ComplexSource>
      <SourceFilename relativeToVRT="1">Z10X545Y724/33-2-471-125-13_3857.vrt</SourceFilename>
      <SourceBand>1</SourceBand>
      <SourceProperties RasterXSize="13038" RasterYSize="10063" DataType="Byte" BlockXSize="512" BlockYSize="128" />
      <SrcRect xOff="0" yOff="0" xSize="13038" ySize="10063" />
      <DstRect xOff="66270.3488920517" yOff="66228.0899376869" xSize="13038" ySize="10063" />
      <NODATA>0</NODATA>
    </ComplexSource>
    <ComplexSource>
      <SourceFilename relativeToVRT="1">Z10X545Y724/33-2-470-126-33_3857.vrt</SourceFilename>
      <SourceBand>1</SourceBand>
      <SourceProperties RasterXSize="13061" RasterYSize="10087" DataType="Byte" BlockXSize="512" BlockYSize="128" />
      <SrcRect xOff="0" yOff="0" xSize="13061" ySize="10087" />
      <DstRect xOff="39230.0942185801" yOff="29640.4579675831" xSize="13061" ySize="10087" />
      <NODATA>0</NODATA>
    </ComplexSource>
    <ComplexSource>
      <SourceFilename relativeToVRT="1">Z10X545Y724/33-2-471-126-11_3857.vrt</SourceFilename>
      <SourceBand>1</SourceBand>
      <SourceProperties RasterXSize="13046" RasterYSize="10072" DataType="Byte" BlockXSize="512" BlockYSize="128" />
      <SrcRect xOff="0" yOff="0" xSize="13046" ySize="10072" />
      <DstRect xOff="65344.7914989041" yOff="47320.7744718641" xSize="13046" ySize="10072" />
      <NODATA>0</NODATA>
    </ComplexSource>
    <ComplexSource>
      <SourceFilename relativeToVRT="1">Z10X545Y724/33-2-470-127-20_3857.vrt</SourceFilename>
      <SourceBand>1</SourceBand>
      <SourceProperties RasterXSize="13069" RasterYSize="10096" DataType="Byte" BlockXSize="512" BlockYSize="128" />
      <SrcRect xOff="0" yOff="0" xSize="13069" ySize="10096" />
      <DstRect xOff="26161.137950046" yOff="20805.2245370559" xSize="13069" ySize="10096" />
      <NODATA>0</NODATA>
    </ComplexSource>
    <ComplexSource>
      <SourceFilename relativeToVRT="1">Z10X545Y724/33-2-471-127-10_3857.vrt</SourceFilename>
      <SourceBand>1</SourceBand>
      <SourceProperties RasterXSize="13058" RasterYSize="10081" DataType="Byte" BlockXSize="512" BlockYSize="128" />
      <SrcRect xOff="0" yOff="0" xSize="13058" ySize="10081" />
      <DstRect xOff="63953.8551183213" yOff="18937.3185433671" xSize="13058" ySize="10081" />
      <NODATA>0</NODATA>
    </ComplexSource>
    <ComplexSource>
      <SourceFilename relativeToVRT="1">Z10X545Y724/33-2-471-126-00_3857.vrt</SourceFilename>
      <SourceBand>1</SourceBand>
      <SourceProperties RasterXSize="13045" RasterYSize="10072" DataType="Byte" BlockXSize="512" BlockYSize="128" />
      <SrcRect xOff="0" yOff="0" xSize="13045" ySize="10072" />
      <DstRect xOff="53225.5655015353" yOff="57391.3646952808" xSize="13045" ySize="10072" />
      <NODATA>0</NODATA>
    </ComplexSource>
    <ComplexSource>
      <SourceFilename relativeToVRT="1">Z10X545Y724/33-2-470-126-22_3857.vrt</SourceFilename>
      <SourceBand>1</SourceBand>
      <SourceProperties RasterXSize="13061" RasterYSize="10090" DataType="Byte" BlockXSize="512" BlockYSize="128" />
      <SrcRect xOff="0" yOff="0" xSize="13061" ySize="10090" />
      <DstRect xOff="27112.8195304759" yOff="39727.7372828238" xSize="13061" ySize="10090" />
      <NODATA>0</NODATA>
    </ComplexSource>
    <ComplexSource>
      <SourceFilename relativeToVRT="1">Z10X545Y724/33-2-470-126-11_3857.vrt</SourceFilename>
      <SourceBand>1</SourceBand>
      <SourceProperties RasterXSize="13060" RasterYSize="10090" DataType="Byte" BlockXSize="512" BlockYSize="128" />
      <SrcRect xOff="0" yOff="0" xSize="13060" ySize="10090" />
      <DstRect xOff="15003.8282334553" yOff="49816.4254305623" xSize="13060" ySize="10090" />
      <NODATA>0</NODATA>
    </ComplexSource>
    <ComplexSource>
      <SourceFilename relativeToVRT="1">Z10X545Y724/33-2-471-126-01_3857.vrt</SourceFilename>
      <SourceBand>1</SourceBand>
      <SourceProperties RasterXSize="13049" RasterYSize="10075" DataType="Byte" BlockXSize="512" BlockYSize="128" />
      <SrcRect xOff="0" yOff="0" xSize="13049" ySize="10075" />
      <DstRect xOff="52758.6132251527" yOff="47936.6696037687" xSize="13049" ySize="10075" />
      <NODATA>0</NODATA>
    </ComplexSource>
    <ComplexSource>
      <SourceFilename relativeToVRT="1">Z10X545Y724/33-2-471-125-03_3857.vrt</SourceFilename>
      <SourceBand>1</SourceBand>
      <SourceProperties RasterXSize="13041" RasterYSize="10069" DataType="Byte" BlockXSize="512" BlockYSize="128" />
      <SrcRect xOff="0" yOff="0" xSize="13041" ySize="10069" />
      <DstRect xOff="53692.1685825745" yOff="66843.0655505434" xSize="13041" ySize="10069" />
      <NODATA>0</NODATA>
    </ComplexSource>
    <ComplexSource>
      <SourceFilename relativeToVRT="1">Z10X545Y724/33-2-471-126-02_3857.vrt</SourceFilename>
      <SourceBand>1</SourceBand>
      <SourceProperties RasterXSize="13054" RasterYSize="10078" DataType="Byte" BlockXSize="512" BlockYSize="128" />
      <SrcRect xOff="0" yOff="0" xSize="13054" ySize="10078" />
      <DstRect xOff="52291.3113867557" yOff="38478.9780437946" xSize="13054" ySize="10078" />
      <NODATA>0</NODATA>
    </ComplexSource>
    <ComplexSource>
      <SourceFilename relativeToVRT="1">Z10X545Y724/33-2-471-126-03_3857.vrt</SourceFilename>
      <SourceBand>1</SourceBand>
      <SourceProperties RasterXSize="13058" RasterYSize="10082" DataType="Byte" BlockXSize="512" BlockYSize="128" />
      <SrcRect xOff="0" yOff="0" xSize="13058" ySize="10082" />
      <DstRect xOff="51823.6596191609" yOff="29018.2877808176" xSize="13058" ySize="10082" />
      <NODATA>0</NODATA>
    </ComplexSource>
    <ComplexSource>
      <SourceFilename relativeToVRT="1">Z10X545Y724/33-2-471-125-23_3857.vrt</SourceFilename>
      <SourceBand>1</SourceBand>
      <SourceProperties RasterXSize="13034" RasterYSize="10059" DataType="Byte" BlockXSize="512" BlockYSize="128" />
      <SrcRect xOff="0" yOff="0" xSize="13033.8559412807" ySize="10059" />
      <DstRect xOff="78849.1440587193" yOff="65618.4528956152" xSize="13033.8559412807" ySize="10059" />
      <NODATA>0</NODATA>
    </ComplexSource>
    <ComplexSource>
      <SourceFilename relativeToVRT="1">Z10X545Y724/33-2-471-127-11_3857.vrt</SourceFilename>
      <SourceBand>1</SourceBand>
      <SourceProperties RasterXSize="13063" RasterYSize="10084" DataType="Byte" BlockXSize="512" BlockYSize="128" />
      <SrcRect xOff="0" yOff="0" xSize="13063" ySize="10084" />
      <DstRect xOff="63489.5147893503" yOff="9470.16222481057" xSize="13063" ySize="10084" />
      <NODATA>0</NODATA>
    </ComplexSource>
    <ComplexSource>
      <SourceFilename relativeToVRT="1">Z10X545Y724/33-2-470-127-21_3857.vrt</SourceFilename>
      <SourceBand>1</SourceBand>
      <SourceProperties RasterXSize="13073" RasterYSize="10099" DataType="Byte" BlockXSize="512" BlockYSize="128" />
      <SrcRect xOff="0" yOff="0" xSize="13073" ySize="10099" />
      <DstRect xOff="25684.7623912776" yOff="11339.4659883827" xSize="13073" ySize="10099" />
      <NODATA>0</NODATA>
    </ComplexSource>
    <ComplexSource>
      <SourceFilename relativeToVRT="1">Z10X545Y724/33-2-471-126-12_3857.vrt</SourceFilename>
      <SourceBand>1</SourceBand>
      <SourceProperties RasterXSize="13050" RasterYSize="10075" DataType="Byte" BlockXSize="512" BlockYSize="128" />
      <SrcRect xOff="0" yOff="0" xSize="13050" ySize="10075" />
      <DstRect xOff="64881.4931082418" yOff="37862.6224281862" xSize="13050" ySize="10075" />
      <NODATA>0</NODATA>
    </ComplexSource>
    <ComplexSource>
      <SourceFilename relativeToVRT="1">Z10X545Y724/33-2-470-127-02_3857.vrt</SourceFilename>
      <SourceBand>1</SourceBand>
      <SourceProperties RasterXSize="13085" RasterYSize="10112" DataType="Byte" BlockXSize="512" BlockYSize="128" />
      <SrcRect xOff="0" yOff="0" xSize="13085" ySize="10112" />
      <DstRect xOff="0" yOff="3144.65885316208" xSize="13085" ySize="10112" />
      <NODATA>0</NODATA>
    </ComplexSource>
    <ComplexSource>
      <SourceFilename relativeToVRT="1">Z10X545Y724/33-2-471-126-13_3857.vrt</SourceFilename>
      <SourceBand>1</SourceBand>
      <SourceProperties RasterXSize="13054" RasterYSize="10078" DataType="Byte" BlockXSize="512" BlockYSize="128" />
      <SrcRect xOff="0" yOff="0" xSize="13054" ySize="10078" />
      <DstRect xOff="64417.8477695808" yOff="28401.4711978696" xSize="13054" ySize="10078" />
      <NODATA>0</NODATA>
    </ComplexSource>
  </VRTRasterBand>
  <VRTRasterBand dataType="Byte" band="2">
    <NoDataValue>0</NoDataValue>
    <ColorInterp>Green</ColorInterp>
    <ComplexSource>
      <SourceFilename relativeToVRT="1">Z10X545Y724/33-2-470-126-02_3857.vrt</SourceFilename>
      <SourceBand>2</SourceBand>
      <SourceProperties RasterXSize="13068" RasterYSize="10099" DataType="Byte" BlockXSize="512" BlockYSize="128" />
      <SrcRect xOff="0" yOff="0" xSize="13068" ySize="10099" />
      <DstRect xOff="1936.85843662731" yOff="40997.8880446665" xSize="13068" ySize="10099" />
      <NODATA>0</NODATA>
    </ComplexSource>
    <ComplexSource>
      <SourceFilename relativeToVRT="1">Z10X545Y724/33-2-470-126-03_3857.vrt</SourceFilename>
      <SourceBand>2</SourceBand>
      <SourceProperties RasterXSize="13072" RasterYSize="10102" DataType="Byte" BlockXSize="512" BlockYSize="128" />
      <SrcRect xOff="0" yOff="0" xSize="13072" ySize="10102" />
