<VRTDataset rasterXSize="102197" rasterYSize="134849">
  <SRS dataAxisToSRSAxisMapping="1,2">PROJCS["WGS 84 / Pseudo-Mercator",GEOGCS["WGS 84",DATUM["WGS_1984",SPHEROID["WGS 84",6378137,298.257223563,AUTHORITY["EPSG","7030"]],AUTHORITY["EPSG","6326"]],PRIMEM["Greenwich",0,AUTHORITY["EPSG","8901"]],UNIT["degree",0.0174532925199433,AUTHORITY["EPSG","9122"]],AUTHORITY["EPSG","4326"]],PROJECTION["Mercator_1SP"],PARAMETER["central_meridian",0],PARAMETER["scale_factor",1],PARAMETER["false_easting",0],PARAMETER["false_northing",0],UNIT["metre",1,AUTHORITY["EPSG","9001"]],AXIS["Easting",EAST],AXIS["Northing",NORTH],EXTENSION["PROJ4","+proj=merc +a=6378137 +b=6378137 +lat_ts=0 +lon_0=0 +x_0=0 +y_0=0 +k=1 +units=m +nadgrids=@null +wktext +no_defs"],AUTHORITY["EPSG","3857"]]</SRS>
  <GeoTransform>  1.2926991418397967e+06,  2.5000000000000000e-01,  0.0000000000000000e+00,  8.2186448314226372e+06,  0.0000000000000000e+00, -2.5000000000000000e-01</GeoTransform>
  <VRTRasterBand dataType="Byte" band="1">
    <NoDataValue>0</NoDataValue>
    <ColorInterp>Red</ColorInterp>
    <ComplexSource>
      <SourceFilename relativeToVRT="1">Z10X545Y721/33-2-470-114-11_3857.vrt</SourceFilename>
      <SourceBand>1</SourceBand>
      <SourceProperties RasterXSize="12854" RasterYSize="9927" DataType="Byte" BlockXSize="512" BlockYSize="128" />
      <SrcRect xOff="0" yOff="0" xSize="12854" ySize="9927" />
      <DstRect xOff="30455.3571729325" yOff="114995.607149899" xSize="12854" ySize="9927" />
      <NODATA>0</NODATA>
    </ComplexSource>
    <ComplexSource>
      <SourceFilename relativeToVRT="1">Z10X545Y721/33-2-470-117-10_3857.vrt</SourceFilename>
      <SourceBand>1</SourceBand>
      <SourceProperties RasterXSize="12901" RasterYSize="9963" DataType="Byte" BlockXSize="512" BlockYSize="128" />
      <SrcRect xOff="0" yOff="0" xSize="12901" ySize="9963" />
      <DstRect xOff="25348.8494929327" yOff="12371.1320708096" xSize="12901" ySize="9963" />
      <NODATA>0</NODATA>
    </ComplexSource>
    <ComplexSource>
      <SourceFilename relativeToVRT="1">Z10X545Y721/33-2-471-116-23_3857.vrt</SourceFilename>
      <SourceBand>1</SourceBand>
      <SourceProperties RasterXSize="12879" RasterYSize="9936" DataType="Byte" BlockXSize="512" BlockYSize="128" />
      <SrcRect xOff="0" yOff="0" xSize="12879" ySize="9936" />
      <DstRect xOff="87992.9133190587" yOff="18695.4303204976" xSize="12879" ySize="9936" />
      <NODATA>0</NODATA>
    </ComplexSource>
    <ComplexSource>
      <SourceFilename relativeToVRT="1">Z10X545Y721/33-2-471-115-12_3857.vrt</SourceFilename>
      <SourceBand>1</SourceBand>
      <SourceProperties RasterXSize="12862" RasterYSize="9924" DataType="Byte" BlockXSize="512" BlockYSize="128" />
      <SrcRect xOff="0" yOff="0" xSize="12862" ySize="9924" />
      <DstRect xOff="77803.0027610427" yOff="65974.4087937549" xSize="12862" ySize="9924" />
      <NODATA>0</NODATA>
    </ComplexSource>
    <ComplexSource>
      <SourceFilename relativeToVRT="1">Z10X545Y721/33-2-470-116-02_3857.vrt</SourceFilename>
      <SourceBand>1</SourceBand>
      <SourceProperties RasterXSize="12896" RasterYSize="9962" DataType="Byte" BlockXSize="512" BlockYSize="128" />
      <SrcRect xOff="0" yOff="0" xSize="12896" ySize="9962" />
      <DstRect xOff="13850.4766392605" yOff="31675.3467221148" xSize="12896" ySize="9962" />
      <NODATA>0</NODATA>
    </ComplexSource>
    <ComplexSource>
      <SourceFilename relativeToVRT="1">Z10X545Y721/33-2-471-116-20_3857.vrt</SourceFilename>
      <SourceBand>1</SourceBand>
      <SourceProperties RasterXSize="12867" RasterYSize="9927" DataType="Byte" BlockXSize="512" BlockYSize="128" />
      <SrcRect xOff="0" yOff="0" xSize="12866.6073735934" ySize="9927" />
      <DstRect xOff="89330.3926264066" yOff="46716.7249396257" xSize="12866.6073735934" ySize="9927" />
      <NODATA>0</NODATA>
    </ComplexSource>
    <ComplexSource>
      <SourceFilename relativeToVRT="1">Z10X545Y721/33-2-470-114-32_3857.vrt</SourceFilename>
      <SourceBand>1</SourceBand>
      <SourceProperties RasterXSize="12851" RasterYSize="9921" DataType="Byte" BlockXSize="512" BlockYSize="128" />
      <SrcRect xOff="0" yOff="0" xSize="12851" ySize="9921" />
      <DstRect xOff="54792.50787789" yOff="104465.219408538" xSize="12851" ySize="9921" />
      <NODATA>0</NODATA>
    </ComplexSource>
    <ComplexSource>
      <SourceFilename relativeToVRT="1">Z10X545Y721/33-2-470-117-11_3857.vrt</SourceFilename>
      <SourceBand>1</SourceBand>
      <SourceProperties RasterXSize="12905" RasterYSize="9966" DataType="Byte" BlockXSize="512" BlockYSize="128" />
      <SrcRect xOff="0" yOff="0" xSize="12905" ySize="9966" />
      <DstRect xOff="24882.5590802915" yOff="3024.19316250831" xSize="12905" ySize="9966" />
      <NODATA>0</NODATA>
    </ComplexSource>
    <ComplexSource>
      <SourceFilename relativeToVRT="1">Z10X545Y721/33-2-471-116-10_3857.vrt</SourceFilename>
      <SourceBand>1</SourceBand>
      <SourceProperties RasterXSize="12870" RasterYSize="9930" DataType="Byte" BlockXSize="512" BlockYSize="128" />
      <SrcRect xOff="0" yOff="0" xSize="12870" ySize="9930" />
      <DstRect xOff="76905.236283225" yOff="47308.9614052698" xSize="12870" ySize="9930" />
      <NODATA>0</NODATA>
    </ComplexSource>
    <ComplexSource>
      <SourceFilename relativeToVRT="1">Z10X545Y721/33-2-470-115-11_3857.vrt</SourceFilename>
      <SourceBand>1</SourceBand>
      <SourceProperties RasterXSize="12870" RasterYSize="9939" DataType="Byte" BlockXSize="512" BlockYSize="128" />
      <SrcRect xOff="0" yOff="0" xSize="12870" ySize="9939" />
      <DstRect xOff="28603.2443967471" yOff="77718.2324595898" xSize="12870" ySize="9939" />
      <NODATA>0</NODATA>
    </ComplexSource>
    <ComplexSource>
      <SourceFilename relativeToVRT="1">Z10X545Y721/33-2-470-115-13_3857.vrt</SourceFilename>
      <SourceBand>1</SourceBand>
      <SourceProperties RasterXSize="12878" RasterYSize="9947" DataType="Byte" BlockXSize="512" BlockYSize="128" />
      <SrcRect xOff="0" yOff="0" xSize="12878" ySize="9947" />
      <DstRect xOff="27675.1347917812" yOff="59062.1594999321" xSize="12878" ySize="9947" />
      <NODATA>0</NODATA>
    </ComplexSource>
    <ComplexSource>
      <SourceFilename relativeToVRT="1">Z10X545Y721/33-2-470-115-30_3857.vrt</SourceFilename>
      <SourceBand>1</SourceBand>
      <SourceProperties RasterXSize="12859" RasterYSize="9927" DataType="Byte" BlockXSize="512" BlockYSize="128" />
      <SrcRect xOff="0" yOff="0" xSize="12859" ySize="9927" />
      <DstRect xOff="53881.918396919" yOff="85824.7414104678" xSize="12859" ySize="9927" />
      <NODATA>0</NODATA>
    </ComplexSource>
    <ComplexSource>
      <SourceFilename relativeToVRT="1">Z10X545Y721/33-2-470-117-20_3857.vrt</SourceFilename>
      <SourceBand>1</SourceBand>
      <SourceProperties RasterXSize="12897" RasterYSize="9959" DataType="Byte" BlockXSize="512" BlockYSize="128" />
      <SrcRect xOff="0" yOff="0" xSize="12897" ySize="9959" />
      <DstRect xOff="37787.1589231817" yOff="11756.3390647545" xSize="12897" ySize="9959" />
      <NODATA>0</NODATA>
    </ComplexSource>
    <ComplexSource>
      <SourceFilename relativeToVRT="1">Z10X545Y721/33-2-471-117-10_3857.vrt</SourceFilename>
      <SourceBand>1</SourceBand>
      <SourceProperties RasterXSize="12886" RasterYSize="9945" DataType="Byte" BlockXSize="512" BlockYSize="128" />
      <SrcRect xOff="0" yOff="0" xSize="12886" ySize="9945" />
      <DstRect xOff="75105.7155102212" yOff="9943.16216711327" xSize="12886" ySize="9945" />
      <NODATA>0</NODATA>
    </ComplexSource>
    <ComplexSource>
      <SourceFilename relativeToVRT="1">Z10X545Y721/33-2-471-115-01_3857.vrt</SourceFilename>
      <SourceBand>1</SourceBand>
      <SourceProperties RasterXSize="12862" RasterYSize="9927" DataType="Byte" BlockXSize="512" BlockYSize="128" />
      <SrcRect xOff="0" yOff="0" xSize="12862" ySize="9927" />
      <DstRect xOff="65838.4571695365" yOff="75898.8794435486" xSize="12862" ySize="9927" />
      <NODATA>0</NODATA>
    </ComplexSource>
    <ComplexSource>
      <SourceFilename relativeToVRT="1">Z10X545Y721/33-2-471-116-03_3857.vrt</SourceFilename>
      <SourceBand>1</SourceBand>
      <SourceProperties RasterXSize="12886" RasterYSize="9945" DataType="Byte" BlockXSize="512" BlockYSize="128" />
      <SrcRect xOff="0" yOff="0" xSize="12886" ySize="9945" />
      <DstRect xOff="63119.8689782321" yOff="19887.7289150655" xSize="12886" ySize="9945" />
      <NODATA>0</NODATA>
    </ComplexSource>
    <ComplexSource>
      <SourceFilename relativeToVRT="1">Z10X545Y721/33-2-470-114-22_3857.vrt</SourceFilename>
      <SourceBand>1</SourceBand>
      <SourceProperties RasterXSize="12855" RasterYSize="9924" DataType="Byte" BlockXSize="512" BlockYSize="128" />
      <SrcRect xOff="0" yOff="0" xSize="12855" ySize="9924" />
      <DstRect xOff="42392.3737105345" yOff="105070.331089512" xSize="12855" ySize="9924" />
      <NODATA>0</NODATA>
    </ComplexSource>
    <ComplexSource>
      <SourceFilename relativeToVRT="1">Z10X545Y721/33-2-471-115-00_3857.vrt</SourceFilename>
      <SourceBand>1</SourceBand>
      <SourceProperties RasterXSize="12858" RasterYSize="9923" DataType="Byte" BlockXSize="512" BlockYSize="128" />
      <SrcRect xOff="0" yOff="0" xSize="12858" ySize="9923" />
      <DstRect xOff="66290.3845135355" yOff="85223.9073041789" xSize="12858" ySize="9923" />
      <NODATA>0</NODATA>
    </ComplexSource>
    <ComplexSource>
      <SourceFilename relativeToVRT="1">Z10X545Y721/33-2-471-116-22_3857.vrt</SourceFilename>
      <SourceBand>1</SourceBand>
      <SourceProperties RasterXSize="12875" RasterYSize="9933" DataType="Byte" BlockXSize="512" BlockYSize="128" />
      <SrcRect xOff="0" yOff="0" xSize="12875" ySize="9933" />
      <DstRect xOff="88439.0695564728" yOff="28038.7731610313" xSize="12875" ySize="9933" />
      <NODATA>0</NODATA>
    </ComplexSource>
    <ComplexSource>
      <SourceFilename relativeToVRT="1">Z10X545Y721/33-2-471-117-00_3857.vrt</SourceFilename>
      <SourceBand>1</SourceBand>
      <SourceProperties RasterXSize="12890" RasterYSize="9950" DataType="Byte" BlockXSize="512" BlockYSize="128" />
      <SrcRect xOff="0" yOff="0" xSize="12890" ySize="9950" />
      <DstRect xOff="62665.5970251085" yOff="10542.3532868214" xSize="12890" ySize="9950" />
      <NODATA>0</NODATA>
    </ComplexSource>
    <ComplexSource>
      <SourceFilename relativeToVRT="1">Z10X545Y721/33-2-470-116-21_3857.vrt</SourceFilename>
      <SourceBand>1</SourceBand>
      <SourceProperties RasterXSize="12885" RasterYSize="9948" DataType="Byte" BlockXSize="512" BlockYSize="128" />
      <SrcRect xOff="0" yOff="0" xSize="12885" ySize="9948" />
      <DstRect xOff="39172.2989589628" yOff="39781.0411403887" xSize="12885" ySize="9948" />
      <NODATA>0</NODATA>
    </ComplexSource>
    <ComplexSource>
      <SourceFilename relativeToVRT="1">Z10X545Y721/33-2-470-117-30_3857.vrt</SourceFilename>
      <SourceBand>1</SourceBand>
      <SourceProperties RasterXSize="12893" RasterYSize="9954" DataType="Byte" BlockXSize="512" BlockYSize="128" />
      <SrcRect xOff="0" yOff="0" xSize="12893" ySize="9954" />
      <DstRect xOff="50226.0764647424" yOff="11146.7458602376" xSize="12893" ySize="9954" />
      <NODATA>0</NODATA>
    </ComplexSource>
    <ComplexSource>
      <SourceFilename relativeToVRT="1">Z10X545Y721/33-2-470-114-33_3857.vrt</SourceFilename>
      <SourceBand>1</SourceBand>
      <SourceProperties RasterXSize="12855" RasterYSize="9924" DataType="Byte" BlockXSize="512" BlockYSize="128" />
      <SrcRect xOff="0" yOff="0" xSize="12855" ySize="9924" />
      <DstRect xOff="54337.3811654709" yOff="95146.4282530062" xSize="12855" ySize="9924" />
      <NODATA>0</NODATA>
    </ComplexSource>
    <ComplexSource>
      <SourceFilename relativeToVRT="1">Z10X545Y721/33-2-470-117-00_3857.vrt</SourceFilename>
      <SourceBand>1</SourceBand>
      <SourceProperties RasterXSize="12904" RasterYSize="9969" DataType="Byte" BlockXSize="512" BlockYSize="128" />
      <SrcRect xOff="0" yOff="0" xSize="12904" ySize="9969" />
      <DstRect xOff="12911.1532649454" yOff="12991.1240418032" xSize="12904" ySize="9969" />
      <NODATA>0</NODATA>
    </ComplexSource>
    <ComplexSource>
      <SourceFilename relativeToVRT="1">Z10X545Y721/33-2-469-116-30_3857.vrt</SourceFilename>
      <SourceBand>1</SourceBand>
      <SourceProperties RasterXSize="12889" RasterYSize="9960" DataType="Byte" BlockXSize="512" BlockYSize="128" />
      <SrcRect xOff="0" yOff="0" xSize="12889" ySize="9960" />
      <DstRect xOff="2366.87375818752" yOff="50971.2786308005" xSize="12889" ySize="9960" />
      <NODATA>0</NODATA>
    </ComplexSource>
    <ComplexSource>
      <SourceFilename relativeToVRT="1">Z10X545Y721/33-2-471-116-12_3857.vrt</SourceFilename>
      <SourceBand>1</SourceBand>
      <SourceProperties RasterXSize="12878" RasterYSize="9938" DataType="Byte" BlockXSize="512" BlockYSize="128" />
      <SrcRect xOff="0" yOff="0" xSize="12878" ySize="9938" />
      <DstRect xOff="76006.141450231" yOff="28631.8849123195" xSize="12878" ySize="9938" />
      <NODATA>0</NODATA>
    </ComplexSource>
    <ComplexSource>
      <SourceFilename relativeToVRT="1">Z10X545Y721/33-2-470-115-21_3857.vrt</SourceFilename>
      <SourceBand>1</SourceBand>
      <SourceProperties RasterXSize="12867" RasterYSize="9936" DataType="Byte" BlockXSize="512" BlockYSize="128" />
      <SrcRect xOff="0" yOff="0" xSize="12867" ySize="9936" />
      <DstRect xOff="41014.3799487716" yOff="77106.608029969" xSize="12867" ySize="9936" />
      <NODATA>0</NODATA>
    </ComplexSource>
    <ComplexSource>
      <SourceFilename relativeToVRT="1">Z10X545Y721/33-2-470-114-01_3857.vrt</SourceFilename>
      <SourceBand>1</SourceBand>
      <SourceProperties RasterXSize="12858" RasterYSize="9930" DataType="Byte" BlockXSize="512" BlockYSize="128" />
      <SrcRect xOff="0" yOff="0" xSize="12858" ySize="9930" />
      <DstRect xOff="18060.2932075644" yOff="115610.588408776" xSize="12858" ySize="9930" />
      <NODATA>0</NODATA>
    </ComplexSource>
    <ComplexSource>
      <SourceFilename relativeToVRT="1">Z10X545Y721/33-2-470-115-02_3857.vrt</SourceFilename>
      <SourceBand>1</SourceBand>
      <SourceProperties RasterXSize="12878" RasterYSize="9948" DataType="Byte" BlockXSize="512" BlockYSize="128" />
      <SrcRect xOff="0" yOff="0" xSize="12878" ySize="9948" />
      <DstRect xOff="15724.9614166636" yOff="69008.8983545676" xSize="12878" ySize="9948" />
      <NODATA>0</NODATA>
    </ComplexSource>
    <ComplexSource>
      <SourceFilename relativeToVRT="1">Z10X545Y721/33-2-471-117-21_3857.vrt</SourceFilename>
      <SourceBand>1</SourceBand>
      <SourceProperties RasterXSize="12889" RasterYSize="9942" DataType="Byte" BlockXSize="512" BlockYSize="128" />
      <SrcRect xOff="0" yOff="0" xSize="12889" ySize="9942" />
      <DstRect xOff="87099.6097305426" yOff="0" xSize="12889" ySize="9942" />
      <NODATA>0</NODATA>
    </ComplexSource>
    <ComplexSource>
      <SourceFilename relativeToVRT="1">Z10X545Y721/33-2-470-116-13_3857.vrt</SourceFilename>
      <SourceBand>1</SourceBand>
      <SourceProperties RasterXSize="12897" RasterYSize="9960" DataType="Byte" BlockXSize="512" BlockYSize="128" />
      <SrcRect xOff="0" yOff="0" xSize="12897" ySize="9960" />
      <DstRect xOff="25814.7949791877" yOff="21715.1569786295" xSize="12897" ySize="9960" />
      <NODATA>0</NODATA>
    </ComplexSource>
    <ComplexSource>
      <SourceFilename relativeToVRT="1">Z10X545Y721/33-2-470-116-33_3857.vrt</SourceFilename>
      <SourceBand>1</SourceBand>
      <SourceProperties RasterXSize="12889" RasterYSize="9951" DataType="Byte" BlockXSize="512" BlockYSize="128" />
      <SrcRect xOff="0" yOff="0" xSize="12889" ySize="9951" />
      <DstRect xOff="50684.2402214352" yOff="20491.6750681363" xSize="12889" ySize="9951" />
      <NODATA>0</NODATA>
    </ComplexSource>
    <ComplexSource>
      <SourceFilename relativeToVRT="1">Z10X545Y721/33-2-470-115-01_3857.vrt</SourceFilename>
      <SourceBand>1</SourceBand>
      <SourceProperties RasterXSize="12874" RasterYSize="9945" DataType="Byte" BlockXSize="512" BlockYSize="128" />
      <SrcRect xOff="0" yOff="0" xSize="12874" ySize="9945" />
      <DstRect xOff="16192.7176235104" yOff="78335.0292111784" xSize="12874" ySize="9945" />
      <NODATA>0</NODATA>
    </ComplexSource>
    <ComplexSource>
      <SourceFilename relativeToVRT="1">Z10X545Y721/33-2-471-116-13_3857.vrt</SourceFilename>
      <SourceBand>1</SourceBand>
      <SourceProperties RasterXSize="12882" RasterYSize="9942" DataType="Byte" BlockXSize="512" BlockYSize="128" />
      <SrcRect xOff="0" yOff="0" xSize="12882" ySize="9942" />
      <DstRect xOff="75556.0950408923" yOff="19288.9803943634" xSize="12882" ySize="9942" />
      <NODATA>0</NODATA>
    </ComplexSource>
    <ComplexSource>
      <SourceFilename relativeToVRT="1">Z10X545Y721/33-2-470-117-01_3857.vrt</SourceFilename>
      <SourceBand>1</SourceBand>
      <SourceProperties RasterXSize="12908" RasterYSize="9972" DataType="Byte" BlockXSize="512" BlockYSize="128" />
      <SrcRect xOff="0" yOff="0" xSize="12908" ySize="9972" />
      <DstRect xOff="12440.9700739877" yOff="3644.64348518103" xSize="12908" ySize="9972" />
      <NODATA>0</NODATA>
    </ComplexSource>
    <ComplexSource>
      <SourceFilename relativeToVRT="1">Z10X545Y721/33-2-471-115-03_3857.vrt</SourceFilename>
      <SourceBand>1</SourceBand>
      <SourceProperties RasterXSize="12870" RasterYSize="9933" DataType="Byte" BlockXSize="512" BlockYSize="128" />
      <SrcRect xOff="0" yOff="0" xSize="12870" ySize="9933" />
      <DstRect xOff="64933.6004180927" yOff="57240.1203646585" xSize="12870" ySize="9933" />
      <NODATA>0</NODATA>
    </ComplexSource>
    <ComplexSource>
      <SourceFilename relativeToVRT="1">Z10X545Y721/33-2-470-116-23_3857.vrt</SourceFilename>
      <SourceBand>1</SourceBand>
      <SourceProperties RasterXSize="12893" RasterYSize="9956" DataType="Byte" BlockXSize="512" BlockYSize="128" />
      <SrcRect xOff="0" yOff="0" xSize="12893" ySize="9956" />
      <DstRect xOff="38249.2138593271" yOff="21100.8180321343" xSize="12893" ySize="9956" />
      <NODATA>0</NODATA>
    </ComplexSource>
    <ComplexSource>
      <SourceFilename relativeToVRT="1">Z10X545Y721/33-2-471-115-11_3857.vrt</SourceFilename>
      <SourceBand>1</SourceBand>
      <SourceProperties RasterXSize="12858" RasterYSize="9921" DataType="Byte" BlockXSize="512" BlockYSize="128" />
      <SrcRect xOff="0" yOff="0" xSize="12858" ySize="9921" />
      <DstRect xOff="78251.3887246167" yOff="75302.7769229375" xSize="12858" ySize="9921" />
      <NODATA>0</NODATA>
    </ComplexSource>
    <ComplexSource>
      <SourceFilename relativeToVRT="1">Z10X545Y721/33-2-471-114-02_3857.vrt</SourceFilename>
      <SourceBand>1</SourceBand>
      <SourceProperties RasterXSize="12848" RasterYSize="9915" DataType="Byte" BlockXSize="512" BlockYSize="128" />
      <SrcRect xOff="0" yOff="0" xSize="12848" ySize="9915" />
      <DstRect xOff="67193.2388618262" yOff="103865.270332601" xSize="12848" ySize="9915" />
      <NODATA>0</NODATA>
    </ComplexSource>
    <ComplexSource>
      <SourceFilename relativeToVRT="1">Z10X545Y721/33-2-469-116-33_3857.vrt</SourceFilename>
      <SourceBand>1</SourceBand>
      <SourceProperties RasterXSize="12904" RasterYSize="9969" DataType="Byte" BlockXSize="512" BlockYSize="128" />
      <SrcRect xOff="0" yOff="0" xSize="12904" ySize="9969" />
      <DstRect xOff="947.800006140955" yOff="22959.4194705151" xSize="12904" ySize="9969" />
      <NODATA>0</NODATA>
    </ComplexSource>
    <ComplexSource>
      <SourceFilename relativeToVRT="1">Z10X545Y721/33-2-470-116-31_3857.vrt</SourceFilename>
      <SourceBand>1</SourceBand>
      <SourceProperties RasterXSize="12881" RasterYSize="9945" DataType="Byte" BlockXSize="512" BlockYSize="128" />
      <SrcRect xOff="0" yOff="0" xSize="12881" ySize="9945" />
      <DstRect xOff="51599.551544019" yOff="39172.7972608097" xSize="12881" ySize="9945" />
      <NODATA>0</NODATA>
    </ComplexSource>
    <ComplexSource>
      <SourceFilename relativeToVRT="1">Z10X545Y721/33-2-470-116-11_3857.vrt</SourceFilename>
      <SourceBand>1</SourceBand>
      <SourceProperties RasterXSize="12888" RasterYSize="9954" DataType="Byte" BlockXSize="512" BlockYSize="128" />
      <SrcRect xOff="0" yOff="0" xSize="12888" ySize="9954" />
      <DstRect xOff="26745.6525998181" yOff="40394.4733761624" xSize="12888" ySize="9954" />
      <NODATA>0</NODATA>
    </ComplexSource>
    <ComplexSource>
      <SourceFilename relativeToVRT="1">Z10X545Y721/33-2-470-117-31_3857.vrt</SourceFilename>
      <SourceBand>1</SourceBand>
      <SourceProperties RasterXSize="12898" RasterYSize="9957" DataType="Byte" BlockXSize="512" BlockYSize="128" />
      <SrcRect xOff="0" yOff="0" xSize="12898" ySize="9957" />
      <DstRect xOff="49767.5735098599" yOff="1798.90171512589" xSize="12898" ySize="9957" />
      <NODATA>0</NODATA>
    </ComplexSource>
    <ComplexSource>
      <SourceFilename relativeToVRT="1">Z10X545Y721/33-2-470-115-23_3857.vrt</SourceFilename>
      <SourceBand>1</SourceBand>
      <SourceProperties RasterXSize="12877" RasterYSize="9942" DataType="Byte" BlockXSize="512" BlockYSize="128" />
      <SrcRect xOff="0" yOff="0" xSize="12877" ySize="9942" />
      <DstRect xOff="40094.0200493531" yOff="58449.6321013756" xSize="12877" ySize="9942" />
      <NODATA>0</NODATA>
    </ComplexSource>
    <ComplexSource>
      <SourceFilename relativeToVRT="1">Z10X545Y721/33-2-471-116-01_3857.vrt</SourceFilename>
      <SourceBand>1</SourceBand>
      <SourceProperties RasterXSize="12878" RasterYSize="9939" DataType="Byte" BlockXSize="512" BlockYSize="128" />
      <SrcRect xOff="0" yOff="0" xSize="12878" ySize="9939" />
      <DstRect xOff="64027.4052781388" yOff="38569.7425635383" xSize="12878" ySize="9939" />
      <NODATA>0</NODATA>
    </ComplexSource>
    <ComplexSource>
      <SourceFilename relativeToVRT="1">Z10X545Y721/33-2-470-115-22_3857.vrt</SourceFilename>
      <SourceBand>1</SourceBand>
      <SourceProperties RasterXSize="12871" RasterYSize="9939" DataType="Byte" BlockXSize="512" BlockYSize="128" />
      <SrcRect xOff="0" yOff="0" xSize="12871" ySize="9939" />
      <DstRect xOff="40554.3699720968" yOff="67779.5708764121" xSize="12871" ySize="9939" />
      <NODATA>0</NODATA>
    </ComplexSource>
    <ComplexSource>
      <SourceFilename relativeToVRT="1">Z10X545Y721/33-2-470-116-10_3857.vrt</SourceFilename>
      <SourceBand>1</SourceBand>
      <SourceProperties RasterXSize="12884" RasterYSize="9951" DataType="Byte" BlockXSize="512" BlockYSize="128" />
      <SrcRect xOff="0" yOff="0" xSize="12884" ySize="9951" />
      <DstRect xOff="27210.5654465938" yOff="49729.7691520974" xSize="12884" ySize="9951" />
      <NODATA>0</NODATA>
    </ComplexSource>
    <ComplexSource>
      <SourceFilename relativeToVRT="1">Z10X545Y721/33-2-471-116-00_3857.vrt</SourceFilename>
      <SourceBand>1</SourceBand>
      <SourceProperties RasterXSize="12874" RasterYSize="9936" DataType="Byte" BlockXSize="512" BlockYSize="128" />
      <SrcRect xOff="0" yOff="0" xSize="12874" ySize="9936" />
      <DstRect xOff="64480.6703197146" yOff="47906.3848738819" xSize="12874" ySize="9936" />
      <NODATA>0</NODATA>
    </ComplexSource>
    <ComplexSource>
      <SourceFilename relativeToVRT="1">Z10X545Y721/33-2-470-115-20_3857.vrt</SourceFilename>
      <SourceBand>1</SourceBand>
      <SourceProperties RasterXSize="12863" RasterYSize="9933" DataType="Byte" BlockXSize="512" BlockYSize="128" />
      <SrcRect xOff="0" yOff="0" xSize="12863" ySize="9933" />
      <DstRect xOff="41474.0503304331" yOff="86430.7456959002" xSize="12863" ySize="9933" />
      <NODATA>0</NODATA>
    </ComplexSource>
    <ComplexSource>
      <SourceFilename relativeToVRT="1">Z10X545Y721/33-2-470-114-31_3857.vrt</SourceFilename>
