<VRTDataset rasterXSize="163619" rasterYSize="111284">
  <SRS dataAxisToSRSAxisMapping="1,2">PROJCS["WGS 84 / Pseudo-Mercator",GEOGCS["WGS 84",DATUM["WGS_1984",SPHEROID["WGS 84",6378137,298.257223563,AUTHORITY["EPSG","7030"]],AUTHORITY["EPSG","6326"]],PRIMEM["Greenwich",0,AUTHORITY["EPSG","8901"]],UNIT["degree",0.0174532925199433,AUTHORITY["EPSG","9122"]],AUTHORITY["EPSG","4326"]],PROJECTION["Mercator_1SP"],PARAMETER["central_meridian",0],PARAMETER["scale_factor",1],PARAMETER["false_easting",0],PARAMETER["false_northing",0],UNIT["metre",1,AUTHORITY["EPSG","9001"]],AXIS["Easting",EAST],AXIS["Northing",NORTH],EXTENSION["PROJ4","+proj=merc +a=6378137 +b=6378137 +lat_ts=0 +lon_0=0 +x_0=0 +y_0=0 +k=1 +units=m +nadgrids=@null +wktext +no_defs"],AUTHORITY["EPSG","3857"]]</SRS>
  <GeoTransform>  1.2521493984302075e+06,  2.5000000000000000e-01,  0.0000000000000000e+00,  8.2197566609227052e+06,  0.0000000000000000e+00, -2.5000000000000000e-01</GeoTransform>
  <VRTRasterBand dataType="Byte" band="1">
    <NoDataValue>0</NoDataValue>
    <ColorInterp>Red</ColorInterp>
    <ComplexSource>
      <SourceFilename relativeToVRT="1">Z10X544Y721/33-2-466-117-32_3857.vrt</SourceFilename>
      <SourceBand>1</SourceBand>
      <SourceProperties RasterXSize="12954" RasterYSize="10037" DataType="Byte" BlockXSize="512" BlockYSize="128" />
      <SrcRect xOff="0" yOff="0" xSize="12954" ySize="10037" />
      <DstRect xOff="12436.3472721558" yOff="7287.79151650891" xSize="12954" ySize="10037" />
      <NODATA>0</NODATA>
    </ComplexSource>
    <ComplexSource>
      <SourceFilename relativeToVRT="1">Z10X544Y721/33-2-467-117-20_3857.vrt</SourceFilename>
      <SourceBand>1</SourceBand>
      <SourceProperties RasterXSize="12935" RasterYSize="10016" DataType="Byte" BlockXSize="512" BlockYSize="128" />
      <SrcRect xOff="0" yOff="0" xSize="12935" ySize="10016" />
      <DstRect xOff="50768.0096147703" yOff="23924.1157987528" xSize="12935" ySize="10016" />
      <NODATA>0</NODATA>
    </ComplexSource>
    <ComplexSource>
      <SourceFilename relativeToVRT="1">Z10X544Y721/33-2-467-117-32_3857.vrt</SourceFilename>
      <SourceBand>1</SourceBand>
      <SourceProperties RasterXSize="12942" RasterYSize="10017" DataType="Byte" BlockXSize="512" BlockYSize="128" />
      <SrcRect xOff="0" yOff="0" xSize="12942" ySize="10017" />
      <DstRect xOff="62188.5427935617" yOff="4564.90328126773" xSize="12942" ySize="10017" />
      <NODATA>0</NODATA>
    </ComplexSource>
    <ComplexSource>
      <SourceFilename relativeToVRT="1">Z10X544Y721/33-2-467-117-31_3857.vrt</SourceFilename>
      <SourceBand>1</SourceBand>
      <SourceProperties RasterXSize="12938" RasterYSize="10014" DataType="Byte" BlockXSize="512" BlockYSize="128" />
      <SrcRect xOff="0" yOff="0" xSize="12938" ySize="10014" />
      <DstRect xOff="62694.1054319888" yOff="13909.9981133044" xSize="12938" ySize="10014" />
      <NODATA>0</NODATA>
    </ComplexSource>
    <ComplexSource>
      <SourceFilename relativeToVRT="1">Z10X544Y721/33-2-467-115-02_3857.vrt</SourceFilename>
      <SourceBand>1</SourceBand>
      <SourceProperties RasterXSize="12918" RasterYSize="10005" DataType="Byte" BlockXSize="512" BlockYSize="128" />
      <SrcRect xOff="0" yOff="0" xSize="12918" ySize="10005" />
      <DstRect xOff="29000.5135706943" yOff="81266.6635957249" xSize="12918" ySize="10005" />
      <NODATA>0</NODATA>
    </ComplexSource>
    <ComplexSource>
      <SourceFilename relativeToVRT="1">Z10X544Y721/33-2-467-116-03_3857.vrt</SourceFilename>
      <SourceBand>1</SourceBand>
      <SourceProperties RasterXSize="12938" RasterYSize="10022" DataType="Byte" BlockXSize="512" BlockYSize="128" />
      <SrcRect xOff="0" yOff="0" xSize="12938" ySize="10022" />
      <DstRect xOff="26423.9158565868" yOff="34621.3260874413" xSize="12938" ySize="10022" />
      <NODATA>0</NODATA>
    </ComplexSource>
    <ComplexSource>
      <SourceFilename relativeToVRT="1">Z10X544Y721/33-2-466-116-20_3857.vrt</SourceFilename>
      <SourceBand>1</SourceBand>
      <SourceProperties RasterXSize="12931" RasterYSize="10020" DataType="Byte" BlockXSize="512" BlockYSize="128" />
      <SrcRect xOff="0" yOff="0" xSize="12931" ySize="10020" />
      <DstRect xOff="3144.18911719788" yOff="63993.344580356" xSize="12931" ySize="10020" />
      <NODATA>0</NODATA>
    </ComplexSource>
    <ComplexSource>
      <SourceFilename relativeToVRT="1">Z10X544Y721/33-2-466-115-21_3857.vrt</SourceFilename>
      <SourceBand>1</SourceBand>
      <SourceProperties RasterXSize="12919" RasterYSize="10010" DataType="Byte" BlockXSize="512" BlockYSize="128" />
      <SrcRect xOff="0" yOff="0" xSize="12919" ySize="10010" />
      <DstRect xOff="4711.06496559363" yOff="91960.1151895151" xSize="12919" ySize="10010" />
      <NODATA>0</NODATA>
    </ComplexSource>
    <ComplexSource>
      <SourceFilename relativeToVRT="1">Z10X544Y721/33-2-467-117-11_3857.vrt</SourceFilename>
      <SourceBand>1</SourceBand>
      <SourceProperties RasterXSize="12943" RasterYSize="10023" DataType="Byte" BlockXSize="512" BlockYSize="128" />
      <SrcRect xOff="0" yOff="0" xSize="12943" ySize="10023" />
      <DstRect xOff="37824.4338360522" yOff="15260.0523852184" xSize="12943" ySize="10023" />
      <NODATA>0</NODATA>
    </ComplexSource>
    <ComplexSource>
      <SourceFilename relativeToVRT="1">Z10X544Y721/33-2-466-117-20_3857.vrt</SourceFilename>
      <SourceBand>1</SourceBand>
      <SourceProperties RasterXSize="12949" RasterYSize="10034" DataType="Byte" BlockXSize="512" BlockYSize="128" />
      <SrcRect xOff="0" yOff="0" xSize="12949" ySize="10034" />
      <DstRect xOff="1049.61305562966" yOff="26663.7359038033" xSize="12949" ySize="10034" />
      <NODATA>0</NODATA>
    </ComplexSource>
    <ComplexSource>
      <SourceFilename relativeToVRT="1">Z10X544Y721/33-2-468-117-00_3857.vrt</SourceFilename>
      <SourceBand>1</SourceBand>
      <SourceProperties RasterXSize="12930" RasterYSize="10005" DataType="Byte" BlockXSize="512" BlockYSize="128" />
      <SrcRect xOff="0" yOff="0" xSize="12930" ySize="10005" />
      <DstRect xOff="75631.242749352" yOff="22585.4378611743" xSize="12930" ySize="10005" />
      <NODATA>0</NODATA>
    </ComplexSource>
    <ComplexSource>
      <SourceFilename relativeToVRT="1">Z10X544Y721/33-2-468-116-02_3857.vrt</SourceFilename>
      <SourceBand>1</SourceBand>
      <SourceProperties RasterXSize="12922" RasterYSize="9999" DataType="Byte" BlockXSize="512" BlockYSize="128" />
      <SrcRect xOff="0" yOff="0" xSize="12922" ySize="9999" />
      <DstRect xOff="76632.7349853301" yOff="41262.0638320707" xSize="12922" ySize="9999" />
      <NODATA>0</NODATA>
    </ComplexSource>
    <ComplexSource>
      <SourceFilename relativeToVRT="1">Z10X544Y721/33-2-466-117-31_3857.vrt</SourceFilename>
      <SourceBand>1</SourceBand>
      <SourceProperties RasterXSize="12950" RasterYSize="10032" DataType="Byte" BlockXSize="512" BlockYSize="128" />
      <SrcRect xOff="0" yOff="0" xSize="12950" ySize="10032" />
      <DstRect xOff="12957.4616994485" yOff="16630.8754110932" xSize="12950" ySize="10032" />
      <NODATA>0</NODATA>
    </ComplexSource>
    <ComplexSource>
      <SourceFilename relativeToVRT="1">Z10X544Y721/33-2-466-117-30_3857.vrt</SourceFilename>
      <SourceBand>1</SourceBand>
      <SourceProperties RasterXSize="12946" RasterYSize="10029" DataType="Byte" BlockXSize="512" BlockYSize="128" />
      <SrcRect xOff="0" yOff="0" xSize="12946" ySize="10029" />
      <DstRect xOff="13478.1908068508" yOff="25971.0501618832" xSize="12946" ySize="10029" />
      <NODATA>0</NODATA>
    </ComplexSource>
    <ComplexSource>
      <SourceFilename relativeToVRT="1">Z10X544Y721/33-2-468-117-12_3857.vrt</SourceFilename>
      <SourceBand>1</SourceBand>
      <SourceProperties RasterXSize="12935" RasterYSize="10008" DataType="Byte" BlockXSize="512" BlockYSize="128" />
      <SrcRect xOff="0" yOff="0" xSize="12935" ySize="10008" />
      <DstRect xOff="87068.6532773366" yOff="3234.64251308516" xSize="12935" ySize="10008" />
      <NODATA>0</NODATA>
    </ComplexSource>
    <ComplexSource>
      <SourceFilename relativeToVRT="1">Z10X544Y721/33-2-467-116-11_3857.vrt</SourceFilename>
      <SourceBand>1</SourceBand>
      <SourceProperties RasterXSize="12927" RasterYSize="10010" DataType="Byte" BlockXSize="512" BlockYSize="128" />
      <SrcRect xOff="0" yOff="0" xSize="12927" ySize="10010" />
      <DstRect xOff="39874.0013646269" yOff="52607.3598035425" xSize="12927" ySize="10010" />
      <NODATA>0</NODATA>
    </ComplexSource>
    <ComplexSource>
      <SourceFilename relativeToVRT="1">Z10X544Y721/33-2-466-116-32_3857.vrt</SourceFilename>
      <SourceBand>1</SourceBand>
      <SourceProperties RasterXSize="12938" RasterYSize="10023" DataType="Byte" BlockXSize="512" BlockYSize="128" />
      <SrcRect xOff="0" yOff="0" xSize="12938" ySize="10023" />
      <DstRect xOff="14518.4946553465" yOff="44642.6807853356" xSize="12938" ySize="10023" />
      <NODATA>0</NODATA>
    </ComplexSource>
    <ComplexSource>
      <SourceFilename relativeToVRT="1">Z10X544Y721/33-2-467-115-13_3857.vrt</SourceFilename>
      <SourceBand>1</SourceBand>
      <SourceProperties RasterXSize="12918" RasterYSize="10002" DataType="Byte" BlockXSize="512" BlockYSize="128" />
      <SrcRect xOff="0" yOff="0" xSize="12918" ySize="10002" />
      <DstRect xOff="40896.5152955716" yOff="71263.5951100141" xSize="12918" ySize="10002" />
      <NODATA>0</NODATA>
    </ComplexSource>
    <ComplexSource>
      <SourceFilename relativeToVRT="1">Z10X544Y721/33-2-468-117-02_3857.vrt</SourceFilename>
      <SourceBand>1</SourceBand>
      <SourceProperties RasterXSize="12938" RasterYSize="10013" DataType="Byte" BlockXSize="512" BlockYSize="128" />
      <SrcRect xOff="0" yOff="0" xSize="12938" ySize="10013" />
      <DstRect xOff="74628.267878334" yOff="3897.17352315411" xSize="12938" ySize="10013" />
      <NODATA>0</NODATA>
    </ComplexSource>
    <ComplexSource>
      <SourceFilename relativeToVRT="1">Z10X544Y721/33-2-467-117-12_3857.vrt</SourceFilename>
      <SourceBand>1</SourceBand>
      <SourceProperties RasterXSize="12949" RasterYSize="10026" DataType="Byte" BlockXSize="512" BlockYSize="128" />
      <SrcRect xOff="0" yOff="0" xSize="12949" ySize="10026" />
      <DstRect xOff="37311.0939052142" yOff="5915.95540005341" xSize="12949" ySize="10026" />
      <NODATA>0</NODATA>
    </ComplexSource>
    <ComplexSource>
      <SourceFilename relativeToVRT="1">Z10X544Y721/33-2-466-117-22_3857.vrt</SourceFilename>
      <SourceBand>1</SourceBand>
      <SourceProperties RasterXSize="12957" RasterYSize="10041" DataType="Byte" BlockXSize="512" BlockYSize="128" />
      <SrcRect xOff="0" yOff="0" xSize="12957" ySize="10041" />
      <DstRect xOff="0" yOff="7981.5012456812" xSize="12957" ySize="10041" />
      <NODATA>0</NODATA>
    </ComplexSource>
    <ComplexSource>
      <SourceFilename relativeToVRT="1">Z10X544Y721/33-2-467-116-10_3857.vrt</SourceFilename>
      <SourceBand>1</SourceBand>
      <SourceProperties RasterXSize="12922" RasterYSize="10007" DataType="Byte" BlockXSize="512" BlockYSize="128" />
      <SrcRect xOff="0" yOff="0" xSize="12922" ySize="10007" />
      <DstRect xOff="40385.4471571585" yOff="61936.9272126555" xSize="12922" ySize="10007" />
      <NODATA>0</NODATA>
    </ComplexSource>
    <ComplexSource>
      <SourceFilename relativeToVRT="1">Z10X544Y721/33-2-467-117-01_3857.vrt</SourceFilename>
      <SourceBand>1</SourceBand>
      <SourceProperties RasterXSize="12946" RasterYSize="10028" DataType="Byte" BlockXSize="512" BlockYSize="128" />
      <SrcRect xOff="0" yOff="0" xSize="12946" ySize="10028" />
      <DstRect xOff="25390.6077977717" yOff="15942.8682671748" xSize="12946" ySize="10028" />
      <NODATA>0</NODATA>
    </ComplexSource>
    <ComplexSource>
      <SourceFilename relativeToVRT="1">Z10X544Y721/33-2-467-115-01_3857.vrt</SourceFilename>
      <SourceBand>1</SourceBand>
      <SourceProperties RasterXSize="12912" RasterYSize="10001" DataType="Byte" BlockXSize="512" BlockYSize="128" />
      <SrcRect xOff="0" yOff="0" xSize="12912" ySize="10001" />
      <DstRect xOff="29514.6924158605" yOff="90587.0383698195" xSize="12912" ySize="10001" />
      <NODATA>0</NODATA>
    </ComplexSource>
    <ComplexSource>
      <SourceFilename relativeToVRT="1">Z10X544Y721/33-2-468-117-21_3857.vrt</SourceFilename>
      <SourceBand>1</SourceBand>
      <SourceProperties RasterXSize="12927" RasterYSize="9999" DataType="Byte" BlockXSize="512" BlockYSize="128" />
      <SrcRect xOff="0" yOff="0" xSize="12927" ySize="9999" />
      <DstRect xOff="100003.585452343" yOff="11923.8741507828" xSize="12927" ySize="9999" />
      <NODATA>0</NODATA>
    </ComplexSource>
    <ComplexSource>
      <SourceFilename relativeToVRT="1">Z10X544Y721/33-2-467-116-32_3857.vrt</SourceFilename>
      <SourceBand>1</SourceBand>
      <SourceProperties RasterXSize="12924" RasterYSize="10004" DataType="Byte" BlockXSize="512" BlockYSize="128" />
      <SrcRect xOff="0" yOff="0" xSize="12924" ySize="10004" />
      <DstRect xOff="64208.5514944876" yOff="41927.8238331117" xSize="12924" ySize="10004" />
      <NODATA>0</NODATA>
    </ComplexSource>
    <ComplexSource>
      <SourceFilename relativeToVRT="1">Z10X544Y721/33-2-467-116-31_3857.vrt</SourceFilename>
      <SourceBand>1</SourceBand>
      <SourceProperties RasterXSize="12920" RasterYSize="10001" DataType="Byte" BlockXSize="512" BlockYSize="128" />
      <SrcRect xOff="0" yOff="0" xSize="12920" ySize="10001" />
      <DstRect xOff="64712.6208518846" yOff="51261.2866127789" xSize="12920" ySize="10001" />
      <NODATA>0</NODATA>
    </ComplexSource>
    <ComplexSource>
      <SourceFilename relativeToVRT="1">Z10X544Y721/33-2-468-117-32_3857.vrt</SourceFilename>
      <SourceBand>1</SourceBand>
      <SourceProperties RasterXSize="12928" RasterYSize="9999" DataType="Byte" BlockXSize="512" BlockYSize="128" />
      <SrcRect xOff="0" yOff="0" xSize="12928" ySize="9999" />
      <DstRect xOff="111951.384669367" yOff="1925.18033706397" xSize="12928" ySize="9999" />
      <NODATA>0</NODATA>
    </ComplexSource>
    <ComplexSource>
      <SourceFilename relativeToVRT="1">Z10X544Y721/33-2-467-117-02_3857.vrt</SourceFilename>
      <SourceBand>1</SourceBand>
      <SourceProperties RasterXSize="12950" RasterYSize="10032" DataType="Byte" BlockXSize="512" BlockYSize="128" />
      <SrcRect xOff="0" yOff="0" xSize="12950" ySize="10032" />
      <DstRect xOff="24873.3802666115" yOff="6599.27592246234" xSize="12950" ySize="10032" />
      <NODATA>0</NODATA>
    </ComplexSource>
    <ComplexSource>
      <SourceFilename relativeToVRT="1">Z10X544Y721/33-2-466-115-33_3857.vrt</SourceFilename>
      <SourceBand>1</SourceBand>
      <SourceProperties RasterXSize="12925" RasterYSize="10013" DataType="Byte" BlockXSize="512" BlockYSize="128" />
      <SrcRect xOff="0" yOff="0" xSize="12925" ySize="10013" />
      <DstRect xOff="16076.0704728533" yOff="72628.3615423888" xSize="12925" ySize="10013" />
      <NODATA>0</NODATA>
    </ComplexSource>
    <ComplexSource>
      <SourceFilename relativeToVRT="1">Z10X544Y721/33-2-467-116-02_3857.vrt</SourceFilename>
      <SourceBand>1</SourceBand>
      <SourceProperties RasterXSize="12934" RasterYSize="10017" DataType="Byte" BlockXSize="512" BlockYSize="128" />
      <SrcRect xOff="0" yOff="0" xSize="12934" ySize="10017" />
      <DstRect xOff="26939.997174805" yOff="43956.1958400048" xSize="12934" ySize="10017" />
      <NODATA>0</NODATA>
    </ComplexSource>
    <ComplexSource>
      <SourceFilename relativeToVRT="1">Z10X544Y721/33-2-466-115-20_3857.vrt</SourceFilename>
      <SourceBand>1</SourceBand>
      <SourceProperties RasterXSize="12915" RasterYSize="10007" DataType="Byte" BlockXSize="512" BlockYSize="128" />
      <SrcRect xOff="0" yOff="0" xSize="12915" ySize="10007" />
      <DstRect xOff="5232.58643116523" yOff="101276.586087491" xSize="12915" ySize="10007" />
      <NODATA>0</NODATA>
    </ComplexSource>
    <ComplexSource>
      <SourceFilename relativeToVRT="1">Z10X544Y721/33-2-466-116-21_3857.vrt</SourceFilename>
      <SourceBand>1</SourceBand>
      <SourceProperties RasterXSize="12937" RasterYSize="10023" DataType="Byte" BlockXSize="512" BlockYSize="128" />
      <SrcRect xOff="0" yOff="0" xSize="12937" ySize="10023" />
      <DstRect xOff="2621.12535696756" yOff="54665.2946554497" xSize="12937" ySize="10023" />
      <NODATA>0</NODATA>
    </ComplexSource>
    <ComplexSource>
      <SourceFilename relativeToVRT="1">Z10X544Y721/33-2-467-116-00_3857.vrt</SourceFilename>
      <SourceBand>1</SourceBand>
      <SourceProperties RasterXSize="12926" RasterYSize="10011" DataType="Byte" BlockXSize="512" BlockYSize="128" />
      <SrcRect xOff="0" yOff="0" xSize="12926" ySize="10011" />
      <DstRect xOff="27971.0163611509" yOff="62617.2277059816" xSize="12926" ySize="10011" />
      <NODATA>0</NODATA>
    </ComplexSource>
    <ComplexSource>
      <SourceFilename relativeToVRT="1">Z10X544Y721/33-2-469-117-22_3857.vrt</SourceFilename>
      <SourceBand>1</SourceBand>
      <SourceProperties RasterXSize="12919" RasterYSize="9984" DataType="Byte" BlockXSize="512" BlockYSize="128" />
      <SrcRect xOff="0" yOff="0" xSize="12919" ySize="9984" />
      <DstRect xOff="149280.306891096" yOff="0" xSize="12919" ySize="9984" />
      <NODATA>0</NODATA>
    </ComplexSource>
    <ComplexSource>
      <SourceFilename relativeToVRT="1">Z10X544Y721/33-2-467-117-10_3857.vrt</SourceFilename>
      <SourceBand>1</SourceBand>
      <SourceProperties RasterXSize="12939" RasterYSize="10020" DataType="Byte" BlockXSize="512" BlockYSize="128" />
      <SrcRect xOff="0" yOff="0" xSize="12939" ySize="10020" />
      <DstRect xOff="38337.3941550497" yOff="24601.2391789369" xSize="12939" ySize="10020" />
      <NODATA>0</NODATA>
    </ComplexSource>
    <ComplexSource>
      <SourceFilename relativeToVRT="1">Z10X544Y721/33-2-467-117-00_3857.vrt</SourceFilename>
      <SourceBand>1</SourceBand>
      <SourceProperties RasterXSize="12942" RasterYSize="10025" DataType="Byte" BlockXSize="512" BlockYSize="128" />
      <SrcRect xOff="0" yOff="0" xSize="12942" ySize="10025" />
      <DstRect xOff="25907.4528625775" yOff="25283.5509422868" xSize="12942" ySize="10025" />
      <NODATA>0</NODATA>
    </ComplexSource>
    <ComplexSource>
      <SourceFilename relativeToVRT="1">Z10X544Y721/33-2-467-115-12_3857.vrt</SourceFilename>
      <SourceBand>1</SourceBand>
      <SourceProperties RasterXSize="12914" RasterYSize="9999" DataType="Byte" BlockXSize="512" BlockYSize="128" />
      <SrcRect xOff="0" yOff="0" xSize="12914" ySize="9999" />
      <DstRect xOff="41407.2061697757" yOff="80587.3656249531" xSize="12914" ySize="9999" />
      <NODATA>0</NODATA>
    </ComplexSource>
    <ComplexSource>
      <SourceFilename relativeToVRT="1">Z10X544Y721/33-2-466-115-22_3857.vrt</SourceFilename>
      <SourceBand>1</SourceBand>
      <SourceProperties RasterXSize="12923" RasterYSize="10014" DataType="Byte" BlockXSize="512" BlockYSize="128" />
      <SrcRect xOff="0" yOff="0" xSize="12923" ySize="10014" />
      <DstRect xOff="4189.15852317307" yOff="82640.7527212501" xSize="12923" ySize="10014" />
      <NODATA>0</NODATA>
    </ComplexSource>
    <ComplexSource>
      <SourceFilename relativeToVRT="1">Z10X544Y721/33-2-468-116-13_3857.vrt</SourceFilename>
      <SourceBand>1</SourceBand>
      <SourceProperties RasterXSize="12923" RasterYSize="9998" DataType="Byte" BlockXSize="512" BlockYSize="128" />
      <SrcRect xOff="0" yOff="0" xSize="12923" ySize="9998" />
      <DstRect xOff="88560.8968810365" yOff="31264.1402111165" xSize="12923" ySize="9998" />
      <NODATA>0</NODATA>
    </ComplexSource>
    <ComplexSource>
      <SourceFilename relativeToVRT="1">Z10X544Y721/33-2-468-117-10_3857.vrt</SourceFilename>
      <SourceBand>1</SourceBand>
      <SourceProperties RasterXSize="12927" RasterYSize="10002" DataType="Byte" BlockXSize="512" BlockYSize="128" />
      <SrcRect xOff="0" yOff="0" xSize="12927" ySize="10002" />
      <DstRect xOff="88063.8502766397" yOff="21923.885122966" xSize="12927" ySize="10002" />
      <NODATA>0</NODATA>
    </ComplexSource>
    <ComplexSource>
      <SourceFilename relativeToVRT="1">Z10X544Y721/33-2-466-115-23_3857.vrt</SourceFilename>
      <SourceBand>1</SourceBand>
      <SourceProperties RasterXSize="12927" RasterYSize="10017" DataType="Byte" BlockXSize="512" BlockYSize="128" />
      <SrcRect xOff="0" yOff="0" xSize="12927" ySize="10017" />
      <DstRect xOff="3666.86670639459" yOff="73318.4965598956" xSize="12927" ySize="10017" />
      <NODATA>0</NODATA>
    </ComplexSource>
    <ComplexSource>
      <SourceFilename relativeToVRT="1">Z10X544Y721/33-2-468-117-11_3857.vrt</SourceFilename>
      <SourceBand>1</SourceBand>
      <SourceProperties RasterXSize="12931" RasterYSize="10005" DataType="Byte" BlockXSize="512" BlockYSize="128" />
      <SrcRect xOff="0" yOff="0" xSize="12931" ySize="10005" />
      <DstRect xOff="87566.4358690493" yOff="12580.71993801" xSize="12931" ySize="10005" />
      <NODATA>0</NODATA>
    </ComplexSource>
    <ComplexSource>
      <SourceFilename relativeToVRT="1">Z10X544Y721/33-2-466-116-31_3857.vrt</SourceFilename>
      <SourceBand>1</SourceBand>
      <SourceProperties RasterXSize="12933" RasterYSize="10019" DataType="Byte" BlockXSize="512" BlockYSize="128" />
      <SrcRect xOff="0" yOff="0" xSize="12933" ySize="10019" />
      <DstRect xOff="15038.0701917289" yOff="53974.140929129" xSize="12933" ySize="10019" />
      <NODATA>0</NODATA>
    </ComplexSource>
    <ComplexSource>
      <SourceFilename relativeToVRT="1">Z10X544Y721/33-2-467-117-21_3857.vrt</SourceFilename>
      <SourceBand>1</SourceBand>
      <SourceProperties RasterXSize="12941" RasterYSize="10019" DataType="Byte" BlockXSize="512" BlockYSize="128" />
      <SrcRect xOff="0" yOff="0" xSize="12941" ySize="10019" />
      <DstRect xOff="50258.9347395981" yOff="14582.4286935069" xSize="12941" ySize="10019" />
      <NODATA>0</NODATA>
    </ComplexSource>
    <ComplexSource>
      <SourceFilename relativeToVRT="1">Z10X544Y721/33-2-468-117-01_3857.vrt</SourceFilename>
      <SourceBand>1</SourceBand>
      <SourceProperties RasterXSize="12934" RasterYSize="10010" DataType="Byte" BlockXSize="512" BlockYSize="128" />
      <SrcRect xOff="0" yOff="0" xSize="12934" ySize="10010" />
      <DstRect xOff="75129.9408350866" yOff="13242.7615590058" xSize="12934" ySize="10010" />
      <NODATA>0</NODATA>
    </ComplexSource>
    <ComplexSource>
      <SourceFilename relativeToVRT="1">Z10X544Y721/33-2-467-117-30_3857.vrt</SourceFilename>
      <SourceBand>1</SourceBand>
      <SourceProperties RasterXSize="12934" RasterYSize="10011" DataType="Byte" BlockXSize="512" BlockYSize="128" />
      <SrcRect xOff="0" yOff="0" xSize="12934" ySize="10011" />
      <DstRect xOff="63199.2941705175" yOff="23252.1817218065" xSize="12934" ySize="10011" />
      <NODATA>0</NODATA>
    </ComplexSource>
    <ComplexSource>
      <SourceFilename relativeToVRT="1">Z10X544Y721/33-2-466-116-23_3857.vrt</SourceFilename>
      <SourceBand>1</SourceBand>
      <SourceProperties RasterXSize="12945" RasterYSize="10031" DataType="Byte" BlockXSize="512" BlockYSize="128" />
      <SrcRect xOff="0" yOff="0" xSize="12945" ySize="10031" />
      <DstRect xOff="1573.83772618603" yOff="36000.4924498498" xSize="12945" ySize="10031" />
      <NODATA>0</NODATA>
    </ComplexSource>
    <ComplexSource>
      <SourceFilename relativeToVRT="1">Z10X544Y721/33-2-467-116-12_3857.vrt</SourceFilename>
      <SourceBand>1</SourceBand>
      <SourceProperties RasterXSize="12931" RasterYSize="10013" DataType="Byte" BlockXSize="512" BlockYSize="128" />
      <SrcRect xOff="0" yOff="0" xSize="12931" ySize="10013" />
      <DstRect xOff="39362.1775275227" yOff="43274.8907510787" xSize="12931" ySize="10013" />
      <NODATA>0</NODATA>
    </ComplexSource>
    <ComplexSource>
