<VRTDataset rasterXSize="166745" rasterYSize="165740">
  <SRS dataAxisToSRSAxisMapping="1,2">PROJCS["WGS 84 / Pseudo-Mercator",GEOGCS["WGS 84",DATUM["WGS_1984",SPHEROID["WGS 84",6378137,298.257223563,AUTHORITY["EPSG","7030"]],AUTHORITY["EPSG","6326"]],PRIMEM["Greenwich",0,AUTHORITY["EPSG","8901"]],UNIT["degree",0.0174532925199433,AUTHORITY["EPSG","9122"]],AUTHORITY["EPSG","4326"]],PROJECTION["Mercator_1SP"],PARAMETER["central_meridian",0],PARAMETER["scale_factor",1],PARAMETER["false_easting",0],PARAMETER["false_northing",0],UNIT["metre",1,AUTHORITY["EPSG","9001"]],AXIS["Easting",EAST],AXIS["Northing",NORTH],EXTENSION["PROJ4","+proj=merc +a=6378137 +b=6378137 +lat_ts=0 +lon_0=0 +x_0=0 +y_0=0 +k=1 +units=m +nadgrids=@null +wktext +no_defs"],AUTHORITY["EPSG","3857"]]</SRS>
  <GeoTransform>  1.2122639107656390e+06,  2.5000000000000000e-01,  0.0000000000000000e+00,  8.2588456622177362e+06,  0.0000000000000000e+00, -2.5000000000000000e-01</GeoTransform>
  <VRTRasterBand dataType="Byte" band="1">
    <NoDataValue>0</NoDataValue>
    <ColorInterp>Red</ColorInterp>
    <ComplexSource>
      <SourceFilename relativeToVRT="1">Z10X543Y722/33-2-464-119-00_3857.vrt</SourceFilename>
      <SourceBand>1</SourceBand>
      <SourceProperties RasterXSize="13014" RasterYSize="10109" DataType="Byte" BlockXSize="512" BlockYSize="128" />
      <SrcRect xOff="0" yOff="0" xSize="13014" ySize="10109" />
      <DstRect xOff="31825.6009756923" yOff="115475.546095137" xSize="13014" ySize="10109" />
      <NODATA>0</NODATA>
    </ComplexSource>
    <ComplexSource>
      <SourceFilename relativeToVRT="1">Z10X543Y722/33-2-463-121-20_3857.vrt</SourceFilename>
      <SourceBand>1</SourceBand>
      <SourceProperties RasterXSize="13056" RasterYSize="10145" DataType="Byte" BlockXSize="512" BlockYSize="128" />
      <SrcRect xOff="0" yOff="0" xSize="13056" ySize="10145" />
      <DstRect xOff="2314.43913032394" yOff="42055.1211648285" xSize="13056" ySize="10145" />
      <NODATA>0</NODATA>
    </ComplexSource>
    <ComplexSource>
      <SourceFilename relativeToVRT="1">Z10X543Y722/33-2-464-122-30_3857.vrt</SourceFilename>
      <SourceBand>1</SourceBand>
      <SourceProperties RasterXSize="13057" RasterYSize="10136" DataType="Byte" BlockXSize="512" BlockYSize="128" />
      <SrcRect xOff="0" yOff="0" xSize="13057" ySize="10136" />
      <DstRect xOff="62497.5694500329" yOff="739.837823364884" xSize="13057" ySize="10136" />
      <NODATA>0</NODATA>
    </ComplexSource>
    <ComplexSource>
      <SourceFilename relativeToVRT="1">Z10X543Y722/33-2-463-122-30_3857.vrt</SourceFilename>
      <SourceBand>1</SourceBand>
      <SourceProperties RasterXSize="13071" RasterYSize="10155" DataType="Byte" BlockXSize="512" BlockYSize="128" />
      <SrcRect xOff="0" yOff="0" xSize="13071" ySize="10155" />
      <DstRect xOff="12498.0030077919" yOff="3751.73303322122" xSize="13071" ySize="10155" />
      <NODATA>0</NODATA>
    </ComplexSource>
    <ComplexSource>
      <SourceFilename relativeToVRT="1">Z10X543Y722/33-2-465-119-01_3857.vrt</SourceFilename>
      <SourceBand>1</SourceBand>
      <SourceProperties RasterXSize="13007" RasterYSize="10094" DataType="Byte" BlockXSize="512" BlockYSize="128" />
      <SrcRect xOff="0" yOff="0" xSize="13007" ySize="10094" />
      <DstRect xOff="81089.0507484302" yOff="103151.331429787" xSize="13007" ySize="10094" />
      <NODATA>0</NODATA>
    </ComplexSource>
    <ComplexSource>
      <SourceFilename relativeToVRT="1">Z10X543Y722/33-2-464-120-33_3857.vrt</SourceFilename>
      <SourceBand>1</SourceBand>
      <SourceProperties RasterXSize="13037" RasterYSize="10118" DataType="Byte" BlockXSize="512" BlockYSize="128" />
      <SrcRect xOff="0" yOff="0" xSize="13037" ySize="10118" />
      <DstRect xOff="65291.4279035153" yOff="47668.0882520787" xSize="13037" ySize="10118" />
      <NODATA>0</NODATA>
    </ComplexSource>
    <ComplexSource>
      <SourceFilename relativeToVRT="1">Z10X543Y722/33-2-465-121-31_3857.vrt</SourceFilename>
      <SourceBand>1</SourceBand>
      <SourceProperties RasterXSize="13031" RasterYSize="10107" DataType="Byte" BlockXSize="512" BlockYSize="128" />
      <SrcRect xOff="0" yOff="0" xSize="13031" ySize="10107" />
      <DstRect xOff="114139.363398094" yOff="25984.3112775497" xSize="13031" ySize="10107" />
      <NODATA>0</NODATA>
    </ComplexSource>
    <ComplexSource>
      <SourceFilename relativeToVRT="1">Z10X543Y722/33-2-464-121-32_3857.vrt</SourceFilename>
      <SourceBand>1</SourceBand>
      <SourceProperties RasterXSize="13049" RasterYSize="10130" DataType="Byte" BlockXSize="512" BlockYSize="128" />
      <SrcRect xOff="0" yOff="0" xSize="13049" ySize="10130" />
      <DstRect xOff="63616.3585189227" yOff="19519.9600012898" xSize="13049" ySize="10130" />
      <NODATA>0</NODATA>
    </ComplexSource>
    <ComplexSource>
      <SourceFilename relativeToVRT="1">Z10X543Y722/33-2-463-120-23_3857.vrt</SourceFilename>
      <SourceBand>1</SourceBand>
      <SourceProperties RasterXSize="13052" RasterYSize="10142" DataType="Byte" BlockXSize="512" BlockYSize="128" />
      <SrcRect xOff="0" yOff="0" xSize="13052" ySize="10142" />
      <DstRect xOff="2891.97544408217" yOff="51432.1012570672" xSize="13052" ySize="10142" />
      <NODATA>0</NODATA>
    </ComplexSource>
    <ComplexSource>
      <SourceFilename relativeToVRT="1">Z10X543Y722/33-2-464-118-02_3857.vrt</SourceFilename>
      <SourceBand>1</SourceBand>
      <SourceProperties RasterXSize="13006" RasterYSize="10101" DataType="Byte" BlockXSize="512" BlockYSize="128" />
      <SrcRect xOff="0" yOff="0" xSize="13006" ySize="10101" />
      <DstRect xOff="32957.8442373257" yOff="134182.036900613" xSize="13006" ySize="10101" />
      <NODATA>0</NODATA>
    </ComplexSource>
    <ComplexSource>
      <SourceFilename relativeToVRT="1">Z10X543Y722/33-2-465-119-32_3857.vrt</SourceFilename>
      <SourceBand>1</SourceBand>
      <SourceProperties RasterXSize="13002" RasterYSize="10082" DataType="Byte" BlockXSize="512" BlockYSize="128" />
      <SrcRect xOff="0" yOff="0" xSize="13002" ySize="10082" />
      <DstRect xOff="117929.503529811" yOff="91616.7856744826" xSize="13002" ySize="10082" />
      <NODATA>0</NODATA>
    </ComplexSource>
    <ComplexSource>
      <SourceFilename relativeToVRT="1">Z10X543Y722/33-2-464-119-12_3857.vrt</SourceFilename>
      <SourceBand>1</SourceBand>
      <SourceProperties RasterXSize="13021" RasterYSize="10110" DataType="Byte" BlockXSize="512" BlockYSize="128" />
      <SrcRect xOff="0" yOff="0" xSize="13021" ySize="10110" />
      <DstRect xOff="43152.0233007204" yOff="96007.3622204065" xSize="13021" ySize="10110" />
      <NODATA>0</NODATA>
    </ComplexSource>
    <ComplexSource>
      <SourceFilename relativeToVRT="1">Z10X543Y722/33-2-466-118-13_3857.vrt</SourceFilename>
      <SourceBand>1</SourceBand>
      <SourceProperties RasterXSize="12983" RasterYSize="10062" DataType="Byte" BlockXSize="512" BlockYSize="128" />
      <SrcRect xOff="0" yOff="0" xSize="12983" ySize="10062" />
      <DstRect xOff="144455.984203584" yOff="118282.435323864" xSize="12983" ySize="10062" />
      <NODATA>0</NODATA>
    </ComplexSource>
    <ComplexSource>
      <SourceFilename relativeToVRT="1">Z10X543Y722/33-2-465-118-11_3857.vrt</SourceFilename>
      <SourceBand>1</SourceBand>
      <SourceProperties RasterXSize="12987" RasterYSize="10074" DataType="Byte" BlockXSize="512" BlockYSize="128" />
      <SrcRect xOff="0" yOff="0" xSize="12987" ySize="10074" />
      <DstRect xOff="95734.9968788894" yOff="139846.617220856" xSize="12987" ySize="10074" />
      <NODATA>0</NODATA>
    </ComplexSource>
    <ComplexSource>
      <SourceFilename relativeToVRT="1">Z10X543Y722/33-2-465-121-02_3857.vrt</SourceFilename>
      <SourceBand>1</SourceBand>
      <SourceProperties RasterXSize="13045" RasterYSize="10124" DataType="Byte" BlockXSize="512" BlockYSize="128" />
      <SrcRect xOff="0" yOff="0" xSize="13045" ySize="10124" />
      <DstRect xOff="76110.2502740864" yOff="18781.2196822017" xSize="13045" ySize="10124" />
      <NODATA>0</NODATA>
    </ComplexSource>
    <ComplexSource>
      <SourceFilename relativeToVRT="1">Z10X543Y722/33-2-464-122-00_3857.vrt</SourceFilename>
      <SourceBand>1</SourceBand>
      <SourceProperties RasterXSize="13067" RasterYSize="10151" DataType="Byte" BlockXSize="512" BlockYSize="128" />
      <SrcRect xOff="0" yOff="0" xSize="13067" ySize="10151" />
      <DstRect xOff="24996.7666080017" yOff="2990.87970587984" xSize="13067" ySize="10151" />
      <NODATA>0</NODATA>
    </ComplexSource>
    <ComplexSource>
      <SourceFilename relativeToVRT="1">Z10X543Y722/33-2-465-118-33_3857.vrt</SourceFilename>
      <SourceBand>1</SourceBand>
      <SourceProperties RasterXSize="12988" RasterYSize="10073" DataType="Byte" BlockXSize="512" BlockYSize="128" />
      <SrcRect xOff="0" yOff="0" xSize="12988" ySize="10073" />
      <DstRect xOff="119547.83434447" yOff="119701.050901324" xSize="12988" ySize="10073" />
      <NODATA>0</NODATA>
    </ComplexSource>
    <ComplexSource>
      <SourceFilename relativeToVRT="1">Z10X543Y722/33-2-465-121-20_3857.vrt</SourceFilename>
      <SourceBand>1</SourceBand>
      <SourceProperties RasterXSize="13030" RasterYSize="10109" DataType="Byte" BlockXSize="512" BlockYSize="128" />
      <SrcRect xOff="0" yOff="0" xSize="13030" ySize="10109" />
      <DstRect xOff="102193.798199196" yOff="36091.1052720509" xSize="13030" ySize="10109" />
      <NODATA>0</NODATA>
    </ComplexSource>
    <ComplexSource>
      <SourceFilename relativeToVRT="1">Z10X543Y722/33-2-463-120-30_3857.vrt</SourceFilename>
      <SourceBand>1</SourceBand>
      <SourceProperties RasterXSize="13036" RasterYSize="10127" DataType="Byte" BlockXSize="512" BlockYSize="128" />
      <SrcRect xOff="0" yOff="0" xSize="13036" ySize="10127" />
      <DstRect xOff="17088.6678974358" yOff="78783.8840496168" xSize="13036" ySize="10127" />
      <NODATA>0</NODATA>
    </ComplexSource>
    <ComplexSource>
      <SourceFilename relativeToVRT="1">Z10X543Y722/33-2-466-121-02_3857.vrt</SourceFilename>
      <SourceBand>1</SourceBand>
      <SourceProperties RasterXSize="13033" RasterYSize="10106" DataType="Byte" BlockXSize="512" BlockYSize="128" />
      <SrcRect xOff="0" yOff="0" xSize="13033" ySize="10106" />
      <DstRect xOff="126093.098721794" yOff="15878.7554533258" xSize="13033" ySize="10106" />
      <NODATA>0</NODATA>
    </ComplexSource>
    <ComplexSource>
      <SourceFilename relativeToVRT="1">Z10X543Y722/33-2-465-121-11_3857.vrt</SourceFilename>
      <SourceBand>1</SourceBand>
      <SourceProperties RasterXSize="13038" RasterYSize="10116" DataType="Byte" BlockXSize="512" BlockYSize="128" />
      <SrcRect xOff="0" yOff="0" xSize="13038" ySize="10116" />
      <DstRect xOff="89155.7918160362" yOff="27434.4679104686" xSize="13038" ySize="10116" />
      <NODATA>0</NODATA>
    </ComplexSource>
    <ComplexSource>
      <SourceFilename relativeToVRT="1">Z10X543Y722/33-2-465-120-10_3857.vrt</SourceFilename>
      <SourceBand>1</SourceBand>
      <SourceProperties RasterXSize="13017" RasterYSize="10098" DataType="Byte" BlockXSize="512" BlockYSize="128" />
      <SrcRect xOff="0" yOff="0" xSize="13017" ySize="10098" />
      <DstRect xOff="91904.245458086" yOff="74324.1051595286" xSize="13017" ySize="10098" />
      <NODATA>0</NODATA>
    </ComplexSource>
    <ComplexSource>
      <SourceFilename relativeToVRT="1">Z10X543Y722/33-2-465-118-10_3857.vrt</SourceFilename>
      <SourceBand>1</SourceBand>
      <SourceProperties RasterXSize="12983" RasterYSize="10071" DataType="Byte" BlockXSize="512" BlockYSize="128" />
      <SrcRect xOff="0" yOff="0" xSize="12983" ySize="10071" />
      <DstRect xOff="96280.6273659663" yOff="149195.301035818" xSize="12983" ySize="10071" />
      <NODATA>0</NODATA>
    </ComplexSource>
    <ComplexSource>
      <SourceFilename relativeToVRT="1">Z10X543Y722/33-2-465-121-01_3857.vrt</SourceFilename>
      <SourceBand>1</SourceBand>
      <SourceProperties RasterXSize="13041" RasterYSize="10121" DataType="Byte" BlockXSize="512" BlockYSize="128" />
      <SrcRect xOff="0" yOff="0" xSize="13041" ySize="10121" />
      <DstRect xOff="76665.0945316292" yOff="28167.4154939465" xSize="13041" ySize="10121" />
      <NODATA>0</NODATA>
    </ComplexSource>
    <ComplexSource>
      <SourceFilename relativeToVRT="1">Z10X543Y722/33-2-464-118-32_3857.vrt</SourceFilename>
      <SourceBand>1</SourceBand>
      <SourceProperties RasterXSize="12998" RasterYSize="10088" DataType="Byte" BlockXSize="512" BlockYSize="128" />
      <SrcRect xOff="0" yOff="0" xSize="12998" ySize="10088" />
      <DstRect xOff="70294.3221041486" yOff="131954.222266465" xSize="12998" ySize="10088" />
      <NODATA>0</NODATA>
    </ComplexSource>
    <ComplexSource>
      <SourceFilename relativeToVRT="1">Z10X543Y722/33-2-465-118-01_3857.vrt</SourceFilename>
      <SourceBand>1</SourceBand>
      <SourceProperties RasterXSize="12990" RasterYSize="10079" DataType="Byte" BlockXSize="512" BlockYSize="128" />
      <SrcRect xOff="0" yOff="0" xSize="12990" ySize="10079" />
      <DstRect xOff="83291.2079101084" yOff="140573.080273874" xSize="12990" ySize="10079" />
      <NODATA>0</NODATA>
    </ComplexSource>
    <ComplexSource>
      <SourceFilename relativeToVRT="1">Z10X543Y722/33-2-464-121-31_3857.vrt</SourceFilename>
      <SourceBand>1</SourceBand>
      <SourceProperties RasterXSize="13045" RasterYSize="10125" DataType="Byte" BlockXSize="512" BlockYSize="128" />
      <SrcRect xOff="0" yOff="0" xSize="13045" ySize="10125" />
      <DstRect xOff="64175.1297777202" yOff="28905.6079167128" xSize="13045" ySize="10125" />
      <NODATA>0</NODATA>
    </ComplexSource>
    <ComplexSource>
      <SourceFilename relativeToVRT="1">Z10X543Y722/33-2-465-121-13_3857.vrt</SourceFilename>
      <SourceBand>1</SourceBand>
      <SourceProperties RasterXSize="13046" RasterYSize="10124" DataType="Byte" BlockXSize="512" BlockYSize="128" />
      <SrcRect xOff="0" yOff="0" xSize="13046" ySize="10124" />
      <DstRect xOff="88053.5492475862" yOff="8658.04568978772" xSize="13046" ySize="10124" />
      <NODATA>0</NODATA>
    </ComplexSource>
    <ComplexSource>
      <SourceFilename relativeToVRT="1">Z10X543Y722/33-2-464-119-30_3857.vrt</SourceFilename>
      <SourceBand>1</SourceBand>
      <SourceProperties RasterXSize="13006" RasterYSize="10094" DataType="Byte" BlockXSize="512" BlockYSize="128" />
      <SrcRect xOff="0" yOff="0" xSize="13006" ySize="10094" />
      <DstRect xOff="69185.4503897699" yOff="113244.433905214" xSize="13006" ySize="10094" />
      <NODATA>0</NODATA>
    </ComplexSource>
    <ComplexSource>
      <SourceFilename relativeToVRT="1">Z10X543Y722/33-2-465-120-20_3857.vrt</SourceFilename>
      <SourceBand>1</SourceBand>
      <SourceProperties RasterXSize="13014" RasterYSize="10094" DataType="Byte" BlockXSize="512" BlockYSize="128" />
      <SrcRect xOff="0" yOff="0" xSize="13014" ySize="10094" />
      <DstRect xOff="104376.070883502" yOff="73599.0958706215" xSize="13014" ySize="10094" />
      <NODATA>0</NODATA>
    </ComplexSource>
    <ComplexSource>
      <SourceFilename relativeToVRT="1">Z10X543Y722/33-2-464-118-12_3857.vrt</SourceFilename>
      <SourceBand>1</SourceBand>
      <SourceProperties RasterXSize="13003" RasterYSize="10097" DataType="Byte" BlockXSize="512" BlockYSize="128" />
      <SrcRect xOff="0" yOff="0" xSize="13003" ySize="10097" />
      <DstRect xOff="45402.5990927303" yOff="133434.232078262" xSize="13003" ySize="10097" />
      <NODATA>0</NODATA>
    </ComplexSource>
    <ComplexSource>
      <SourceFilename relativeToVRT="1">Z10X543Y722/33-2-464-121-30_3857.vrt</SourceFilename>
      <SourceBand>1</SourceBand>
      <SourceProperties RasterXSize="13041" RasterYSize="10122" DataType="Byte" BlockXSize="512" BlockYSize="128" />
      <SrcRect xOff="0" yOff="0" xSize="13041" ySize="10122" />
      <DstRect xOff="64733.4860954843" yOff="38288.3166109361" xSize="13041" ySize="10122" />
      <NODATA>0</NODATA>
    </ComplexSource>
    <ComplexSource>
      <SourceFilename relativeToVRT="1">Z10X543Y722/33-2-466-120-22_3857.vrt</SourceFilename>
      <SourceBand>1</SourceBand>
      <SourceProperties RasterXSize="13008" RasterYSize="10082" DataType="Byte" BlockXSize="512" BlockYSize="128" />
      <SrcRect xOff="0" yOff="0" xSize="13008" ySize="10082" />
      <DstRect xOff="153211.518965518" yOff="51998.9936163127" xSize="13008" ySize="10082" />
      <NODATA>0</NODATA>
    </ComplexSource>
    <ComplexSource>
      <SourceFilename relativeToVRT="1">Z10X543Y722/33-2-463-119-31_3857.vrt</SourceFilename>
      <SourceBand>1</SourceBand>
      <SourceProperties RasterXSize="13022" RasterYSize="10116" DataType="Byte" BlockXSize="512" BlockYSize="128" />
      <SrcRect xOff="0" yOff="0" xSize="13022" ySize="10116" />
      <DstRect xOff="18803.1542858472" yOff="106872.60059863" xSize="13022" ySize="10116" />
      <NODATA>0</NODATA>
    </ComplexSource>
    <ComplexSource>
      <SourceFilename relativeToVRT="1">Z10X543Y722/33-2-465-118-32_3857.vrt</SourceFilename>
      <SourceBand>1</SourceBand>
      <SourceProperties RasterXSize="12984" RasterYSize="10068" DataType="Byte" BlockXSize="512" BlockYSize="128" />
      <SrcRect xOff="0" yOff="0" xSize="12984" ySize="10068" />
      <DstRect xOff="120086.479003021" yOff="129056.630048532" xSize="12984" ySize="10068" />
      <NODATA>0</NODATA>
    </ComplexSource>
    <ComplexSource>
      <SourceFilename relativeToVRT="1">Z10X543Y722/33-2-464-118-20_3857.vrt</SourceFilename>
      <SourceBand>1</SourceBand>
      <SourceProperties RasterXSize="12991" RasterYSize="10085" DataType="Byte" BlockXSize="512" BlockYSize="128" />
      <SrcRect xOff="0" yOff="0" xSize="12991" ySize="10085" />
      <DstRect xOff="58963.1048103962" yOff="151388.663952906" xSize="12991" ySize="10085" />
      <NODATA>0</NODATA>
    </ComplexSource>
    <ComplexSource>
      <SourceFilename relativeToVRT="1">Z10X543Y722/33-2-465-118-20_3857.vrt</SourceFilename>
      <SourceBand>1</SourceBand>
      <SourceProperties RasterXSize="12979" RasterYSize="10067" DataType="Byte" BlockXSize="512" BlockYSize="128" />
      <SrcRect xOff="0" yOff="0" xSize="12979" ySize="10067" />
      <DstRect xOff="108721.243594393" yOff="148474.570710007" xSize="12979" ySize="10067" />
      <NODATA>0</NODATA>
    </ComplexSource>
    <ComplexSource>
      <SourceFilename relativeToVRT="1">Z10X543Y722/33-2-466-118-01_3857.vrt</SourceFilename>
      <SourceBand>1</SourceBand>
      <SourceProperties RasterXSize="12976" RasterYSize="10061" DataType="Byte" BlockXSize="512" BlockYSize="128" />
      <SrcRect xOff="0" yOff="0" xSize="12976" ySize="10061" />
      <DstRect xOff="133070.653740895" yOff="137698.430753082" xSize="12976" ySize="10061" />
      <NODATA>0</NODATA>
    </ComplexSource>
    <ComplexSource>
      <SourceFilename relativeToVRT="1">Z10X543Y722/33-2-464-119-33_3857.vrt</SourceFilename>
      <SourceBand>1</SourceBand>
      <SourceProperties RasterXSize="13018" RasterYSize="10104" DataType="Byte" BlockXSize="512" BlockYSize="128" />
      <SrcRect xOff="0" yOff="0" xSize="13018" ySize="10104" />
      <DstRect xOff="67519.0586431548" yOff="85157.8475693278" xSize="13018" ySize="10104" />
      <NODATA>0</NODATA>
    </ComplexSource>
    <ComplexSource>
      <SourceFilename relativeToVRT="1">Z10X543Y722/33-2-464-122-10_3857.vrt</SourceFilename>
      <SourceBand>1</SourceBand>
      <SourceProperties RasterXSize="13064" RasterYSize="10145" DataType="Byte" BlockXSize="512" BlockYSize="128" />
      <SrcRect xOff="0" yOff="0" xSize="13064" ySize="10145" />
      <DstRect xOff="37496.2856502971" yOff="2235.27870405838" xSize="13064" ySize="10145" />
      <NODATA>0</NODATA>
    </ComplexSource>
    <ComplexSource>
      <SourceFilename relativeToVRT="1">Z10X543Y722/33-2-466-119-02_3857.vrt</SourceFilename>
      <SourceBand>1</SourceBand>
      <SourceProperties RasterXSize="12999" RasterYSize="10077" DataType="Byte" BlockXSize="512" BlockYSize="128" />
      <SrcRect xOff="0" yOff="0" xSize="12999" ySize="10077" />
      <DstRect xOff="130394.938337611" yOff="90903.2902439311" xSize="12999" ySize="10077" />
      <NODATA>0</NODATA>
    </ComplexSource>
    <ComplexSource>
      <SourceFilename relativeToVRT="1">Z10X543Y722/33-2-465-118-13_3857.vrt</SourceFilename>
      <SourceBand>1</SourceBand>
      <SourceProperties RasterXSize="12995" RasterYSize="10082" DataType="Byte" BlockXSize="512" BlockYSize="128" />
      <SrcRect xOff="0" yOff="0" xSize="12995" ySize="10082" />
      <DstRect xOff="94642.5232165484" yOff="121140.504045811" xSize="12995" ySize="10082" />
      <NODATA>0</NODATA>
    </ComplexSource>
    <ComplexSource>
      <SourceFilename relativeToVRT="1">Z10X543Y722/33-2-465-118-31_3857.vrt</SourceFilename>
      <SourceBand>1</SourceBand>
      <SourceProperties RasterXSize="12980" RasterYSize="10065" DataType="Byte" BlockXSize="512" BlockYSize="128" />
      <SrcRect xOff="0" yOff="0" xSize="12980" ySize="10065" />
      <DstRect xOff="120624.724878191" yOff="138409.291481759" xSize="12980" ySize="10065" />
      <NODATA>0</NODATA>
    </ComplexSource>
    <ComplexSource>
      <SourceFilename relativeToVRT="1">Z10X543Y722/33-2-464-120-13_3857.vrt</SourceFilename>
      <SourceBand>1</SourceBand>
      <SourceProperties RasterXSize="13041" RasterYSize="10128" DataType="Byte" BlockXSize="512" BlockYSize="128" />
      <SrcRect xOff="0" yOff="0" xSize="13041" ySize="10128" />
      <DstRect xOff="40329.4026022805" yOff="49157.9922631048" xSize="13041" ySize="10128" />
      <NODATA>0</NODATA>
    </ComplexSource>
    <ComplexSource>
      <SourceFilename relativeToVRT="1">Z10X543Y722/33-2-464-118-10_3857.vrt</SourceFilename>
      <SourceBand>1</SourceBand>
      <SourceProperties RasterXSize="12995" RasterYSize="10091" DataType="Byte" BlockXSize="512" BlockYSize="128" />
      <SrcRect xOff="0" yOff="0" xSize="12995" ySize="10091" />
      <DstRect xOff="46525.3895820919" yOff="152130.172256261" xSize="12995" ySize="10091" />
      <NODATA>0</NODATA>
    </ComplexSource>
    <ComplexSource>
      <SourceFilename relativeToVRT="1">Z10X543Y722/33-2-463-119-21_3857.vrt</SourceFilename>
      <SourceBand>1</SourceBand>
      <SourceProperties RasterXSize="13025" RasterYSize="10121" DataType="Byte" BlockXSize="512" BlockYSize="128" />
      <SrcRect xOff="0" yOff="0" xSize="13025" ySize="10121" />
      <DstRect xOff="6348.21046814416" yOff="107632.485558249" xSize="13025" ySize="10121" />
      <NODATA>0</NODATA>
    </ComplexSource>
    <ComplexSource>
      <SourceFilename relativeToVRT="1">Z10X543Y722/33-2-464-119-01_3857.vrt</SourceFilename>
      <SourceBand>1</SourceBand>
      <SourceProperties RasterXSize="13018" RasterYSize="10112" DataType="Byte" BlockXSize="512" BlockYSize="128" />
      <SrcRect xOff="0" yOff="0" xSize="13018" ySize="10112" />
      <DstRect xOff="31258.8500537938" yOff="106117.924648602" xSize="13018" ySize="10112" />
      <NODATA>0</NODATA>
    </ComplexSource>
    <ComplexSource>
      <SourceFilename relativeToVRT="1">Z10X543Y722/33-2-465-119-31_3857.vrt</SourceFilename>
      <SourceBand>1</SourceBand>
      <SourceProperties RasterXSize="12996" RasterYSize="10079" DataType="Byte" BlockXSize="512" BlockYSize="128" />
      <SrcRect xOff="0" yOff="0" xSize="12996" ySize="10079" />
      <DstRect xOff="118469.347022316" yOff="100981.130866647" xSize="12996" ySize="10079" />
      <NODATA>0</NODATA>
    </ComplexSource>
    <ComplexSource>
      <SourceFilename relativeToVRT="1">Z10X543Y722/33-2-466-121-01_3857.vrt</SourceFilename>
      <SourceBand>1</SourceBand>
      <SourceProperties RasterXSize="13029" RasterYSize="10101" DataType="Byte" BlockXSize="512" BlockYSize="128" />
      <SrcRect xOff="0" yOff="0" xSize="13029" ySize="10101" />
      <DstRect xOff="126632.227401925" yOff="25267.1042185687" xSize="13029" ySize="10101" />
      <NODATA>0</NODATA>
