<VRTDataset rasterXSize="168925" rasterYSize="165318">
  <SRS dataAxisToSRSAxisMapping="1,2">PROJCS["WGS 84 / Pseudo-Mercator",GEOGCS["WGS 84",DATUM["WGS_1984",SPHEROID["WGS 84",6378137,298.257223563,AUTHORITY["EPSG","7030"]],AUTHORITY["EPSG","6326"]],PRIMEM["Greenwich",0,AUTHORITY["EPSG","8901"]],UNIT["degree",0.0174532925199433,AUTHORITY["EPSG","9122"]],AUTHORITY["EPSG","4326"]],PROJECTION["Mercator_1SP"],PARAMETER["central_meridian",0],PARAMETER["scale_factor",1],PARAMETER["false_easting",0],PARAMETER["false_northing",0],UNIT["metre",1,AUTHORITY["EPSG","9001"]],AXIS["Easting",EAST],AXIS["Northing",NORTH],EXTENSION["PROJ4","+proj=merc +a=6378137 +b=6378137 +lat_ts=0 +lon_0=0 +x_0=0 +y_0=0 +k=1 +units=m +nadgrids=@null +wktext +no_defs"],AUTHORITY["EPSG","3857"]]</SRS>
  <GeoTransform>  1.1725807470301995e+06,  2.5000000000000000e-01,  0.0000000000000000e+00,  8.2978688921817234e+06,  0.0000000000000000e+00, -2.5000000000000000e-01</GeoTransform>
  <VRTRasterBand dataType="Byte" band="1">
    <NoDataValue>0</NoDataValue>
    <ColorInterp>Red</ColorInterp>
    <ComplexSource>
      <SourceFilename relativeToVRT="1">Z10X542Y723/33-2-463-122-11_3857.vrt</SourceFilename>
      <SourceBand>1</SourceBand>
      <SourceProperties RasterXSize="13080" RasterYSize="10167" DataType="Byte" BlockXSize="512" BlockYSize="128" />
      <SrcRect xOff="0" yOff="0" xSize="13080" ySize="10167" />
      <DstRect xOff="145651.80119733" yOff="151991.012646481" xSize="13080" ySize="10167" />
      <NODATA>0</NODATA>
    </ComplexSource>
    <ComplexSource>
      <SourceFilename relativeToVRT="1">Z10X542Y723/33-2-463-124-01_3857.vrt</SourceFilename>
      <SourceBand>1</SourceBand>
      <SourceProperties RasterXSize="13119" RasterYSize="10200" DataType="Byte" BlockXSize="512" BlockYSize="128" />
      <SrcRect xOff="0" yOff="0" xSize="13119" ySize="10200" />
      <DstRect xOff="128435.261980014" yOff="77537.8498337343" xSize="13119" ySize="10200" />
      <NODATA>0</NODATA>
    </ComplexSource>
    <ComplexSource>
      <SourceFilename relativeToVRT="1">Z10X542Y723/33-2-460-125-21_3857.vrt</SourceFilename>
      <SourceBand>1</SourceBand>
      <SourceProperties RasterXSize="13168" RasterYSize="10262" DataType="Byte" BlockXSize="512" BlockYSize="128" />
      <SrcRect xOff="0" yOff="0" xSize="13168" ySize="10262" />
      <DstRect xOff="632.897628693841" yOff="47984.3992367424" xSize="13168" ySize="10262" />
      <NODATA>0</NODATA>
    </ComplexSource>
    <ComplexSource>
      <SourceFilename relativeToVRT="1">Z10X542Y723/33-2-461-122-32_3857.vrt</SourceFilename>
      <SourceBand>1</SourceBand>
      <SourceProperties RasterXSize="13105" RasterYSize="10199" DataType="Byte" BlockXSize="512" BlockYSize="128" />
      <SrcRect xOff="0" yOff="0" xSize="13105" ySize="10199" />
      <DstRect xOff="70053.5404933225" yOff="147342.332209889" xSize="13105" ySize="10199" />
      <NODATA>0</NODATA>
    </ComplexSource>
    <ComplexSource>
      <SourceFilename relativeToVRT="1">Z10X542Y723/33-2-462-125-30_3857.vrt</SourceFilename>
      <SourceBand>1</SourceBand>
      <SourceProperties RasterXSize="13134" RasterYSize="10215" DataType="Byte" BlockXSize="512" BlockYSize="128" />
      <SrcRect xOff="0" yOff="0" xSize="13134" ySize="10215" />
      <DstRect xOff="114116.415996226" yOff="50066.5292940438" xSize="13134" ySize="10215" />
      <NODATA>0</NODATA>
    </ComplexSource>
    <ComplexSource>
      <SourceFilename relativeToVRT="1">Z10X542Y723/33-2-462-125-22_3857.vrt</SourceFilename>
      <SourceBand>1</SourceBand>
      <SourceProperties RasterXSize="13148" RasterYSize="10227" DataType="Byte" BlockXSize="512" BlockYSize="128" />
      <SrcRect xOff="0" yOff="0" xSize="13148" ySize="10227" />
      <DstRect xOff="100372.227318404" yOff="32008.0871336944" xSize="13148" ySize="10227" />
      <NODATA>0</NODATA>
    </ComplexSource>
    <ComplexSource>
      <SourceFilename relativeToVRT="1">Z10X542Y723/33-2-462-123-22_3857.vrt</SourceFilename>
      <SourceBand>1</SourceBand>
      <SourceProperties RasterXSize="13113" RasterYSize="10199" DataType="Byte" BlockXSize="512" BlockYSize="128" />
      <SrcRect xOff="0" yOff="0" xSize="13113" ySize="10199" />
      <DstRect xOff="105169.273434597" yOff="107347.337089222" xSize="13113" ySize="10199" />
      <NODATA>0</NODATA>
    </ComplexSource>
    <ComplexSource>
      <SourceFilename relativeToVRT="1">Z10X542Y723/33-2-463-126-20_3857.vrt</SourceFilename>
      <SourceBand>1</SourceBand>
      <SourceProperties RasterXSize="13143" RasterYSize="10216" DataType="Byte" BlockXSize="512" BlockYSize="128" />
      <SrcRect xOff="0" yOff="0" xSize="13143" ySize="10216" />
      <DstRect xOff="149405.693065287" yOff="9989.37607272342" xSize="13143" ySize="10216" />
      <NODATA>0</NODATA>
    </ComplexSource>
    <ComplexSource>
      <SourceFilename relativeToVRT="1">Z10X542Y723/33-2-463-124-23_3857.vrt</SourceFilename>
      <SourceBand>1</SourceBand>
      <SourceProperties RasterXSize="13122" RasterYSize="10197" DataType="Byte" BlockXSize="512" BlockYSize="128" />
      <SrcRect xOff="0" yOff="0" xSize="13122" ySize="10197" />
      <DstRect xOff="152332.325464658" yOff="57140.0256772004" xSize="13122" ySize="10197" />
      <NODATA>0</NODATA>
    </ComplexSource>
    <ComplexSource>
      <SourceFilename relativeToVRT="1">Z10X542Y723/33-2-461-124-01_3857.vrt</SourceFilename>
      <SourceBand>1</SourceBand>
      <SourceProperties RasterXSize="13144" RasterYSize="10238" DataType="Byte" BlockXSize="512" BlockYSize="128" />
      <SrcRect xOff="0" yOff="0" xSize="13144" ySize="10238" />
      <DstRect xOff="28208.3573227748" yOff="83982.4725834504" xSize="13144" ySize="10238" />
      <NODATA>0</NODATA>
    </ComplexSource>
    <ComplexSource>
      <SourceFilename relativeToVRT="1">Z10X542Y723/33-2-462-125-21_3857.vrt</SourceFilename>
      <SourceBand>1</SourceBand>
      <SourceProperties RasterXSize="13142" RasterYSize="10224" DataType="Byte" BlockXSize="512" BlockYSize="128" />
      <SrcRect xOff="0" yOff="0" xSize="13142" ySize="10224" />
      <DstRect xOff="100973.423997892" yOff="41435.8687953837" xSize="13142" ySize="10224" />
      <NODATA>0</NODATA>
    </ComplexSource>
    <ComplexSource>
      <SourceFilename relativeToVRT="1">Z10X542Y723/33-2-461-125-22_3857.vrt</SourceFilename>
      <SourceBand>1</SourceBand>
      <SourceProperties RasterXSize="13160" RasterYSize="10247" DataType="Byte" BlockXSize="512" BlockYSize="128" />
      <SrcRect xOff="0" yOff="0" xSize="13160" ySize="10247" />
      <DstRect xOff="50179.5639213203" yOff="35242.4254494496" xSize="13160" ySize="10247" />
      <NODATA>0</NODATA>
    </ComplexSource>
    <ComplexSource>
      <SourceFilename relativeToVRT="1">Z10X542Y723/33-2-461-125-23_3857.vrt</SourceFilename>
      <SourceBand>1</SourceBand>
      <SourceProperties RasterXSize="13164" RasterYSize="10251" DataType="Byte" BlockXSize="512" BlockYSize="128" />
      <SrcRect xOff="0" yOff="0" xSize="13164" ySize="10251" />
      <DstRect xOff="49562.0493953461" yOff="25814.0839479752" xSize="13164" ySize="10251" />
      <NODATA>0</NODATA>
    </ComplexSource>
    <ComplexSource>
      <SourceFilename relativeToVRT="1">Z10X542Y723/33-2-462-124-11_3857.vrt</SourceFilename>
      <SourceBand>1</SourceBand>
      <SourceProperties RasterXSize="13129" RasterYSize="10215" DataType="Byte" BlockXSize="512" BlockYSize="128" />
      <SrcRect xOff="0" yOff="0" xSize="13129" ySize="10215" />
      <DstRect xOff="90844.1550062811" yOff="79914.9910716899" xSize="13129" ySize="10215" />
      <NODATA>0</NODATA>
    </ComplexSource>
    <ComplexSource>
      <SourceFilename relativeToVRT="1">Z10X542Y723/33-2-461-125-12_3857.vrt</SourceFilename>
      <SourceBand>1</SourceBand>
      <SourceProperties RasterXSize="13163" RasterYSize="10251" DataType="Byte" BlockXSize="512" BlockYSize="128" />
      <SrcRect xOff="0" yOff="0" xSize="13163" ySize="10251" />
      <DstRect xOff="37633.4318528678" yOff="36064.2524859309" xSize="13163" ySize="10251" />
      <NODATA>0</NODATA>
    </ComplexSource>
    <ComplexSource>
      <SourceFilename relativeToVRT="1">Z10X542Y723/33-2-462-124-01_3857.vrt</SourceFilename>
      <SourceBand>1</SourceBand>
      <SourceProperties RasterXSize="13132" RasterYSize="10220" DataType="Byte" BlockXSize="512" BlockYSize="128" />
      <SrcRect xOff="0" yOff="0" xSize="13132" ySize="10220" />
      <DstRect xOff="78315.3769197538" yOff="80717.9323903918" xSize="13132" ySize="10220" />
      <NODATA>0</NODATA>
    </ComplexSource>
    <ComplexSource>
      <SourceFilename relativeToVRT="1">Z10X542Y723/33-2-462-124-32_3857.vrt</SourceFilename>
      <SourceBand>1</SourceBand>
      <SourceProperties RasterXSize="13126" RasterYSize="10209" DataType="Byte" BlockXSize="512" BlockYSize="128" />
      <SrcRect xOff="0" yOff="0" xSize="13126" ySize="10209" />
      <DstRect xOff="115308.651317358" yOff="68908.4391182847" xSize="13126" ySize="10209" />
      <NODATA>0</NODATA>
    </ComplexSource>
    <ComplexSource>
      <SourceFilename relativeToVRT="1">Z10X542Y723/33-2-461-123-20_3857.vrt</SourceFilename>
      <SourceBand>1</SourceBand>
      <SourceProperties RasterXSize="13116" RasterYSize="10211" DataType="Byte" BlockXSize="512" BlockYSize="128" />
      <SrcRect xOff="0" yOff="0" xSize="13116" ySize="10211" />
      <DstRect xOff="56329.4591788044" yOff="129362.935967714" xSize="13116" ySize="10211" />
      <NODATA>0</NODATA>
    </ComplexSource>
    <ComplexSource>
      <SourceFilename relativeToVRT="1">Z10X542Y723/33-2-463-125-12_3857.vrt</SourceFilename>
      <SourceBand>1</SourceBand>
      <SourceProperties RasterXSize="13138" RasterYSize="10215" DataType="Byte" BlockXSize="512" BlockYSize="128" />
      <SrcRect xOff="0" yOff="0" xSize="13138" ySize="10215" />
      <DstRect xOff="138025.120844819" yOff="29637.9829800017" xSize="13138" ySize="10215" />
      <NODATA>0</NODATA>
    </ComplexSource>
    <ComplexSource>
      <SourceFilename relativeToVRT="1">Z10X542Y723/33-2-460-123-30_3857.vrt</SourceFilename>
      <SourceBand>1</SourceBand>
      <SourceProperties RasterXSize="13125" RasterYSize="10226" DataType="Byte" BlockXSize="512" BlockYSize="128" />
      <SrcRect xOff="0" yOff="0" xSize="13125" ySize="10226" />
      <DstRect xOff="18811.9866528092" yOff="131825.911766533" xSize="13125" ySize="10226" />
      <NODATA>0</NODATA>
    </ComplexSource>
    <ComplexSource>
      <SourceFilename relativeToVRT="1">Z10X542Y723/33-2-462-124-12_3857.vrt</SourceFilename>
      <SourceBand>1</SourceBand>
      <SourceProperties RasterXSize="13133" RasterYSize="10218" DataType="Byte" BlockXSize="512" BlockYSize="128" />
      <SrcRect xOff="0" yOff="0" xSize="13133" ySize="10218" />
      <DstRect xOff="90240.7949822107" yOff="70499.6652187146" xSize="13133" ySize="10218" />
      <NODATA>0</NODATA>
    </ComplexSource>
    <ComplexSource>
      <SourceFilename relativeToVRT="1">Z10X542Y723/33-2-462-124-10_3857.vrt</SourceFilename>
      <SourceBand>1</SourceBand>
      <SourceProperties RasterXSize="13125" RasterYSize="10211" DataType="Byte" BlockXSize="512" BlockYSize="128" />
      <SrcRect xOff="0" yOff="0" xSize="13125" ySize="10211" />
      <DstRect xOff="91447.065643277" yOff="89327.3575241938" xSize="13125" ySize="10211" />
      <NODATA>0</NODATA>
    </ComplexSource>
    <ComplexSource>
      <SourceFilename relativeToVRT="1">Z10X542Y723/33-2-460-124-20_3857.vrt</SourceFilename>
      <SourceBand>1</SourceBand>
      <SourceProperties RasterXSize="13147" RasterYSize="10244" DataType="Byte" BlockXSize="512" BlockYSize="128" />
      <SrcRect xOff="0" yOff="0" xSize="13147" ySize="10244" />
      <DstRect xOff="3790.31951653305" yOff="95054.497143086" xSize="13147" ySize="10244" />
      <NODATA>0</NODATA>
    </ComplexSource>
    <ComplexSource>
      <SourceFilename relativeToVRT="1">Z10X542Y723/33-2-462-123-32_3857.vrt</SourceFilename>
      <SourceBand>1</SourceBand>
      <SourceProperties RasterXSize="13110" RasterYSize="10194" DataType="Byte" BlockXSize="512" BlockYSize="128" />
      <SrcRect xOff="0" yOff="0" xSize="13110" ySize="10194" />
      <DstRect xOff="117687.797482671" yOff="106556.722367138" xSize="13110" ySize="10194" />
      <NODATA>0</NODATA>
    </ComplexSource>
    <ComplexSource>
      <SourceFilename relativeToVRT="1">Z10X542Y723/33-2-463-125-13_3857.vrt</SourceFilename>
      <SourceBand>1</SourceBand>
      <SourceProperties RasterXSize="13142" RasterYSize="10218" DataType="Byte" BlockXSize="512" BlockYSize="128" />
      <SrcRect xOff="0" yOff="0" xSize="13142" ySize="10218" />
      <DstRect xOff="137435.385921299" yOff="20205.4630657285" xSize="13142" ySize="10218" />
      <NODATA>0</NODATA>
    </ComplexSource>
    <ComplexSource>
      <SourceFilename relativeToVRT="1">Z10X542Y723/33-2-462-122-22_3857.vrt</SourceFilename>
      <SourceBand>1</SourceBand>
      <SourceProperties RasterXSize="13094" RasterYSize="10185" DataType="Byte" BlockXSize="512" BlockYSize="128" />
      <SrcRect xOff="0" yOff="0" xSize="13094" ySize="10185" />
      <DstRect xOff="107557.099787149" yOff="144946.008897983" xSize="13094" ySize="10185" />
      <NODATA>0</NODATA>
    </ComplexSource>
    <ComplexSource>
      <SourceFilename relativeToVRT="1">Z10X542Y723/33-2-462-126-00_3857.vrt</SourceFilename>
      <SourceBand>1</SourceBand>
      <SourceProperties RasterXSize="13163" RasterYSize="10245" DataType="Byte" BlockXSize="512" BlockYSize="128" />
      <SrcRect xOff="0" yOff="0" xSize="13163" ySize="10245" />
      <DstRect xOff="74054.6604676526" yOff="14752.5783337802" xSize="13163" ySize="10245" />
      <NODATA>0</NODATA>
    </ComplexSource>
    <ComplexSource>
      <SourceFilename relativeToVRT="1">Z10X542Y723/33-2-461-125-10_3857.vrt</SourceFilename>
      <SourceBand>1</SourceBand>
      <SourceProperties RasterXSize="13155" RasterYSize="10244" DataType="Byte" BlockXSize="512" BlockYSize="128" />
      <SrcRect xOff="0" yOff="0" xSize="13155" ySize="10244" />
      <DstRect xOff="38875.0012799846" yOff="54910.8090589643" xSize="13155" ySize="10244" />
      <NODATA>0</NODATA>
    </ComplexSource>
    <ComplexSource>
      <SourceFilename relativeToVRT="1">Z10X542Y723/33-2-462-123-20_3857.vrt</SourceFilename>
      <SourceBand>1</SourceBand>
      <SourceProperties RasterXSize="13103" RasterYSize="10193" DataType="Byte" BlockXSize="512" BlockYSize="128" />
      <SrcRect xOff="0" yOff="0" xSize="13103" ySize="10193" />
      <DstRect xOff="106364.074906954" yOff="126152.571204383" xSize="13103" ySize="10193" />
      <NODATA>0</NODATA>
    </ComplexSource>
    <ComplexSource>
      <SourceFilename relativeToVRT="1">Z10X542Y723/33-2-463-123-12_3857.vrt</SourceFilename>
      <SourceBand>1</SourceBand>
      <SourceProperties RasterXSize="13103" RasterYSize="10185" DataType="Byte" BlockXSize="512" BlockYSize="128" />
      <SrcRect xOff="0" yOff="0" xSize="13103" ySize="10185" />
      <DstRect xOff="142727.198619337" yOff="104991.304757345" xSize="13103" ySize="10185" />
      <NODATA>0</NODATA>
    </ComplexSource>
    <ComplexSource>
      <SourceFilename relativeToVRT="1">Z10X542Y723/33-2-461-124-03_3857.vrt</SourceFilename>
      <SourceBand>1</SourceBand>
      <SourceProperties RasterXSize="13152" RasterYSize="10245" DataType="Byte" BlockXSize="512" BlockYSize="128" />
      <SrcRect xOff="0" yOff="0" xSize="13152" ySize="10245" />
      <DstRect xOff="26961.6591373682" yOff="65154.9172821641" xSize="13152" ySize="10245" />
      <NODATA>0</NODATA>
    </ComplexSource>
    <ComplexSource>
      <SourceFilename relativeToVRT="1">Z10X542Y723/33-2-463-125-23_3857.vrt</SourceFilename>
      <SourceBand>1</SourceBand>
      <SourceProperties RasterXSize="13139" RasterYSize="10212" DataType="Byte" BlockXSize="512" BlockYSize="128" />
      <SrcRect xOff="0" yOff="0" xSize="13139" ySize="10212" />
      <DstRect xOff="149991.893681222" yOff="19425.4528869539" xSize="13139" ySize="10212" />
      <NODATA>0</NODATA>
    </ComplexSource>
    <ComplexSource>
      <SourceFilename relativeToVRT="1">Z10X542Y723/33-2-461-123-21_3857.vrt</SourceFilename>
      <SourceBand>1</SourceBand>
      <SourceProperties RasterXSize="13121" RasterYSize="10214" DataType="Byte" BlockXSize="512" BlockYSize="128" />
      <SrcRect xOff="0" yOff="0" xSize="13121" ySize="10214" />
      <DstRect xOff="55716.5283867195" yOff="119964.180671994" xSize="13121" ySize="10214" />
      <NODATA>0</NODATA>
    </ComplexSource>
    <ComplexSource>
      <SourceFilename relativeToVRT="1">Z10X542Y723/33-2-463-125-21_3857.vrt</SourceFilename>
      <SourceBand>1</SourceBand>
      <SourceProperties RasterXSize="13130" RasterYSize="10206" DataType="Byte" BlockXSize="512" BlockYSize="128" />
      <SrcRect xOff="0" yOff="0" xSize="13130" ySize="10206" />
      <DstRect xOff="151162.98279491" yOff="38288.6817697771" xSize="13130" ySize="10206" />
      <NODATA>0</NODATA>
    </ComplexSource>
    <ComplexSource>
      <SourceFilename relativeToVRT="1">Z10X542Y723/33-2-461-123-33_3857.vrt</SourceFilename>
      <SourceBand>1</SourceBand>
      <SourceProperties RasterXSize="13125" RasterYSize="10217" DataType="Byte" BlockXSize="512" BlockYSize="128" />
      <SrcRect xOff="0" yOff="0" xSize="13125" ySize="10217" />
      <DstRect xOff="67008.5683568595" yOff="100345.533166707" xSize="13125" ySize="10217" />
      <NODATA>0</NODATA>
    </ComplexSource>
    <ComplexSource>
      <SourceFilename relativeToVRT="1">Z10X542Y723/33-2-461-125-03_3857.vrt</SourceFilename>
      <SourceBand>1</SourceBand>
      <SourceProperties RasterXSize="13171" RasterYSize="10260" DataType="Byte" BlockXSize="512" BlockYSize="128" />
      <SrcRect xOff="0" yOff="0" xSize="13171" ySize="10260" />
      <DstRect xOff="24462.6797807217" yOff="27464.2617730871" xSize="13171" ySize="10260" />
      <NODATA>0</NODATA>
    </ComplexSource>
    <ComplexSource>
      <SourceFilename relativeToVRT="1">Z10X542Y723/33-2-462-124-03_3857.vrt</SourceFilename>
      <SourceBand>1</SourceBand>
      <SourceProperties RasterXSize="13141" RasterYSize="10227" DataType="Byte" BlockXSize="512" BlockYSize="128" />
      <SrcRect xOff="0" yOff="0" xSize="13141" ySize="10227" />
      <DstRect xOff="77100.2979762163" yOff="61885.5151250251" xSize="13141" ySize="10227" />
      <NODATA>0</NODATA>
    </ComplexSource>
    <ComplexSource>
      <SourceFilename relativeToVRT="1">Z10X542Y723/33-2-460-125-31_3857.vrt</SourceFilename>
      <SourceBand>1</SourceBand>
      <SourceProperties RasterXSize="13164" RasterYSize="10257" DataType="Byte" BlockXSize="512" BlockYSize="128" />
      <SrcRect xOff="0" yOff="0" xSize="13164" ySize="10257" />
      <DstRect xOff="13172.5827131271" yOff="47147.3151175305" xSize="13164" ySize="10257" />
      <NODATA>0</NODATA>
    </ComplexSource>
    <ComplexSource>
      <SourceFilename relativeToVRT="1">Z10X542Y723/33-2-460-124-21_3857.vrt</SourceFilename>
      <SourceBand>1</SourceBand>
      <SourceProperties RasterXSize="13151" RasterYSize="10247" DataType="Byte" BlockXSize="512" BlockYSize="128" />
      <SrcRect xOff="0" yOff="0" xSize="13151" ySize="10247" />
      <DstRect xOff="3159.77566845436" yOff="85646.3918356858" xSize="13151" ySize="10247" />
      <NODATA>0</NODATA>
    </ComplexSource>
    <ComplexSource>
      <SourceFilename relativeToVRT="1">Z10X542Y723/33-2-461-125-13_3857.vrt</SourceFilename>
      <SourceBand>1</SourceBand>
      <SourceProperties RasterXSize="13168" RasterYSize="10254" DataType="Byte" BlockXSize="512" BlockYSize="128" />
      <SrcRect xOff="0" yOff="0" xSize="13168" ySize="10254" />
      <DstRect xOff="37011.9521949925" yOff="26636.523548048" xSize="13168" ySize="10254" />
      <NODATA>0</NODATA>
    </ComplexSource>
    <ComplexSource>
      <SourceFilename relativeToVRT="1">Z10X542Y723/33-2-462-125-31_3857.vrt</SourceFilename>
      <SourceBand>1</SourceBand>
      <SourceProperties RasterXSize="13141" RasterYSize="10220" DataType="Byte" BlockXSize="512" BlockYSize="128" />
      <SrcRect xOff="0" yOff="0" xSize="13141" ySize="10220" />
      <DstRect xOff="113519.631152581" yOff="40641.1246588789" xSize="13141" ySize="10220" />
      <NODATA>0</NODATA>
    </ComplexSource>
    <ComplexSource>
      <SourceFilename relativeToVRT="1">Z10X542Y723/33-2-463-123-00_3857.vrt</SourceFilename>
      <SourceBand>1</SourceBand>
      <SourceProperties RasterXSize="13098" RasterYSize="10184" DataType="Byte" BlockXSize="512" BlockYSize="128" />
      <SrcRect xOff="0" yOff="0" xSize="13098" ySize="10184" />
      <DstRect xOff="131386.140977458" yOff="124578.95286414" xSize="13098" ySize="10184" />
      <NODATA>0</NODATA>
    </ComplexSource>
    <ComplexSource>
      <SourceFilename relativeToVRT="1">Z10X542Y723/33-2-462-123-10_3857.vrt</SourceFilename>
      <SourceBand>1</SourceBand>
      <SourceProperties RasterXSize="13106" RasterYSize="10197" DataType="Byte" BlockXSize="512" BlockYSize="128" />
      <SrcRect xOff="0" yOff="0" xSize="13106" ySize="10197" />
      <DstRect xOff="93854.2236848846" yOff="126947.273028307" xSize="13106" ySize="10197" />
      <NODATA>0</NODATA>
    </ComplexSource>
    <ComplexSource>
      <SourceFilename relativeToVRT="1">Z10X542Y723/33-2-462-122-02_3857.vrt</SourceFilename>
      <SourceBand>1</SourceBand>
      <SourceProperties RasterXSize="13101" RasterYSize="10194" DataType="Byte" BlockXSize="512" BlockYSize="128" />
      <SrcRect xOff="0" yOff="0" xSize="13101" ySize="10194" />
      <DstRect xOff="82553.9303916786" yOff="146538.305926248" xSize="13101" ySize="10194" />
      <NODATA>0</NODATA>
    </ComplexSource>
    <ComplexSource>
      <SourceFilename relativeToVRT="1">Z10X542Y723/33-2-463-126-01_3857.vrt</SourceFilename>
      <SourceBand>1</SourceBand>
      <SourceProperties RasterXSize="13154" RasterYSize="10230" DataType="Byte" BlockXSize="512" BlockYSize="128" />
      <SrcRect xOff="0" yOff="0" xSize="13154" ySize="10230" />
      <DstRect xOff="123690.918659154" yOff="2117.98580287769" xSize="13154" ySize="10230" />
      <NODATA>0</NODATA>
    </ComplexSource>
    <ComplexSource>
      <SourceFilename relativeToVRT="1">Z10X542Y723/33-2-461-124-22_3857.vrt</SourceFilename>
      <SourceBand>1</SourceBand>
      <SourceProperties RasterXSize="13143" RasterYSize="10232" DataType="Byte" BlockXSize="512" BlockYSize="128" />
      <SrcRect xOff="0" yOff="0" xSize="13143" ySize="10232" />
      <DstRect xOff="52645.0215314506" yOff="72926.1286748908" xSize="13143" ySize="10232" />
      <NODATA>0</NODATA>
    </ComplexSource>
    <ComplexSource>
      <SourceFilename relativeToVRT="1">Z10X542Y723/33-2-461-123-01_3857.vrt</SourceFilename>
      <SourceBand>1</SourceBand>
      <SourceProperties RasterXSize="13127" RasterYSize="10223" DataType="Byte" BlockXSize="512" BlockYSize="128" />
      <SrcRect xOff="0" yOff="0" xSize="13127" ySize="10223" />
      <DstRect xOff="30696.1900959117" yOff="121602.125702325" xSize="13127" ySize="10223" />
      <NODATA>0</NODATA>
    </ComplexSource>
    <ComplexSource>
      <SourceFilename relativeToVRT="1">Z10X542Y723/33-2-461-124-30_3857.vrt</SourceFilename>
      <SourceBand>1</SourceBand>
      <SourceProperties RasterXSize="13130" RasterYSize="10220" DataType="Byte" BlockXSize="512" BlockYSize="128" />
      <SrcRect xOff="0" yOff="0" xSize="13130" ySize="10220" />
      <DstRect xOff="66398.2130136685" yOff="90937.3207259402" xSize="13130" ySize="10220" />
      <NODATA>0</NODATA>
    </ComplexSource>
    <ComplexSource>
      <SourceFilename relativeToVRT="1">Z10X542Y723/33-2-463-123-21_3857.vrt</SourceFilename>
      <SourceBand>1</SourceBand>
      <SourceProperties RasterXSize="13095" RasterYSize="10178" DataType="Byte" BlockXSize="512" BlockYSize="128" />
      <SrcRect xOff="0" yOff="0" xSize="13095" ySize="10178" />
      <DstRect xOff="155829.911232897" yOff="113622.923272632" xSize="13095" ySize="10178" />
      <NODATA>0</NODATA>
    </ComplexSource>
