<VRTDataset rasterXSize="105183" rasterYSize="55595">
  <SRS dataAxisToSRSAxisMapping="1,2">PROJCS["WGS 84 / Pseudo-Mercator",GEOGCS["WGS 84",DATUM["WGS_1984",SPHEROID["WGS 84",6378137,298.257223563,AUTHORITY["EPSG","7030"]],AUTHORITY["EPSG","6326"]],PRIMEM["Greenwich",0,AUTHORITY["EPSG","8901"]],UNIT["degree",0.0174532925199433,AUTHORITY["EPSG","9122"]],AUTHORITY["EPSG","4326"]],PROJECTION["Mercator_1SP"],PARAMETER["central_meridian",0],PARAMETER["scale_factor",1],PARAMETER["false_easting",0],PARAMETER["false_northing",0],UNIT["metre",1,AUTHORITY["EPSG","9001"]],AXIS["Easting",EAST],AXIS["Northing",NORTH],EXTENSION["PROJ4","+proj=merc +a=6378137 +b=6378137 +lat_ts=0 +lon_0=0 +x_0=0 +y_0=0 +k=1 +units=m +nadgrids=@null +wktext +no_defs"],AUTHORITY["EPSG","3857"]]</SRS>
  <GeoTransform>  6.7573137914009218e+05,  1.7232837420639210e-01,  0.0000000000000000e+00,  8.9768772230416853e+06,  0.0000000000000000e+00, -1.7232837420639210e-01</GeoTransform>
  <VRTRasterBand dataType="Byte" band="1">
    <NoDataValue>0</NoDataValue>
    <ColorInterp>Red</ColorInterp>
    <ComplexSource>
      <SourceFilename relativeToVRT="1">copyAlbedo33/33-2-428-199-32_3857.vrt</SourceFilename>
      <SourceBand>1</SourceBand>
      <SourceProperties RasterXSize="21856" RasterYSize="17614" DataType="Byte" BlockXSize="512" BlockYSize="128" />
      <SrcRect xOff="0" yOff="0" xSize="21856" ySize="17614" />
      <DstRect xOff="41679.8307831639" yOff="17614.560897699" xSize="21856.8208616562" ySize="17614.6615417831" />
      <NODATA>0</NODATA>
    </ComplexSource>
    <ComplexSource>
      <SourceFilename relativeToVRT="1">copyAlbedo33/33-2-428-199-13_3857.vrt</SourceFilename>
      <SourceBand>1</SourceBand>
      <SourceProperties RasterXSize="21868" RasterYSize="17632" DataType="Byte" BlockXSize="512" BlockYSize="128" />
      <SrcRect xOff="0" yOff="0" xSize="21868" ySize="17632" />
      <DstRect xOff="0" yOff="8224.53944289195" xSize="21872.9171104519" ySize="17635.964628292" />
      <NODATA>0</NODATA>
    </ComplexSource>
    <ComplexSource>
      <SourceFilename relativeToVRT="1">copyAlbedo33/33-2-428-199-11_3857.vrt</SourceFilename>
      <SourceBand>1</SourceBand>
      <SourceProperties RasterXSize="21867" RasterYSize="17629" DataType="Byte" BlockXSize="512" BlockYSize="128" />
      <SrcRect xOff="0" yOff="0" xSize="21867" ySize="17628.5591653209" />
      <DstRect xOff="4137.43274949123" yOff="37975.0087471151" xSize="21856.3721012885" ySize="17619.9912528849" />
      <NODATA>0</NODATA>
    </ComplexSource>
    <ComplexSource>
      <SourceFilename relativeToVRT="1">copyAlbedo33/33-2-428-199-33_3857.vrt</SourceFilename>
      <SourceBand>1</SourceBand>
      <SourceProperties RasterXSize="21857" RasterYSize="17615" DataType="Byte" BlockXSize="512" BlockYSize="128" />
      <SrcRect xOff="0" yOff="0" xSize="21857" ySize="17615" />
      <DstRect xOff="39624.0357495238" yOff="2732.31662332309" xSize="21865.5967464669" ySize="17621.9282924928" />
      <NODATA>0</NODATA>
    </ComplexSource>
    <ComplexSource>
      <SourceFilename relativeToVRT="1">copyAlbedo33/33-2-429-199-12_3857.vrt</SourceFilename>
      <SourceBand>1</SourceBand>
      <SourceProperties RasterXSize="21844" RasterYSize="17597" DataType="Byte" BlockXSize="512" BlockYSize="128" />
      <SrcRect xOff="0" yOff="0" xSize="21844" ySize="17597" />
      <DstRect xOff="81301.9267581165" yOff="12163.536733024" xSize="21848.4725308343" ySize="17600.6029630604" />
      <NODATA>0</NODATA>
    </ComplexSource>
    <ComplexSource>
      <SourceFilename relativeToVRT="1">copyAlbedo33/33-2-428-199-31_3857.vrt</SourceFilename>
      <SourceBand>1</SourceBand>
      <SourceProperties RasterXSize="21855" RasterYSize="17612" DataType="Byte" BlockXSize="512" BlockYSize="128" />
      <SrcRect xOff="0" yOff="0" xSize="21855" ySize="17612" />
      <DstRect xOff="43733.9639335833" yOff="32491.650811726" xSize="21848.0519094406" ySize="17606.4008340914" />
      <NODATA>0</NODATA>
    </ComplexSource>
    <ComplexSource>
      <SourceFilename relativeToVRT="1">copyAlbedo33/33-2-428-199-22_3857.vrt</SourceFilename>
      <SourceBand>1</SourceBand>
      <SourceProperties RasterXSize="21862" RasterYSize="17622" DataType="Byte" BlockXSize="512" BlockYSize="128" />
      <SrcRect xOff="0" yOff="0" xSize="21862" ySize="17622" />
      <DstRect xOff="21873.2097519082" yOff="20353.8616083402" xSize="21860.9845502894" ySize="17621.1814904949" />
      <NODATA>0</NODATA>
    </ComplexSource>
    <ComplexSource>
      <SourceFilename relativeToVRT="1">copyAlbedo33/33-2-428-199-23_3857.vrt</SourceFilename>
      <SourceBand>1</SourceBand>
      <SourceProperties RasterXSize="21863" RasterYSize="17623" DataType="Byte" BlockXSize="512" BlockYSize="128" />
      <SrcRect xOff="0" yOff="0" xSize="21863" ySize="17623" />
      <DstRect xOff="19810.5342232345" yOff="5473.83127384179" xSize="21869.7605373361" ySize="17628.4494328077" />
      <NODATA>0</NODATA>
    </ComplexSource>
    <ComplexSource>
      <SourceFilename relativeToVRT="1">copyAlbedo33/33-2-429-199-01_3857.vrt</SourceFilename>
      <SourceBand>1</SourceBand>
      <SourceProperties RasterXSize="21849" RasterYSize="17604" DataType="Byte" BlockXSize="512" BlockYSize="128" />
      <SrcRect xOff="0" yOff="0" xSize="21849" ySize="17604" />
      <DstRect xOff="63536.6608665291" yOff="29763.7453354955" xSize="21843.8813470862" ySize="17599.8758402721" />
      <NODATA>0</NODATA>
    </ComplexSource>
    <ComplexSource>
      <SourceFilename relativeToVRT="1">copyAlbedo33/33-2-428-199-21_3857.vrt</SourceFilename>
      <SourceBand>1</SourceBand>
      <SourceProperties RasterXSize="21861" RasterYSize="17621" DataType="Byte" BlockXSize="512" BlockYSize="128" />
      <SrcRect xOff="0" yOff="0" xSize="21861" ySize="17621" />
      <DstRect xOff="23934.218080599" yOff="35228.7401139188" xSize="21852.2154944027" ySize="17613.9192729916" />
      <NODATA>0</NODATA>
    </ComplexSource>
    <ComplexSource>
      <SourceFilename relativeToVRT="1">copyAlbedo33/33-2-428-199-12_3857.vrt</SourceFilename>
      <SourceBand>1</SourceBand>
      <SourceProperties RasterXSize="21868" RasterYSize="17630" DataType="Byte" BlockXSize="512" BlockYSize="128" />
      <SrcRect xOff="0" yOff="0" xSize="21868" ySize="17630" />
      <DstRect xOff="2069.55263053587" yOff="23102.3487399496" xSize="21865.1412534058" ySize="17627.6952760904" />
      <NODATA>0</NODATA>
    </ComplexSource>
    <ComplexSource>
      <SourceFilename relativeToVRT="1">copyAlbedo33/33-2-429-199-02_3857.vrt</SourceFilename>
      <SourceBand>1</SourceBand>
      <SourceProperties RasterXSize="21850" RasterYSize="17605" DataType="Byte" BlockXSize="512" BlockYSize="128" />
      <SrcRect xOff="0" yOff="0" xSize="21850" ySize="17605" />
      <DstRect xOff="61489.4062722902" yOff="14884.4511098268" xSize="21852.6501882563" ySize="17607.1353118651" />
      <NODATA>0</NODATA>
    </ComplexSource>
    <ComplexSource>
      <SourceFilename relativeToVRT="1">copyAlbedo33/33-2-429-199-11_3857.vrt</SourceFilename>
      <SourceBand>1</SourceBand>
      <SourceProperties RasterXSize="21844" RasterYSize="17596" DataType="Byte" BlockXSize="512" BlockYSize="128" />
      <SrcRect xOff="0" yOff="0" xSize="21843.9969139598" ySize="17596" />
      <DstRect xOff="83342.299428379" yOff="27045.028166686" xSize="21840.700571621" ySize="17593.3446965763" />
      <NODATA>0</NODATA>
    </ComplexSource>
    <ComplexSource>
      <SourceFilename relativeToVRT="1">copyAlbedo33/33-2-429-199-03_3857.vrt</SourceFilename>
      <SourceBand>1</SourceBand>
      <SourceProperties RasterXSize="21851" RasterYSize="17606" DataType="Byte" BlockXSize="512" BlockYSize="128" />
      <SrcRect xOff="0" yOff="0" xSize="21851" ySize="17606" />
      <DstRect xOff="59440.4951167403" yOff="0" xSize="21861.4259634175" ySize="17614.4005085318" />
      <NODATA>0</NODATA>
    </ComplexSource>
  </VRTRasterBand>
  <VRTRasterBand dataType="Byte" band="2">
    <NoDataValue>0</NoDataValue>
    <ColorInterp>Green</ColorInterp>
    <ComplexSource>
      <SourceFilename relativeToVRT="1">copyAlbedo33/33-2-428-199-32_3857.vrt</SourceFilename>
      <SourceBand>2</SourceBand>
      <SourceProperties RasterXSize="21856" RasterYSize="17614" DataType="Byte" BlockXSize="512" BlockYSize="128" />
      <SrcRect xOff="0" yOff="0" xSize="21856" ySize="17614" />
      <DstRect xOff="41679.8307831639" yOff="17614.560897699" xSize="21856.8208616562" ySize="17614.6615417831" />
      <NODATA>0</NODATA>
    </ComplexSource>
    <ComplexSource>
      <SourceFilename relativeToVRT="1">copyAlbedo33/33-2-428-199-13_3857.vrt</SourceFilename>
      <SourceBand>2</SourceBand>
      <SourceProperties RasterXSize="21868" RasterYSize="17632" DataType="Byte" BlockXSize="512" BlockYSize="128" />
      <SrcRect xOff="0" yOff="0" xSize="21868" ySize="17632" />
      <DstRect xOff="0" yOff="8224.53944289195" xSize="21872.9171104519" ySize="17635.964628292" />
      <NODATA>0</NODATA>
    </ComplexSource>
    <ComplexSource>
      <SourceFilename relativeToVRT="1">copyAlbedo33/33-2-428-199-11_3857.vrt</SourceFilename>
      <SourceBand>2</SourceBand>
      <SourceProperties RasterXSize="21867" RasterYSize="17629" DataType="Byte" BlockXSize="512" BlockYSize="128" />
      <SrcRect xOff="0" yOff="0" xSize="21867" ySize="17628.5591653209" />
      <DstRect xOff="4137.43274949123" yOff="37975.0087471151" xSize="21856.3721012885" ySize="17619.9912528849" />
      <NODATA>0</NODATA>
    </ComplexSource>
    <ComplexSource>
      <SourceFilename relativeToVRT="1">copyAlbedo33/33-2-428-199-33_3857.vrt</SourceFilename>
      <SourceBand>2</SourceBand>
      <SourceProperties RasterXSize="21857" RasterYSize="17615" DataType="Byte" BlockXSize="512" BlockYSize="128" />
      <SrcRect xOff="0" yOff="0" xSize="21857" ySize="17615" />
      <DstRect xOff="39624.0357495238" yOff="2732.31662332309" xSize="21865.5967464669" ySize="17621.9282924928" />
      <NODATA>0</NODATA>
    </ComplexSource>
    <ComplexSource>
      <SourceFilename relativeToVRT="1">copyAlbedo33/33-2-429-199-12_3857.vrt</SourceFilename>
      <SourceBand>2</SourceBand>
      <SourceProperties RasterXSize="21844" RasterYSize="17597" DataType="Byte" BlockXSize="512" BlockYSize="128" />
      <SrcRect xOff="0" yOff="0" xSize="21844" ySize="17597" />
      <DstRect xOff="81301.9267581165" yOff="12163.536733024" xSize="21848.4725308343" ySize="17600.6029630604" />
      <NODATA>0</NODATA>
    </ComplexSource>
    <ComplexSource>
      <SourceFilename relativeToVRT="1">copyAlbedo33/33-2-428-199-31_3857.vrt</SourceFilename>
      <SourceBand>2</SourceBand>
      <SourceProperties RasterXSize="21855" RasterYSize="17612" DataType="Byte" BlockXSize="512" BlockYSize="128" />
      <SrcRect xOff="0" yOff="0" xSize="21855" ySize="17612" />
      <DstRect xOff="43733.9639335833" yOff="32491.650811726" xSize="21848.0519094406" ySize="17606.4008340914" />
      <NODATA>0</NODATA>
    </ComplexSource>
    <ComplexSource>
      <SourceFilename relativeToVRT="1">copyAlbedo33/33-2-428-199-22_3857.vrt</SourceFilename>
      <SourceBand>2</SourceBand>
      <SourceProperties RasterXSize="21862" RasterYSize="17622" DataType="Byte" BlockXSize="512" BlockYSize="128" />
      <SrcRect xOff="0" yOff="0" xSize="21862" ySize="17622" />
      <DstRect xOff="21873.2097519082" yOff="20353.8616083402" xSize="21860.9845502894" ySize="17621.1814904949" />
      <NODATA>0</NODATA>
    </ComplexSource>
    <ComplexSource>
      <SourceFilename relativeToVRT="1">copyAlbedo33/33-2-428-199-23_3857.vrt</SourceFilename>
      <SourceBand>2</SourceBand>
      <SourceProperties RasterXSize="21863" RasterYSize="17623" DataType="Byte" BlockXSize="512" BlockYSize="128" />
      <SrcRect xOff="0" yOff="0" xSize="21863" ySize="17623" />
      <DstRect xOff="19810.5342232345" yOff="5473.83127384179" xSize="21869.7605373361" ySize="17628.4494328077" />
      <NODATA>0</NODATA>
    </ComplexSource>
    <ComplexSource>
      <SourceFilename relativeToVRT="1">copyAlbedo33/33-2-429-199-01_3857.vrt</SourceFilename>
      <SourceBand>2</SourceBand>
      <SourceProperties RasterXSize="21849" RasterYSize="17604" DataType="Byte" BlockXSize="512" BlockYSize="128" />
      <SrcRect xOff="0" yOff="0" xSize="21849" ySize="17604" />
      <DstRect xOff="63536.6608665291" yOff="29763.7453354955" xSize="21843.8813470862" ySize="17599.8758402721" />
      <NODATA>0</NODATA>
    </ComplexSource>
    <ComplexSource>
      <SourceFilename relativeToVRT="1">copyAlbedo33/33-2-428-199-21_3857.vrt</SourceFilename>
      <SourceBand>2</SourceBand>
      <SourceProperties RasterXSize="21861" RasterYSize="17621" DataType="Byte" BlockXSize="512" BlockYSize="128" />
      <SrcRect xOff="0" yOff="0" xSize="21861" ySize="17621" />
      <DstRect xOff="23934.218080599" yOff="35228.7401139188" xSize="21852.2154944027" ySize="17613.9192729916" />
      <NODATA>0</NODATA>
    </ComplexSource>
    <ComplexSource>
      <SourceFilename relativeToVRT="1">copyAlbedo33/33-2-428-199-12_3857.vrt</SourceFilename>
      <SourceBand>2</SourceBand>
      <SourceProperties RasterXSize="21868" RasterYSize="17630" DataType="Byte" BlockXSize="512" BlockYSize="128" />
      <SrcRect xOff="0" yOff="0" xSize="21868" ySize="17630" />
      <DstRect xOff="2069.55263053587" yOff="23102.3487399496" xSize="21865.1412534058" ySize="17627.6952760904" />
      <NODATA>0</NODATA>
    </ComplexSource>
    <ComplexSource>
      <SourceFilename relativeToVRT="1">copyAlbedo33/33-2-429-199-02_3857.vrt</SourceFilename>
      <SourceBand>2</SourceBand>
      <SourceProperties RasterXSize="21850" RasterYSize="17605" DataType="Byte" BlockXSize="512" BlockYSize="128" />
      <SrcRect xOff="0" yOff="0" xSize="21850" ySize="17605" />
      <DstRect xOff="61489.4062722902" yOff="14884.4511098268" xSize="21852.6501882563" ySize="17607.1353118651" />
      <NODATA>0</NODATA>
    </ComplexSource>
    <ComplexSource>
      <SourceFilename relativeToVRT="1">copyAlbedo33/33-2-429-199-11_3857.vrt</SourceFilename>
      <SourceBand>2</SourceBand>
      <SourceProperties RasterXSize="21844" RasterYSize="17596" DataType="Byte" BlockXSize="512" BlockYSize="128" />
      <SrcRect xOff="0" yOff="0" xSize="21843.9969139598" ySize="17596" />
      <DstRect xOff="83342.299428379" yOff="27045.028166686" xSize="21840.700571621" ySize="17593.3446965763" />
      <NODATA>0</NODATA>
    </ComplexSource>
    <ComplexSource>
      <SourceFilename relativeToVRT="1">copyAlbedo33/33-2-429-199-03_3857.vrt</SourceFilename>
      <SourceBand>2</SourceBand>
      <SourceProperties RasterXSize="21851" RasterYSize="17606" DataType="Byte" BlockXSize="512" BlockYSize="128" />
      <SrcRect xOff="0" yOff="0" xSize="21851" ySize="17606" />
      <DstRect xOff="59440.4951167403" yOff="0" xSize="21861.4259634175" ySize="17614.4005085318" />
      <NODATA>0</NODATA>
    </ComplexSource>
  </VRTRasterBand>
  <VRTRasterBand dataType="Byte" band="3">
    <NoDataValue>0</NoDataValue>
    <ColorInterp>Blue</ColorInterp>
    <ComplexSource>
      <SourceFilename relativeToVRT="1">copyAlbedo33/33-2-428-199-32_3857.vrt</SourceFilename>
      <SourceBand>3</SourceBand>
      <SourceProperties RasterXSize="21856" RasterYSize="17614" DataType="Byte" BlockXSize="512" BlockYSize="128" />
      <SrcRect xOff="0" yOff="0" xSize="21856" ySize="17614" />
      <DstRect xOff="41679.8307831639" yOff="17614.560897699" xSize="21856.8208616562" ySize="17614.6615417831" />
      <NODATA>0</NODATA>
    </ComplexSource>
    <ComplexSource>
      <SourceFilename relativeToVRT="1">copyAlbedo33/33-2-428-199-13_3857.vrt</SourceFilename>
      <SourceBand>3</SourceBand>
      <SourceProperties RasterXSize="21868" RasterYSize="17632" DataType="Byte" BlockXSize="512" BlockYSize="128" />
      <SrcRect xOff="0" yOff="0" xSize="21868" ySize="17632" />
      <DstRect xOff="0" yOff="8224.53944289195" xSize="21872.9171104519" ySize="17635.964628292" />
      <NODATA>0</NODATA>
    </ComplexSource>
    <ComplexSource>
      <SourceFilename relativeToVRT="1">copyAlbedo33/33-2-428-199-11_3857.vrt</SourceFilename>
      <SourceBand>3</SourceBand>
      <SourceProperties RasterXSize="21867" RasterYSize="17629" DataType="Byte" BlockXSize="512" BlockYSize="128" />
      <SrcRect xOff="0" yOff="0" xSize="21867" ySize="17628.5591653209" />
      <DstRect xOff="4137.43274949123" yOff="37975.0087471151" xSize="21856.3721012885" ySize="17619.9912528849" />
      <NODATA>0</NODATA>
    </ComplexSource>
    <ComplexSource>
      <SourceFilename relativeToVRT="1">copyAlbedo33/33-2-428-199-33_3857.vrt</SourceFilename>
      <SourceBand>3</SourceBand>
      <SourceProperties RasterXSize="21857" RasterYSize="17615" DataType="Byte" BlockXSize="512" BlockYSize="128" />
      <SrcRect xOff="0" yOff="0" xSize="21857" ySize="17615" />
      <DstRect xOff="39624.0357495238" yOff="2732.31662332309" xSize="21865.5967464669" ySize="17621.9282924928" />
      <NODATA>0</NODATA>
    </ComplexSource>
    <ComplexSource>
      <SourceFilename relativeToVRT="1">copyAlbedo33/33-2-429-199-12_3857.vrt</SourceFilename>
      <SourceBand>3</SourceBand>
      <SourceProperties RasterXSize="21844" RasterYSize="17597" DataType="Byte" BlockXSize="512" BlockYSize="128" />
      <SrcRect xOff="0" yOff="0" xSize="21844" ySize="17597" />
      <DstRect xOff="81301.9267581165" yOff="12163.536733024" xSize="21848.4725308343" ySize="17600.6029630604" />
      <NODATA>0</NODATA>
    </ComplexSource>
    <ComplexSource>
      <SourceFilename relativeToVRT="1">copyAlbedo33/33-2-428-199-31_3857.vrt</SourceFilename>
      <SourceBand>3</SourceBand>
      <SourceProperties RasterXSize="21855" RasterYSize="17612" DataType="Byte" BlockXSize="512" BlockYSize="128" />
      <SrcRect xOff="0" yOff="0" xSize="21855" ySize="17612" />
      <DstRect xOff="43733.9639335833" yOff="32491.650811726" xSize="21848.0519094406" ySize="17606.4008340914" />
      <NODATA>0</NODATA>
    </ComplexSource>
    <ComplexSource>
      <SourceFilename relativeToVRT="1">copyAlbedo33/33-2-428-199-22_3857.vrt</SourceFilename>
      <SourceBand>3</SourceBand>
      <SourceProperties RasterXSize="21862" RasterYSize="17622" DataType="Byte" BlockXSize="512" BlockYSize="128" />
      <SrcRect xOff="0" yOff="0" xSize="21862" ySize="17622" />
      <DstRect xOff="21873.2097519082" yOff="20353.8616083402" xSize="21860.9845502894" ySize="17621.1814904949" />
      <NODATA>0</NODATA>
    </ComplexSource>
    <ComplexSource>
      <SourceFilename relativeToVRT="1">copyAlbedo33/33-2-428-199-23_3857.vrt</SourceFilename>
      <SourceBand>3</SourceBand>
      <SourceProperties RasterXSize="21863" RasterYSize="17623" DataType="Byte" BlockXSize="512" BlockYSize="128" />
      <SrcRect xOff="0" yOff="0" xSize="21863" ySize="17623" />
      <DstRect xOff="19810.5342232345" yOff="5473.83127384179" xSize="21869.7605373361" ySize="17628.4494328077" />
      <NODATA>0</NODATA>
    </ComplexSource>
    <ComplexSource>
      <SourceFilename relativeToVRT="1">copyAlbedo33/33-2-429-199-01_3857.vrt</SourceFilename>
      <SourceBand>3</SourceBand>
      <SourceProperties RasterXSize="21849" RasterYSize="17604" DataType="Byte" BlockXSize="512" BlockYSize="128" />
      <SrcRect xOff="0" yOff="0" xSize="21849" ySize="17604" />
      <DstRect xOff="63536.6608665291" yOff="29763.7453354955" xSize="21843.8813470862" ySize="17599.8758402721" />
      <NODATA>0</NODATA>
    </ComplexSource>
    <ComplexSource>
      <SourceFilename relativeToVRT="1">copyAlbedo33/33-2-428-199-21_3857.vrt</SourceFilename>
      <SourceBand>3</SourceBand>
      <SourceProperties RasterXSize="21861" RasterYSize="17621" DataType="Byte" BlockXSize="512" BlockYSize="128" />
      <SrcRect xOff="0" yOff="0" xSize="21861" ySize="17621" />
      <DstRect xOff="23934.218080599" yOff="35228.7401139188" xSize="21852.2154944027" ySize="17613.9192729916" />
      <NODATA>0</NODATA>
    </ComplexSource>
    <ComplexSource>
      <SourceFilename relativeToVRT="1">copyAlbedo33/33-2-428-199-12_3857.vrt</SourceFilename>
      <SourceBand>3</SourceBand>
      <SourceProperties RasterXSize="21868" RasterYSize="17630" DataType="Byte" BlockXSize="512" BlockYSize="128" />
      <SrcRect xOff="0" yOff="0" xSize="21868" ySize="17630" />
      <DstRect xOff="2069.55263053587" yOff="23102.3487399496" xSize="21865.1412534058" ySize="17627.6952760904" />
      <NODATA>0</NODATA>
    </ComplexSource>
    <ComplexSource>
      <SourceFilename relativeToVRT="1">copyAlbedo33/33-2-429-199-02_3857.vrt</SourceFilename>
      <SourceBand>3</SourceBand>
      <SourceProperties RasterXSize="21850" RasterYSize="17605" DataType="Byte" BlockXSize="512" BlockYSize="128" />
      <SrcRect xOff="0" yOff="0" xSize="21850" ySize="17605" />
      <DstRect xOff="61489.4062722902" yOff="14884.4511098268" xSize="21852.6501882563" ySize="17607.1353118651" />
      <NODATA>0</NODATA>
    </ComplexSource>
    <ComplexSource>
      <SourceFilename relativeToVRT="1">copyAlbedo33/33-2-429-199-11_3857.vrt</SourceFilename>
      <SourceBand>3</SourceBand>
      <SourceProperties RasterXSize="21844" RasterYSize="17596" DataType="Byte" BlockXSize="512" BlockYSize="128" />
      <SrcRect xOff="0" yOff="0" xSize="21843.9969139598" ySize="17596" />
      <DstRect xOff="83342.299428379" yOff="27045.028166686" xSize="21840.700571621" ySize="17593.3446965763" />
      <NODATA>0</NODATA>
    </ComplexSource>
    <ComplexSource>
      <SourceFilename relativeToVRT="1">copyAlbedo33/33-2-429-199-03_3857.vrt</SourceFilename>
      <SourceBand>3</SourceBand>
      <SourceProperties RasterXSize="21851" RasterYSize="17606" DataType="Byte" BlockXSize="512" BlockYSize="128" />
      <SrcRect xOff="0" yOff="0" xSize="21851" ySize="17606" />
      <DstRect xOff="59440.4951167403" yOff="0" xSize="21861.4259634175" ySize="17614.4005085318" />
      <NODATA>0</NODATA>
    </ComplexSource>
  </VRTRasterBand>
</VRTDataset>
