<VRTDataset rasterXSize="21696" rasterYSize="21727" subClass="VRTWarpedDataset">
  <SRS dataAxisToSRSAxisMapping="1,2">PROJCS["WGS 84 / Pseudo-Mercator",GEOGCS["WGS 84",DATUM["WGS_1984",SPHEROID["WGS 84",6378137,298.257223563,AUTHORITY["EPSG","7030"]],AUTHORITY["EPSG","6326"]],PRIMEM["Greenwich",0,AUTHORITY["EPSG","8901"]],UNIT["degree",0.0174532925199433,AUTHORITY["EPSG","9122"]],AUTHORITY["EPSG","4326"]],PROJECTION["Mercator_1SP"],PARAMETER["central_meridian",0],PARAMETER["scale_factor",1],PARAMETER["false_easting",0],PARAMETER["false_northing",0],UNIT["metre",1,AUTHORITY["EPSG","9001"]],AXIS["Easting",EAST],AXIS["Northing",NORTH],EXTENSION["PROJ4","+proj=merc +a=6378137 +b=6378137 +lat_ts=0 +lon_0=0 +x_0=0 +y_0=0 +k=1 +units=m +nadgrids=@null +wktext +no_defs"],AUTHORITY["EPSG","3857"]]</SRS>
  <GeoTransform>  1.0204253010475744e+06,  5.3980202867524307e-01,  0.0000000000000000e+00,  8.9826881556923967e+06,  0.0000000000000000e+00, -5.3980202867524307e-01</GeoTransform>
  <Metadata>
    <MDI key="AREA_OR_POINT">Area</MDI>
    <MDI key="BandDefinitionKeyword">NONE</MDI>
    <MDI key="BlendWidthUnits">1</MDI>
    <MDI key="DataType">Processed</MDI>
  </Metadata>
  <Metadata domain="IMAGE_STRUCTURE">
    <MDI key="INTERLEAVE">PIXEL</MDI>
  </Metadata>
  <VRTRasterBand dataType="Byte" band="1" subClass="VRTWarpedRasterBand">
    <Metadata>
      <MDI key="RepresentationType">ATHEMATIC</MDI>
    </Metadata>
    <NoDataValue>0</NoDataValue>
    <ColorInterp>Red</ColorInterp>
  </VRTRasterBand>
  <VRTRasterBand dataType="Byte" band="2" subClass="VRTWarpedRasterBand">
    <Metadata>
      <MDI key="RepresentationType">ATHEMATIC</MDI>
    </Metadata>
    <NoDataValue>0</NoDataValue>
    <ColorInterp>Green</ColorInterp>
  </VRTRasterBand>
  <VRTRasterBand dataType="Byte" band="3" subClass="VRTWarpedRasterBand">
    <Metadata>
      <MDI key="RepresentationType">ATHEMATIC</MDI>
    </Metadata>
    <NoDataValue>0</NoDataValue>
    <ColorInterp>Blue</ColorInterp>
  </VRTRasterBand>
  <BlockXSize>512</BlockXSize>
  <BlockYSize>128</BlockYSize>
  <GDALWarpOptions>
    <WarpMemoryLimit>6.71089e+07</WarpMemoryLimit>
    <ResampleAlg>NearestNeighbour</ResampleAlg>
    <WorkingDataType>Byte</WorkingDataType>
    <Option name="INIT_DEST">NO_DATA</Option>
    <Option name="ERROR_OUT_IF_EMPTY_SOURCE_WINDOW">FALSE</Option>
    <SourceDataset relativeToVRT="0">/home/01_ORIGINAL/world/norway/moreAndRomsal/albedo/Eksport-nib-475.tif</SourceDataset>
    <Transformer>
      <ApproxTransformer>
        <MaxError>0.125</MaxError>
        <BaseTransformer>
          <GenImgProjTransformer>
            <SrcGeoTransform>199908.00009999983,0.25,0,6944853.00010000169,0,-0.25</SrcGeoTransform>
            <SrcInvGeoTransform>-799632.000399999321,4,0,27779412.0004000068,0,-4</SrcInvGeoTransform>
            <DstGeoTransform>1020425.30104757438,0.539802028675243073,0,8982688.15569239669,0,-0.539802028675243073</DstGeoTransform>
            <DstInvGeoTransform>-1890369.51852858812,1.85253101485030225,0,16640708.4051486254,0,-1.85253101485030225</DstInvGeoTransform>
            <ReprojectTransformer>
              <ReprojectionTransformer>
                <SourceSRS>PROJCS["ETRS_1989_UTM_Zone_33N",GEOGCS["GCS_ETRS_1989",DATUM["IRENET95",SPHEROID["GRS_1980",6378137,298.257222101]],PRIMEM["Greenwich",0],UNIT["degree",0.0174532925199433,AUTHORITY["EPSG","9122"]]],PROJECTION["Transverse_Mercator"],PARAMETER["latitude_of_origin",0],PARAMETER["central_meridian",15],PARAMETER["scale_factor",0.9996],PARAMETER["false_easting",500000],PARAMETER["false_northing",0],UNIT["metre",1,AUTHORITY["EPSG","9001"]],AXIS["Easting",EAST],AXIS["Northing",NORTH]]</SourceSRS>
                <TargetSRS>PROJCS["WGS 84 / Pseudo-Mercator",GEOGCS["WGS 84",DATUM["WGS_1984",SPHEROID["WGS 84",6378137,298.257223563,AUTHORITY["EPSG","7030"]],AUTHORITY["EPSG","6326"]],PRIMEM["Greenwich",0,AUTHORITY["EPSG","8901"]],UNIT["degree",0.0174532925199433,AUTHORITY["EPSG","9122"]],AUTHORITY["EPSG","4326"]],PROJECTION["Mercator_1SP"],PARAMETER["central_meridian",0],PARAMETER["scale_factor",1],PARAMETER["false_easting",0],PARAMETER["false_northing",0],UNIT["metre",1,AUTHORITY["EPSG","9001"]],AXIS["Easting",EAST],AXIS["Northing",NORTH],EXTENSION["PROJ4","+proj=merc +a=6378137 +b=6378137 +lat_ts=0 +lon_0=0 +x_0=0 +y_0=0 +k=1 +units=m +nadgrids=@null +wktext +no_defs"],AUTHORITY["EPSG","3857"]]</TargetSRS>
                <Options>
                  <Option key="AREA_OF_INTEREST">9.166636442332999,62.46793412265458,9.27184150230368,62.51659483206564</Option>
                </Options>
              </ReprojectionTransformer>
            </ReprojectTransformer>
          </GenImgProjTransformer>
        </BaseTransformer>
      </ApproxTransformer>
    </Transformer>
    <BandList>
      <BandMapping src="1" dst="1">
        <SrcNoDataReal>0</SrcNoDataReal>
        <SrcNoDataImag>0</SrcNoDataImag>
        <DstNoDataReal>0</DstNoDataReal>
        <DstNoDataImag>0</DstNoDataImag>
      </BandMapping>
      <BandMapping src="2" dst="2">
        <SrcNoDataReal>0</SrcNoDataReal>
        <SrcNoDataImag>0</SrcNoDataImag>
        <DstNoDataReal>0</DstNoDataReal>
        <DstNoDataImag>0</DstNoDataImag>
      </BandMapping>
      <BandMapping src="3" dst="3">
        <SrcNoDataReal>0</SrcNoDataReal>
        <SrcNoDataImag>0</SrcNoDataImag>
        <DstNoDataReal>0</DstNoDataReal>
        <DstNoDataImag>0</DstNoDataImag>
      </BandMapping>
    </BandList>
  </GDALWarpOptions>
</VRTDataset>
