<VRTDataset rasterXSize="738" rasterYSize="977" subClass="VRTWarpedDataset">
  <SRS dataAxisToSRSAxisMapping="1,2">PROJCS["WGS 84 / Pseudo-Mercator",GEOGCS["WGS 84",DATUM["WGS_1984",SPHEROID["WGS 84",6378137,298.257223563,AUTHORITY["EPSG","7030"]],AUTHORITY["EPSG","6326"]],PRIMEM["Greenwich",0,AUTHORITY["EPSG","8901"]],UNIT["degree",0.0174532925199433,AUTHORITY["EPSG","9122"]],AUTHORITY["EPSG","4326"]],PROJECTION["Mercator_1SP"],PARAMETER["central_meridian",0],PARAMETER["scale_factor",1],PARAMETER["false_easting",0],PARAMETER["false_northing",0],UNIT["metre",1,AUTHORITY["EPSG","9001"]],AXIS["Easting",EAST],AXIS["Northing",NORTH],EXTENSION["PROJ4","+proj=merc +a=6378137 +b=6378137 +lat_ts=0 +lon_0=0 +x_0=0 +y_0=0 +k=1 +units=m +nadgrids=@null +wktext +no_defs"],AUTHORITY["EPSG","3857"]]</SRS>
  <GeoTransform>  2.0037337430236731e+06,  3.1802349859939710e+01,  0.0000000000000000e+00,  1.6214994273624869e+07,  0.0000000000000000e+00, -3.1802349859939710e+01</GeoTransform>
  <Metadata>
    <MDI key="AREA_OR_POINT">Area</MDI>
  </Metadata>
  <VRTRasterBand dataType="Float64" band="1" subClass="VRTWarpedRasterBand">
    <NoDataValue>0</NoDataValue>
    <ColorInterp>Gray</ColorInterp>
  </VRTRasterBand>
  <BlockXSize>512</BlockXSize>
  <BlockYSize>128</BlockYSize>
  <GDALWarpOptions>
    <WarpMemoryLimit>6.71089e+07</WarpMemoryLimit>
    <ResampleAlg>NearestNeighbour</ResampleAlg>
    <WorkingDataType>Float64</WorkingDataType>
    <Option name="INIT_DEST">NO_DATA</Option>
    <Option name="ERROR_OUT_IF_EMPTY_SOURCE_WINDOW">FALSE</Option>
    <SourceDataset relativeToVRT="1">R028C009.tif</SourceDataset>
    <Transformer>
      <ApproxTransformer>
        <MaxError>0.125</MaxError>
        <BaseTransformer>
          <GenImgProjTransformer>
            <SrcGeoTransform>552600.822986244108,5,0,8994758.21314955689,0,-5</SrcGeoTransform>
            <SrcInvGeoTransform>-110520.164597248819,0.200000000000000011,0,1798951.64262991142,0,-0.200000000000000011</SrcInvGeoTransform>
            <DstGeoTransform>2003733.74302367307,31.8023498599397101,0,16214994.2736248691,0,-31.8023498599397101</DstGeoTransform>
            <DstInvGeoTransform>-63005.8392492469648,0.0314442173111133677,0,509867.803638319252,0,-0.0314442173111133677</DstInvGeoTransform>
            <ReprojectTransformer>
              <ReprojectionTransformer>
                <SourceSRS>PROJCS["ETRS89 / UTM zone 33N",GEOGCS["ETRS89",DATUM["European_Terrestrial_Reference_System_1989",SPHEROID["GRS 1980",6378137,298.257222101,AUTHORITY["EPSG","7019"]],AUTHORITY["EPSG","6258"]],PRIMEM["Greenwich",0,AUTHORITY["EPSG","8901"]],UNIT["degree",0.0174532925199433,AUTHORITY["EPSG","9122"]],AUTHORITY["EPSG","4258"]],PROJECTION["Transverse_Mercator"],PARAMETER["latitude_of_origin",0],PARAMETER["central_meridian",15],PARAMETER["scale_factor",0.9996],PARAMETER["false_easting",500000],PARAMETER["false_northing",0],UNIT["metre",1,AUTHORITY["EPSG","9001"]],AXIS["Easting",EAST],AXIS["Northing",NORTH],AUTHORITY["EPSG","25833"]]</SourceSRS>
                <TargetSRS>PROJCS["WGS 84 / Pseudo-Mercator",GEOGCS["WGS 84",DATUM["WGS_1984",SPHEROID["WGS 84",6378137,298.257223563,AUTHORITY["EPSG","7030"]],AUTHORITY["EPSG","6326"]],PRIMEM["Greenwich",0,AUTHORITY["EPSG","8901"]],UNIT["degree",0.0174532925199433,AUTHORITY["EPSG","9122"]],AUTHORITY["EPSG","4326"]],PROJECTION["Mercator_1SP"],PARAMETER["central_meridian",0],PARAMETER["scale_factor",1],PARAMETER["false_easting",0],PARAMETER["false_northing",0],UNIT["metre",1,AUTHORITY["EPSG","9001"]],AXIS["Easting",EAST],AXIS["Northing",NORTH],EXTENSION["PROJ4","+proj=merc +a=6378137 +b=6378137 +lat_ts=0 +lon_0=0 +x_0=0 +y_0=0 +k=1 +units=m +nadgrids=@null +wktext +no_defs"],AUTHORITY["EPSG","3857"]]</TargetSRS>
                <Options>
                  <Option key="AREA_OF_INTEREST">17.99984646664183,80.95793611468241,18.21076006867158,81.00167662736818</Option>
                </Options>
              </ReprojectionTransformer>
            </ReprojectTransformer>
          </GenImgProjTransformer>
        </BaseTransformer>
      </ApproxTransformer>
    </Transformer>
    <BandList>
      <BandMapping src="1" dst="1">
        <SrcNoDataReal>0</SrcNoDataReal>
        <SrcNoDataImag>0</SrcNoDataImag>
        <DstNoDataReal>0</DstNoDataReal>
        <DstNoDataImag>0</DstNoDataImag>
      </BandMapping>
    </BandList>
  </GDALWarpOptions>
</VRTDataset>
