<VRTDataset rasterXSize="119346" rasterYSize="149718">
  <SRS dataAxisToSRSAxisMapping="1,2">PROJCS["WGS 84 / Pseudo-Mercator",GEOGCS["WGS 84",DATUM["WGS_1984",SPHEROID["WGS 84",6378137,298.257223563,AUTHORITY["EPSG","7030"]],AUTHORITY["EPSG","6326"]],PRIMEM["Greenwich",0,AUTHORITY["EPSG","8901"]],UNIT["degree",0.0174532925199433,AUTHORITY["EPSG","9122"]],AUTHORITY["EPSG","4326"]],PROJECTION["Mercator_1SP"],PARAMETER["central_meridian",0],PARAMETER["scale_factor",1],PARAMETER["false_easting",0],PARAMETER["false_northing",0],UNIT["metre",1,AUTHORITY["EPSG","9001"]],AXIS["Easting",EAST],AXIS["Northing",NORTH],EXTENSION["PROJ4","+proj=merc +a=6378137 +b=6378137 +lat_ts=0 +lon_0=0 +x_0=0 +y_0=0 +k=1 +units=m +nadgrids=@null +wktext +no_defs"],AUTHORITY["EPSG","3857"]]</SRS>
  <GeoTransform> -1.2286691314295551e+05,  1.0574793103448277e+01,  0.0000000000000000e+00,  7.9860209895018442e+06,  0.0000000000000000e+00, -1.0574793103448277e+01</GeoTransform>
  <VRTRasterBand dataType="Byte" band="1">
    <NoDataValue>0</NoDataValue>
    <ColorInterp>Red</ColorInterp>
    <ComplexSource>
      <SourceFilename relativeToVRT="1">albedoTms/S2_RGB_4_3857.vrt</SourceFilename>
      <SourceBand>1</SourceBand>
      <SourceProperties RasterXSize="2287" RasterYSize="10000" DataType="Byte" BlockXSize="512" BlockYSize="128" />
      <SrcRect xOff="0" yOff="0" xSize="2287" ySize="10000" />
      <DstRect xOff="0" yOff="131068.285350003" xSize="2162.69006648862" ySize="9456.44978788205" />
      <NODATA>0</NODATA>
    </ComplexSource>
    <ComplexSource>
      <SourceFilename relativeToVRT="1">albedoTms/S2_RGB_68_3857.vrt</SourceFilename>
      <SourceBand>1</SourceBand>
      <SourceProperties RasterXSize="10001" RasterYSize="10000" DataType="Byte" BlockXSize="512" BlockYSize="128" />
      <SrcRect xOff="0" yOff="0" xSize="10001" ySize="10000" />
      <DstRect xOff="77813.3427245662" yOff="17590.8878954183" xSize="9457.39543286084" ySize="9456.44978788205" />
      <NODATA>0</NODATA>
    </ComplexSource>
    <ComplexSource>
      <SourceFilename relativeToVRT="1">albedoTms/S2_L1C_7_3857.vrt</SourceFilename>
      <SourceBand>1</SourceBand>
      <SourceProperties RasterXSize="10000" RasterYSize="10000" DataType="Byte" BlockXSize="512" BlockYSize="128" />
      <SrcRect xOff="0" yOff="0" xSize="10000" ySize="10000" />
      <DstRect xOff="21075.2392041078" yOff="131068.443706271" xSize="9456.44978788205" ySize="9456.44978788205" />
      <NODATA>0</NODATA>
    </ComplexSource>
    <ComplexSource>
      <SourceFilename relativeToVRT="1">albedoTms/S2_RGB_14_3857.vrt</SourceFilename>
      <SourceBand>1</SourceBand>
      <SourceProperties RasterXSize="10001" RasterYSize="10000" DataType="Byte" BlockXSize="512" BlockYSize="128" />
      <SrcRect xOff="0" yOff="0" xSize="10001" ySize="10000" />
      <DstRect xOff="30531.093785156" yOff="121611.835562121" xSize="9457.39543286084" ySize="9456.44978788205" />
      <NODATA>0</NODATA>
    </ComplexSource>
    <ComplexSource>
      <SourceFilename relativeToVRT="1">albedoTms/S2_RGB_42_3857.vrt</SourceFilename>
      <SourceBand>1</SourceBand>
      <SourceProperties RasterXSize="10001" RasterYSize="10000" DataType="Byte" BlockXSize="512" BlockYSize="128" />
      <SrcRect xOff="0" yOff="0" xSize="10001" ySize="10000" />
      <DstRect xOff="49443.9933609201" yOff="74329.5866227106" xSize="9457.39543286084" ySize="9456.44978788205" />
      <NODATA>0</NODATA>
    </ComplexSource>
    <ComplexSource>
      <SourceFilename relativeToVRT="1">albedoTms/S2_RGB_9_2000_3857.vrt</SourceFilename>
      <SourceBand>1</SourceBand>
      <SourceProperties RasterXSize="2000" RasterYSize="2000" DataType="Byte" BlockXSize="512" BlockYSize="128" />
      <SrcRect xOff="0" yOff="0" xSize="2000" ySize="2000" />
      <DstRect xOff="39987.5435730381" yOff="131068.285350003" xSize="9457.39543286084" ySize="9457.39543286084" />
      <NODATA>0</NODATA>
    </ComplexSource>
    <ComplexSource>
      <SourceFilename relativeToVRT="1">albedoTms/S2_RGB_6_3857.vrt</SourceFilename>
      <SourceBand>1</SourceBand>
      <SourceProperties RasterXSize="10001" RasterYSize="10000" DataType="Byte" BlockXSize="512" BlockYSize="128" />
      <SrcRect xOff="0" yOff="0" xSize="10001" ySize="10000" />
      <DstRect xOff="11618.1942093919" yOff="131068.285350003" xSize="9457.39543286084" ySize="9456.44978788205" />
      <NODATA>0</NODATA>
    </ComplexSource>
    <ComplexSource>
      <SourceFilename relativeToVRT="1">albedoTms/S2_RGB_22_3857.vrt</SourceFilename>
      <SourceBand>1</SourceBand>
      <SourceProperties RasterXSize="2287" RasterYSize="10000" DataType="Byte" BlockXSize="512" BlockYSize="128" />
      <SrcRect xOff="0" yOff="0" xSize="2287" ySize="10000" />
      <DstRect xOff="0" yOff="102698.935986357" xSize="2162.69006648862" ySize="9456.44978788205" />
      <NODATA>0</NODATA>
    </ComplexSource>
    <ComplexSource>
      <SourceFilename relativeToVRT="1">albedoTms/S2_RGB_75_3857.vrt</SourceFilename>
      <SourceBand>1</SourceBand>
      <SourceProperties RasterXSize="10001" RasterYSize="10000" DataType="Byte" BlockXSize="512" BlockYSize="128" />
      <SrcRect xOff="0" yOff="0" xSize="10001" ySize="10000" />
      <DstRect xOff="77813.3427245662" yOff="8134.43810753623" xSize="9457.39543286084" ySize="9456.44978788205" />
      <NODATA>0</NODATA>
    </ComplexSource>
    <ComplexSource>
      <SourceFilename relativeToVRT="1">albedoTms/S2_RGB_1_3857.vrt</SourceFilename>
      <SourceBand>1</SourceBand>
      <SourceProperties RasterXSize="10001" RasterYSize="9722" DataType="Byte" BlockXSize="512" BlockYSize="128" />
      <SrcRect xOff="0" yOff="0" xSize="10001" ySize="9721.68738620683" />
      <DstRect xOff="11618.1942093919" yOff="140524.735137885" xSize="9457.39543286084" ySize="9193.26486211512" />
      <NODATA>0</NODATA>
    </ComplexSource>
    <ComplexSource>
      <SourceFilename relativeToVRT="1">albedoTms/S2_RGB_36_3857.vrt</SourceFilename>
      <SourceBand>1</SourceBand>
      <SourceProperties RasterXSize="10001" RasterYSize="10000" DataType="Byte" BlockXSize="512" BlockYSize="128" />
      <SrcRect xOff="0" yOff="0" xSize="10001" ySize="10000" />
      <DstRect xOff="30531.093785156" yOff="83786.0364105926" xSize="9457.39543286084" ySize="9456.44978788205" />
      <NODATA>0</NODATA>
    </ComplexSource>
    <ComplexSource>
      <SourceFilename relativeToVRT="1">albedoTms/S2_RGB_50_3857.vrt</SourceFilename>
      <SourceBand>1</SourceBand>
      <SourceProperties RasterXSize="10001" RasterYSize="10000" DataType="Byte" BlockXSize="512" BlockYSize="128" />
      <SrcRect xOff="0" yOff="0" xSize="10001" ySize="10000" />
      <DstRect xOff="39987.543573038" yOff="45960.2372590644" xSize="9457.39543286084" ySize="9456.44978788205" />
      <NODATA>0</NODATA>
    </ComplexSource>
    <ComplexSource>
      <SourceFilename relativeToVRT="1">albedoTms/S2_RGB_66_3857.vrt</SourceFilename>
      <SourceBand>1</SourceBand>
      <SourceProperties RasterXSize="10001" RasterYSize="10000" DataType="Byte" BlockXSize="512" BlockYSize="128" />
      <SrcRect xOff="0" yOff="0" xSize="10001" ySize="10000" />
      <DstRect xOff="58900.4431488021" yOff="17590.8878954183" xSize="9457.39543286083" ySize="9456.44978788205" />
      <NODATA>0</NODATA>
    </ComplexSource>
    <ComplexSource>
      <SourceFilename relativeToVRT="1">albedoTms/S2_RGB_73_3857.vrt</SourceFilename>
      <SourceBand>1</SourceBand>
      <SourceProperties RasterXSize="10001" RasterYSize="10000" DataType="Byte" BlockXSize="512" BlockYSize="128" />
      <SrcRect xOff="0" yOff="0" xSize="10001" ySize="10000" />
      <DstRect xOff="58900.4431488021" yOff="8134.43810753631" xSize="9457.39543286083" ySize="9456.44978788205" />
      <NODATA>0</NODATA>
    </ComplexSource>
    <ComplexSource>
      <SourceFilename relativeToVRT="1">albedoTms/S2_RGB_21_3857.vrt</SourceFilename>
      <SourceBand>1</SourceBand>
      <SourceProperties RasterXSize="10001" RasterYSize="10000" DataType="Byte" BlockXSize="512" BlockYSize="128" />
      <SrcRect xOff="0" yOff="0" xSize="10001" ySize="10000" />
      <DstRect xOff="39987.543573038" yOff="112155.385774239" xSize="9457.39543286084" ySize="9456.44978788205" />
      <NODATA>0</NODATA>
    </ComplexSource>
    <ComplexSource>
      <SourceFilename relativeToVRT="1">albedoTms/S2_RGB_79_3857.vrt</SourceFilename>
      <SourceBand>1</SourceBand>
      <SourceProperties RasterXSize="3920" RasterYSize="10000" DataType="Byte" BlockXSize="512" BlockYSize="128" />
      <SrcRect xOff="0" yOff="0" xSize="3919.92577241381" ySize="10000" />
      <DstRect xOff="115639.141876094" yOff="8134.43810753623" xSize="3706.85812390559" ySize="9456.44978788205" />
      <NODATA>0</NODATA>
    </ComplexSource>
    <ComplexSource>
      <SourceFilename relativeToVRT="1">albedoTms/S2_RGB_47_3857.vrt</SourceFilename>
      <SourceBand>1</SourceBand>
      <SourceProperties RasterXSize="10001" RasterYSize="10000" DataType="Byte" BlockXSize="512" BlockYSize="128" />
      <SrcRect xOff="0" yOff="0" xSize="10001" ySize="10000" />
      <DstRect xOff="39987.543573038" yOff="55416.6870469465" xSize="9457.39543286084" ySize="9456.44978788205" />
      <NODATA>0</NODATA>
    </ComplexSource>
    <ComplexSource>
      <SourceFilename relativeToVRT="1">albedoTms/S2_RGB_11_3857.vrt</SourceFilename>
      <SourceBand>1</SourceBand>
      <SourceProperties RasterXSize="10001" RasterYSize="10000" DataType="Byte" BlockXSize="512" BlockYSize="128" />
      <SrcRect xOff="0" yOff="0" xSize="10001" ySize="10000" />
      <DstRect xOff="2161.74442150985" yOff="121611.835562121" xSize="9457.39543286084" ySize="9456.44978788205" />
      <NODATA>0</NODATA>
    </ComplexSource>
    <ComplexSource>
      <SourceFilename relativeToVRT="1">albedoTms/S2_RGB_34_3857.vrt</SourceFilename>
      <SourceBand>1</SourceBand>
      <SourceProperties RasterXSize="10001" RasterYSize="10000" DataType="Byte" BlockXSize="512" BlockYSize="128" />
      <SrcRect xOff="0" yOff="0" xSize="10001" ySize="10000" />
      <DstRect xOff="11618.1942093919" yOff="83786.0364105927" xSize="9457.39543286084" ySize="9456.44978788205" />
      <NODATA>0</NODATA>
    </ComplexSource>
    <ComplexSource>
      <SourceFilename relativeToVRT="1">albedoTms/S2_RGB_82_3857.vrt</SourceFilename>
      <SourceBand>1</SourceBand>
      <SourceProperties RasterXSize="10001" RasterYSize="8602" DataType="Byte" BlockXSize="512" BlockYSize="128" />
      <SrcRect xOff="0" yOff="0" xSize="10001" ySize="8602" />
      <DstRect xOff="96726.2423003303" yOff="0" xSize="9457.39543286084" ySize="8134.43810753614" />
      <NODATA>0</NODATA>
    </ComplexSource>
    <ComplexSource>
      <SourceFilename relativeToVRT="1">albedoTms/S2_RGB_5_3857.vrt</SourceFilename>
      <SourceBand>1</SourceBand>
      <SourceProperties RasterXSize="10001" RasterYSize="10000" DataType="Byte" BlockXSize="512" BlockYSize="128" />
      <SrcRect xOff="0" yOff="0" xSize="10001" ySize="10000" />
      <DstRect xOff="2161.74442150986" yOff="131068.285350003" xSize="9457.39543286084" ySize="9456.44978788205" />
      <NODATA>0</NODATA>
    </ComplexSource>
    <ComplexSource>
      <SourceFilename relativeToVRT="1">albedoTms/S2_RGB_81_3857.vrt</SourceFilename>
      <SourceBand>1</SourceBand>
      <SourceProperties RasterXSize="10001" RasterYSize="8602" DataType="Byte" BlockXSize="512" BlockYSize="128" />
      <SrcRect xOff="0" yOff="0" xSize="10001" ySize="8602" />
      <DstRect xOff="87269.7925124483" yOff="0" xSize="9457.39543286084" ySize="8134.43810753614" />
      <NODATA>0</NODATA>
    </ComplexSource>
    <ComplexSource>
      <SourceFilename relativeToVRT="1">albedoTms/S2_RGB_17_3857.vrt</SourceFilename>
      <SourceBand>1</SourceBand>
      <SourceProperties RasterXSize="10001" RasterYSize="10000" DataType="Byte" BlockXSize="512" BlockYSize="128" />
      <SrcRect xOff="0" yOff="0" xSize="10001" ySize="10000" />
      <DstRect xOff="2161.74442150985" yOff="112155.385774239" xSize="9457.39543286084" ySize="9456.44978788205" />
      <NODATA>0</NODATA>
    </ComplexSource>
    <ComplexSource>
      <SourceFilename relativeToVRT="1">albedoTms/S2_RGB_77_3857.vrt</SourceFilename>
      <SourceBand>1</SourceBand>
      <SourceProperties RasterXSize="10001" RasterYSize="10000" DataType="Byte" BlockXSize="512" BlockYSize="128" />
      <SrcRect xOff="0" yOff="0" xSize="10001" ySize="10000" />
      <DstRect xOff="96726.2423003303" yOff="8134.43810753623" xSize="9457.39543286084" ySize="9456.44978788205" />
      <NODATA>0</NODATA>
    </ComplexSource>
    <ComplexSource>
      <SourceFilename relativeToVRT="1">albedoTms/S2_RGB_65_3857.vrt</SourceFilename>
      <SourceBand>1</SourceBand>
      <SourceProperties RasterXSize="10001" RasterYSize="10000" DataType="Byte" BlockXSize="512" BlockYSize="128" />
      <SrcRect xOff="0" yOff="0" xSize="10001" ySize="10000" />
      <DstRect xOff="49443.9933609201" yOff="17590.8878954182" xSize="9457.39543286084" ySize="9456.44978788205" />
      <NODATA>0</NODATA>
    </ComplexSource>
    <ComplexSource>
      <SourceFilename relativeToVRT="1">albedoTms/S2_RGB_64_3857.vrt</SourceFilename>
      <SourceBand>1</SourceBand>
      <SourceProperties RasterXSize="10001" RasterYSize="10000" DataType="Byte" BlockXSize="512" BlockYSize="128" />
      <SrcRect xOff="0" yOff="0" xSize="10001" ySize="10000" />
      <DstRect xOff="96726.2423003303" yOff="27047.3376833003" xSize="9457.39543286084" ySize="9456.44978788205" />
      <NODATA>0</NODATA>
    </ComplexSource>
    <ComplexSource>
      <SourceFilename relativeToVRT="1">albedoTms/S2_RGB_83_3857.vrt</SourceFilename>
      <SourceBand>1</SourceBand>
      <SourceProperties RasterXSize="10001" RasterYSize="8602" DataType="Byte" BlockXSize="512" BlockYSize="128" />
      <SrcRect xOff="0" yOff="0" xSize="10001" ySize="8602" />
      <DstRect xOff="106182.692088212" yOff="0" xSize="9457.39543286082" ySize="8134.43810753613" />
      <NODATA>0</NODATA>
    </ComplexSource>
    <ComplexSource>
      <SourceFilename relativeToVRT="1">albedoTms/S2_RGB_9_3857.vrt</SourceFilename>
      <SourceBand>1</SourceBand>
      <SourceProperties RasterXSize="10001" RasterYSize="10000" DataType="Byte" BlockXSize="512" BlockYSize="128" />
      <SrcRect xOff="0" yOff="0" xSize="10001" ySize="10000" />
      <DstRect xOff="39987.5435730381" yOff="131068.285350003" xSize="9457.39543286084" ySize="9456.44978788205" />
      <NODATA>0</NODATA>
    </ComplexSource>
    <ComplexSource>
      <SourceFilename relativeToVRT="1">albedoTms/S2_RGB_60_3857.vrt</SourceFilename>
      <SourceBand>1</SourceBand>
      <SourceProperties RasterXSize="10001" RasterYSize="10000" DataType="Byte" BlockXSize="512" BlockYSize="128" />
      <SrcRect xOff="0" yOff="0" xSize="10001" ySize="10000" />
      <DstRect xOff="58900.4431488021" yOff="27047.3376833003" xSize="9457.39543286083" ySize="9456.44978788205" />
      <NODATA>0</NODATA>
    </ComplexSource>
    <ComplexSource>
      <SourceFilename relativeToVRT="1">albedoTms/S2_RGB_55_3857.vrt</SourceFilename>
      <SourceBand>1</SourceBand>
      <SourceProperties RasterXSize="10001" RasterYSize="10000" DataType="Byte" BlockXSize="512" BlockYSize="128" />
      <SrcRect xOff="0" yOff="0" xSize="10001" ySize="10000" />
      <DstRect xOff="58900.4431488021" yOff="36503.7874711824" xSize="9457.39543286083" ySize="9456.44978788205" />
      <NODATA>0</NODATA>
    </ComplexSource>
    <ComplexSource>
      <SourceFilename relativeToVRT="1">albedoTms/S2_RGB_51_3857.vrt</SourceFilename>
      <SourceBand>1</SourceBand>
      <SourceProperties RasterXSize="10001" RasterYSize="10000" DataType="Byte" BlockXSize="512" BlockYSize="128" />
      <SrcRect xOff="0" yOff="0" xSize="10001" ySize="10000" />
      <DstRect xOff="49443.9933609201" yOff="45960.2372590645" xSize="9457.39543286084" ySize="9456.44978788205" />
      <NODATA>0</NODATA>
    </ComplexSource>
    <ComplexSource>
      <SourceFilename relativeToVRT="1">albedoTms/S2_RGB_39_3857.vrt</SourceFilename>
      <SourceBand>1</SourceBand>
      <SourceProperties RasterXSize="10001" RasterYSize="10000" DataType="Byte" BlockXSize="512" BlockYSize="128" />
      <SrcRect xOff="0" yOff="0" xSize="10001" ySize="10000" />
      <DstRect xOff="21074.643997274" yOff="74329.5866227106" xSize="9457.39543286084" ySize="9456.44978788205" />
      <NODATA>0</NODATA>
    </ComplexSource>
    <ComplexSource>
      <SourceFilename relativeToVRT="1">albedoTms/S2_RGB_61_3857.vrt</SourceFilename>
      <SourceBand>1</SourceBand>
      <SourceProperties RasterXSize="10001" RasterYSize="10000" DataType="Byte" BlockXSize="512" BlockYSize="128" />
      <SrcRect xOff="0" yOff="0" xSize="10001" ySize="10000" />
      <DstRect xOff="68356.8929366842" yOff="27047.3376833004" xSize="9457.39543286084" ySize="9456.44978788205" />
      <NODATA>0</NODATA>
    </ComplexSource>
    <ComplexSource>
      <SourceFilename relativeToVRT="1">albedoTms/S2_RGB_2_3857.vrt</SourceFilename>
      <SourceBand>1</SourceBand>
      <SourceProperties RasterXSize="10001" RasterYSize="9722" DataType="Byte" BlockXSize="512" BlockYSize="128" />
      <SrcRect xOff="0" yOff="0" xSize="10001" ySize="9721.68738620683" />
      <DstRect xOff="21074.6439972739" yOff="140524.735137885" xSize="9457.39543286084" ySize="9193.26486211512" />
      <NODATA>0</NODATA>
    </ComplexSource>
    <ComplexSource>
      <SourceFilename relativeToVRT="1">albedoTms/S2_RGB_9_5000_3857.vrt</SourceFilename>
      <SourceBand>1</SourceBand>
      <SourceProperties RasterXSize="5000" RasterYSize="5000" DataType="Byte" BlockXSize="512" BlockYSize="128" />
      <SrcRect xOff="0" yOff="0" xSize="5000" ySize="5000" />
      <DstRect xOff="39987.5435730381" yOff="131068.285350003" xSize="9457.39543286084" ySize="9457.39543286084" />
      <NODATA>0</NODATA>
    </ComplexSource>
    <ComplexSource>
      <SourceFilename relativeToVRT="1">albedoTms/S2_RGB_69_3857.vrt</SourceFilename>
      <SourceBand>1</SourceBand>
      <SourceProperties RasterXSize="10001" RasterYSize="10000" DataType="Byte" BlockXSize="512" BlockYSize="128" />
      <SrcRect xOff="0" yOff="0" xSize="10001" ySize="10000" />
      <DstRect xOff="87269.7925124483" yOff="17590.8878954183" xSize="9457.39543286084" ySize="9456.44978788205" />
      <NODATA>0</NODATA>
    </ComplexSource>
    <ComplexSource>
      <SourceFilename relativeToVRT="1">albedoTms/S2_RGB_59_3857.vrt</SourceFilename>
      <SourceBand>1</SourceBand>
      <SourceProperties RasterXSize="10001" RasterYSize="10000" DataType="Byte" BlockXSize="512" BlockYSize="128" />
      <SrcRect xOff="0" yOff="0" xSize="10001" ySize="10000" />
      <DstRect xOff="49443.9933609201" yOff="27047.3376833003" xSize="9457.39543286084" ySize="9456.44978788205" />
      <NODATA>0</NODATA>
    </ComplexSource>
    <ComplexSource>
      <SourceFilename relativeToVRT="1">albedoTms/S2_RGB_26_3857.vrt</SourceFilename>
      <SourceBand>1</SourceBand>
      <SourceProperties RasterXSize="10001" RasterYSize="10000" DataType="Byte" BlockXSize="512" BlockYSize="128" />
      <SrcRect xOff="0" yOff="0" xSize="10001" ySize="10000" />
      <DstRect xOff="30531.093785156" yOff="102698.935986357" xSize="9457.39543286084" ySize="9456.44978788205" />
      <NODATA>0</NODATA>
    </ComplexSource>
    <ComplexSource>
      <SourceFilename relativeToVRT="1">albedoTms/S2_RGB_71_3857.vrt</SourceFilename>
      <SourceBand>1</SourceBand>
      <SourceProperties RasterXSize="10001" RasterYSize="10000" DataType="Byte" BlockXSize="512" BlockYSize="128" />
      <SrcRect xOff="0" yOff="0" xSize="10001" ySize="10000" />
      <DstRect xOff="106182.692088212" yOff="17590.8878954183" xSize="9457.39543286083" ySize="9456.44978788204" />
      <NODATA>0</NODATA>
    </ComplexSource>
    <ComplexSource>
      <SourceFilename relativeToVRT="1">albedoTms/S2_RGB_12_3857.vrt</SourceFilename>
      <SourceBand>1</SourceBand>
      <SourceProperties RasterXSize="10001" RasterYSize="10000" DataType="Byte" BlockXSize="512" BlockYSize="128" />
      <SrcRect xOff="0" yOff="0" xSize="10001" ySize="10000" />
      <DstRect xOff="11618.1942093919" yOff="121611.835562121" xSize="9457.39543286084" ySize="9456.44978788205" />
      <NODATA>0</NODATA>
    </ComplexSource>
    <ComplexSource>
      <SourceFilename relativeToVRT="1">albedoTms/S2_RGB_40_3857.vrt</SourceFilename>
      <SourceBand>1</SourceBand>
      <SourceProperties RasterXSize="10001" RasterYSize="10000" DataType="Byte" BlockXSize="512" BlockYSize="128" />
      <SrcRect xOff="0" yOff="0" xSize="10001" ySize="10000" />
      <DstRect xOff="30531.093785156" yOff="74329.5866227106" xSize="9457.39543286084" ySize="9456.44978788205" />
      <NODATA>0</NODATA>
    </ComplexSource>
    <ComplexSource>
      <SourceFilename relativeToVRT="1">albedoTms/S2_RGB_58_3857.vrt</SourceFilename>
      <SourceBand>1</SourceBand>
      <SourceProperties RasterXSize="10001" RasterYSize="10000" DataType="Byte" BlockXSize="512" BlockYSize="128" />
      <SrcRect xOff="0" yOff="0" xSize="10001" ySize="10000" />
      <DstRect xOff="39987.543573038" yOff="27047.3376833003" xSize="9457.39543286084" ySize="9456.44978788205" />
      <NODATA>0</NODATA>
    </ComplexSource>
    <ComplexSource>
      <SourceFilename relativeToVRT="1">albedoTms/S2_RGB_28_3857.vrt</SourceFilename>
      <SourceBand>1</SourceBand>
      <SourceProperties RasterXSize="10001" RasterYSize="10000" DataType="Byte" BlockXSize="512" BlockYSize="128" />
      <SrcRect xOff="0" yOff="0" xSize="10001" ySize="10000" />
      <DstRect xOff="2161.74442150987" yOff="93242.4861984747" xSize="9457.39543286084" ySize="9456.44978788205" />
      <NODATA>0</NODATA>
    </ComplexSource>
    <ComplexSource>
      <SourceFilename relativeToVRT="1">albedoTms/S2_RGB_56_3857.vrt</SourceFilename>
      <SourceBand>1</SourceBand>
      <SourceProperties RasterXSize="10001" RasterYSize="10000" DataType="Byte" BlockXSize="512" BlockYSize="128" />
      <SrcRect xOff="0" yOff="0" xSize="10001" ySize="10000" />
      <DstRect xOff="68356.8929366842" yOff="36503.7874711825" xSize="9457.39543286084" ySize="9456.44978788205" />
      <NODATA>0</NODATA>
    </ComplexSource>
    <ComplexSource>
      <SourceFilename relativeToVRT="1">albedoTms/S2_RGB_63_3857.vrt</SourceFilename>
      <SourceBand>1</SourceBand>
      <SourceProperties RasterXSize="10001" RasterYSize="10000" DataType="Byte" BlockXSize="512" BlockYSize="128" />
      <SrcRect xOff="0" yOff="0" xSize="10001" ySize="10000" />
      <DstRect xOff="87269.7925124483" yOff="27047.3376833003" xSize="9457.39543286084" ySize="9456.44978788205" />
      <NODATA>0</NODATA>
    </ComplexSource>
    <ComplexSource>
      <SourceFilename relativeToVRT="1">albedoTms/S2_RGB_54_3857.vrt</SourceFilename>
      <SourceBand>1</SourceBand>
      <SourceProperties RasterXSize="10001" RasterYSize="10000" DataType="Byte" BlockXSize="512" BlockYSize="128" />
      <SrcRect xOff="0" yOff="0" xSize="10001" ySize="10000" />
      <DstRect xOff="49443.9933609201" yOff="36503.7874711824" xSize="9457.39543286084" ySize="9456.44978788205" />
      <NODATA>0</NODATA>
    </ComplexSource>
    <ComplexSource>
      <SourceFilename relativeToVRT="1">albedoTms/S2_RGB_3_3857.vrt</SourceFilename>
      <SourceBand>1</SourceBand>
      <SourceProperties RasterXSize="10001" RasterYSize="9722" DataType="Byte" BlockXSize="512" BlockYSize="128" />
      <SrcRect xOff="0" yOff="0" xSize="10001" ySize="9721.68738620683" />
      <DstRect xOff="30531.093785156" yOff="140524.735137885" xSize="9457.39543286084" ySize="9193.26486211512" />
      <NODATA>0</NODATA>
    </ComplexSource>
    <ComplexSource>
      <SourceFilename relativeToVRT="1">albedoTms/S2_RGB_84_3857.vrt</SourceFilename>
      <SourceBand>1</SourceBand>
      <SourceProperties RasterXSize="3920" RasterYSize="8602" DataType="Byte" BlockXSize="512" BlockYSize="128" />
      <SrcRect xOff="0" yOff="0" xSize="3919.92577241385" ySize="8602" />
