<VRTDataset rasterXSize="103901" rasterYSize="119095">
  <SRS dataAxisToSRSAxisMapping="1,2">PROJCS["WGS 84 / Pseudo-Mercator",GEOGCS["WGS 84",DATUM["WGS_1984",SPHEROID["WGS 84",6378137,298.257223563,AUTHORITY["EPSG","7030"]],AUTHORITY["EPSG","6326"]],PRIMEM["Greenwich",0,AUTHORITY["EPSG","8901"]],UNIT["degree",0.0174532925199433,AUTHORITY["EPSG","9122"]],AUTHORITY["EPSG","4326"]],PROJECTION["Mercator_1SP"],PARAMETER["central_meridian",0],PARAMETER["scale_factor",1],PARAMETER["false_easting",0],PARAMETER["false_northing",0],UNIT["metre",1,AUTHORITY["EPSG","9001"]],AXIS["Easting",EAST],AXIS["Northing",NORTH],EXTENSION["PROJ4","+proj=merc +a=6378137 +b=6378137 +lat_ts=0 +lon_0=0 +x_0=0 +y_0=0 +k=1 +units=m +nadgrids=@null +wktext +no_defs"],AUTHORITY["EPSG","3857"]]</SRS>
  <GeoTransform>  4.4526250213270623e+05,  3.0000000000000000e+01,  0.0000000000000000e+00,  1.1753234648502791e+07,  0.0000000000000000e+00, -3.0000000000000000e+01</GeoTransform>
  <VRTRasterBand dataType="Int16" band="1">
    <NoDataValue>0</NoDataValue>
    <ColorInterp>Gray</ColorInterp>
    <ComplexSource>
      <SourceFilename relativeToVRT="1">scandinavia/ASTGTMV003_N68E021_dem_3857_zeroToNull.tif</SourceFilename>
      <SourceBand>1</SourceBand>
      <SourceProperties RasterXSize="3711" RasterYSize="10130" DataType="Int16" BlockXSize="3711" BlockYSize="1" />
      <SrcRect xOff="0" yOff="0" xSize="3711" ySize="10130" />
      <DstRect xOff="63081.044782855" yOff="33413.4990281662" xSize="3711" ySize="10130" />
      <NODATA>0</NODATA>
    </ComplexSource>
    <ComplexSource>
      <SourceFilename relativeToVRT="1">scandinavia/ASTGTMV003_N66E019_dem_3857_zeroToNull.tif</SourceFilename>
      <SourceBand>1</SourceBand>
      <SourceProperties RasterXSize="3712" RasterYSize="9309" DataType="Int16" BlockXSize="3712" BlockYSize="1" />
      <SrcRect xOff="0" yOff="0" xSize="3712" ySize="9309" />
      <DstRect xOff="55659.7453966368" yOff="53237.8785451553" xSize="3712" ySize="9309" />
      <NODATA>0</NODATA>
    </ComplexSource>
    <ComplexSource>
      <SourceFilename relativeToVRT="1">scandinavia/ASTGTMV003_N64E026_dem_3857_zeroToNull.tif</SourceFilename>
      <SourceBand>1</SourceBand>
      <SourceProperties RasterXSize="3713" RasterYSize="8623" DataType="Int16" BlockXSize="3713" BlockYSize="1" />
      <SrcRect xOff="0" yOff="0" xSize="3713" ySize="8623" />
      <DstRect xOff="81634.2932484006" yOff="71494.2184845265" xSize="3713" ySize="8623" />
      <NODATA>0</NODATA>
    </ComplexSource>
    <ComplexSource>
      <SourceFilename relativeToVRT="1">scandinavia/ASTGTMV003_N64E019_dem_3857_zeroToNull.tif</SourceFilename>
      <SourceBand>1</SourceBand>
      <SourceProperties RasterXSize="3713" RasterYSize="8623" DataType="Int16" BlockXSize="3713" BlockYSize="1" />
      <SrcRect xOff="0" yOff="0" xSize="3713" ySize="8623" />
      <DstRect xOff="55659.7453966368" yOff="71494.2184845265" xSize="3713" ySize="8623" />
      <NODATA>0</NODATA>
    </ComplexSource>
    <ComplexSource>
      <SourceFilename relativeToVRT="1">scandinavia/ASTGTMV003_N61E023_dem_3857_zeroToNull.tif</SourceFilename>
      <SourceBand>1</SourceBand>
      <SourceProperties RasterXSize="3712" RasterYSize="7779" DataType="Int16" BlockXSize="3712" BlockYSize="1" />
      <SrcRect xOff="0" yOff="0" xSize="3712" ySize="7779" />
      <DstRect xOff="70502.3441690732" yOff="96468.6305001286" xSize="3712" ySize="7779" />
      <NODATA>0</NODATA>
    </ComplexSource>
    <ComplexSource>
      <SourceFilename relativeToVRT="1">scandinavia/ASTGTMV003_N68E029_dem_3857_zeroToNull.tif</SourceFilename>
      <SourceBand>1</SourceBand>
      <SourceProperties RasterXSize="3711" RasterYSize="10130" DataType="Int16" BlockXSize="3711" BlockYSize="1" />
      <SrcRect xOff="0" yOff="0" xSize="3711" ySize="10130" />
      <DstRect xOff="92766.2423277279" yOff="33413.4990281662" xSize="3711" ySize="10130" />
      <NODATA>0</NODATA>
    </ComplexSource>
    <ComplexSource>
      <SourceFilename relativeToVRT="1">scandinavia/ASTGTMV003_N61E017_dem_3857_zeroToNull.tif</SourceFilename>
      <SourceBand>1</SourceBand>
      <SourceProperties RasterXSize="3712" RasterYSize="7779" DataType="Int16" BlockXSize="3712" BlockYSize="1" />
      <SrcRect xOff="0" yOff="0" xSize="3712" ySize="7779" />
      <DstRect xOff="48238.4460104185" yOff="96468.6305001286" xSize="3712" ySize="7779" />
      <NODATA>0</NODATA>
    </ComplexSource>
    <ComplexSource>
      <SourceFilename relativeToVRT="1">scandinavia/ASTGTMV003_N64E021_dem_3857_zeroToNull.tif</SourceFilename>
      <SourceBand>1</SourceBand>
      <SourceProperties RasterXSize="3713" RasterYSize="8623" DataType="Int16" BlockXSize="3713" BlockYSize="1" />
      <SrcRect xOff="0" yOff="0" xSize="3713" ySize="8623" />
      <DstRect xOff="63081.044782855" yOff="71494.2184845265" xSize="3713" ySize="8623" />
      <NODATA>0</NODATA>
    </ComplexSource>
    <ComplexSource>
      <SourceFilename relativeToVRT="1">scandinavia/ASTGTMV003_N62E017_dem_3857_zeroToNull.tif</SourceFilename>
      <SourceBand>1</SourceBand>
      <SourceProperties RasterXSize="3712" RasterYSize="8040" DataType="Int16" BlockXSize="3712" BlockYSize="1" />
      <SrcRect xOff="0" yOff="0" xSize="3712" ySize="8040" />
      <DstRect xOff="48238.4460104185" yOff="88431.6561831517" xSize="3712" ySize="8040" />
      <NODATA>0</NODATA>
    </ComplexSource>
    <ComplexSource>
      <SourceFilename relativeToVRT="1">scandinavia/ASTGTMV003_N60E024_dem_3857_zeroToNull.tif</SourceFilename>
      <SourceBand>1</SourceBand>
      <SourceProperties RasterXSize="3712" RasterYSize="7539" DataType="Int16" BlockXSize="3712" BlockYSize="1" />
      <SrcRect xOff="0" yOff="0" xSize="3712" ySize="7539" />
      <DstRect xOff="74212.9938621824" yOff="104245.985242578" xSize="3712" ySize="7539" />
      <NODATA>0</NODATA>
    </ComplexSource>
    <ComplexSource>
      <SourceFilename relativeToVRT="1">scandinavia/ASTGTMV003_N64E014_dem_3857_zeroToNull.tif</SourceFilename>
      <SourceBand>1</SourceBand>
      <SourceProperties RasterXSize="3713" RasterYSize="8623" DataType="Int16" BlockXSize="3713" BlockYSize="1" />
      <SrcRect xOff="0" yOff="0" xSize="3713" ySize="8623" />
      <DstRect xOff="37106.4969310912" yOff="71494.2184845265" xSize="3713" ySize="8623" />
      <NODATA>0</NODATA>
    </ComplexSource>
    <ComplexSource>
      <SourceFilename relativeToVRT="1">scandinavia/ASTGTMV003_N70E018_dem_3857_zeroToNull.tif</SourceFilename>
      <SourceBand>1</SourceBand>
      <SourceProperties RasterXSize="3711" RasterYSize="11122" DataType="Int16" BlockXSize="3711" BlockYSize="1" />
      <SrcRect xOff="0" yOff="0" xSize="3711" ySize="11122" />
      <DstRect xOff="51949.0957035276" yOff="11697.1666541961" xSize="3711" ySize="11122" />
      <NODATA>0</NODATA>
    </ComplexSource>
    <ComplexSource>
      <SourceFilename relativeToVRT="1">scandinavia/ASTGTMV003_N69E023_dem_3857_zeroToNull.tif</SourceFilename>
      <SourceBand>1</SourceBand>
      <SourceProperties RasterXSize="3712" RasterYSize="10600" DataType="Int16" BlockXSize="3712" BlockYSize="1" />
      <SrcRect xOff="0" yOff="0" xSize="3712" ySize="10600" />
      <DstRect xOff="70502.3441690732" yOff="22815.7927971614" xSize="3712" ySize="10600" />
      <NODATA>0</NODATA>
    </ComplexSource>
    <ComplexSource>
      <SourceFilename relativeToVRT="1">scandinavia/ASTGTMV003_N64E017_dem_3857_zeroToNull.tif</SourceFilename>
      <SourceBand>1</SourceBand>
      <SourceProperties RasterXSize="3713" RasterYSize="8623" DataType="Int16" BlockXSize="3713" BlockYSize="1" />
      <SrcRect xOff="0" yOff="0" xSize="3713" ySize="8623" />
      <DstRect xOff="48238.4460104185" yOff="71494.2184845265" xSize="3713" ySize="8623" />
      <NODATA>0</NODATA>
    </ComplexSource>
    <ComplexSource>
      <SourceFilename relativeToVRT="1">scandinavia/ASTGTMV003_N69E031_dem_3857_zeroToNull.tif</SourceFilename>
      <SourceBand>1</SourceBand>
      <SourceProperties RasterXSize="3712" RasterYSize="10600" DataType="Int16" BlockXSize="3712" BlockYSize="1" />
      <SrcRect xOff="0" yOff="0" xSize="3712" ySize="10600" />
      <DstRect xOff="100187.541713946" yOff="22815.7927971614" xSize="3712" ySize="10600" />
      <NODATA>0</NODATA>
    </ComplexSource>
    <ComplexSource>
      <SourceFilename relativeToVRT="1">scandinavia/ASTGTMV003_N61E010_dem_3857_zeroToNull.tif</SourceFilename>
      <SourceBand>1</SourceBand>
      <SourceProperties RasterXSize="3712" RasterYSize="7779" DataType="Int16" BlockXSize="3712" BlockYSize="1" />
      <SrcRect xOff="0" yOff="0" xSize="3712" ySize="7779" />
      <DstRect xOff="22263.8981586547" yOff="96468.6305001286" xSize="3712" ySize="7779" />
      <NODATA>0</NODATA>
    </ComplexSource>
    <ComplexSource>
      <SourceFilename relativeToVRT="1">scandinavia/ASTGTMV003_N67E012_dem_3857_zeroToNull.tif</SourceFilename>
      <SourceBand>1</SourceBand>
      <SourceProperties RasterXSize="3712" RasterYSize="9700" DataType="Int16" BlockXSize="3712" BlockYSize="1" />
      <SrcRect xOff="0" yOff="0" xSize="3712" ySize="9700" />
      <DstRect xOff="29685.1975448729" yOff="43539.8686954809" xSize="3712" ySize="9700" />
      <NODATA>0</NODATA>
    </ComplexSource>
    <ComplexSource>
      <SourceFilename relativeToVRT="1">scandinavia/ASTGTMV003_N61E022_dem_3857_zeroToNull.tif</SourceFilename>
      <SourceBand>1</SourceBand>
      <SourceProperties RasterXSize="3712" RasterYSize="7779" DataType="Int16" BlockXSize="3712" BlockYSize="1" />
      <SrcRect xOff="0" yOff="0" xSize="3712" ySize="7779" />
      <DstRect xOff="66791.6944759641" yOff="96468.6305001286" xSize="3712" ySize="7779" />
      <NODATA>0</NODATA>
    </ComplexSource>
    <ComplexSource>
      <SourceFilename relativeToVRT="1">scandinavia/ASTGTMV003_N68E015_dem_3857_zeroToNull.tif</SourceFilename>
      <SourceBand>1</SourceBand>
      <SourceProperties RasterXSize="3711" RasterYSize="10130" DataType="Int16" BlockXSize="3711" BlockYSize="1" />
      <SrcRect xOff="0" yOff="0" xSize="3711" ySize="10130" />
      <DstRect xOff="40817.1466242003" yOff="33413.4990281662" xSize="3711" ySize="10130" />
      <NODATA>0</NODATA>
    </ComplexSource>
    <ComplexSource>
      <SourceFilename relativeToVRT="1">scandinavia/ASTGTMV003_N64E031_dem_3857_zeroToNull.tif</SourceFilename>
      <SourceBand>1</SourceBand>
      <SourceProperties RasterXSize="3713" RasterYSize="8623" DataType="Int16" BlockXSize="3713" BlockYSize="1" />
      <SrcRect xOff="0" yOff="0" xSize="3713" ySize="8623" />
      <DstRect xOff="100187.541713946" yOff="71494.2184845265" xSize="3713" ySize="8623" />
      <NODATA>0</NODATA>
    </ComplexSource>
    <ComplexSource>
      <SourceFilename relativeToVRT="1">scandinavia/ASTGTMV003_N67E021_dem_3857_zeroToNull.tif</SourceFilename>
      <SourceBand>1</SourceBand>
      <SourceProperties RasterXSize="3712" RasterYSize="9700" DataType="Int16" BlockXSize="3712" BlockYSize="1" />
      <SrcRect xOff="0" yOff="0" xSize="3712" ySize="9700" />
      <DstRect xOff="63081.044782855" yOff="43539.8686954809" xSize="3712" ySize="9700" />
      <NODATA>0</NODATA>
    </ComplexSource>
    <ComplexSource>
      <SourceFilename relativeToVRT="1">scandinavia/ASTGTMV003_N65E010_dem_3857_zeroToNull.tif</SourceFilename>
      <SourceBand>1</SourceBand>
      <SourceProperties RasterXSize="3713" RasterYSize="8951" DataType="Int16" BlockXSize="3713" BlockYSize="1" />
      <SrcRect xOff="0" yOff="0" xSize="3713" ySize="8951" />
      <DstRect xOff="22263.8981586547" yOff="62545.0246731218" xSize="3713" ySize="8951" />
      <NODATA>0</NODATA>
    </ComplexSource>
    <ComplexSource>
      <SourceFilename relativeToVRT="1">scandinavia/ASTGTMV003_N66E014_dem_3857_zeroToNull.tif</SourceFilename>
      <SourceBand>1</SourceBand>
      <SourceProperties RasterXSize="3712" RasterYSize="9309" DataType="Int16" BlockXSize="3712" BlockYSize="1" />
      <SrcRect xOff="0" yOff="0" xSize="3712" ySize="9309" />
      <DstRect xOff="37106.4969310912" yOff="53237.8785451553" xSize="3712" ySize="9309" />
      <NODATA>0</NODATA>
    </ComplexSource>
    <ComplexSource>
      <SourceFilename relativeToVRT="1">scandinavia/ASTGTMV003_N67E020_dem_3857_zeroToNull.tif</SourceFilename>
      <SourceBand>1</SourceBand>
      <SourceProperties RasterXSize="3712" RasterYSize="9700" DataType="Int16" BlockXSize="3712" BlockYSize="1" />
      <SrcRect xOff="0" yOff="0" xSize="3712" ySize="9700" />
      <DstRect xOff="59370.3950897459" yOff="43539.8686954809" xSize="3712" ySize="9700" />
      <NODATA>0</NODATA>
    </ComplexSource>
    <ComplexSource>
      <SourceFilename relativeToVRT="1">scandinavia/ASTGTMV003_N60E020_dem_3857_zeroToNull.tif</SourceFilename>
      <SourceBand>1</SourceBand>
      <SourceProperties RasterXSize="3712" RasterYSize="7539" DataType="Int16" BlockXSize="3712" BlockYSize="1" />
      <SrcRect xOff="0" yOff="0" xSize="3712" ySize="7539" />
      <DstRect xOff="59370.3950897459" yOff="104245.985242578" xSize="3712" ySize="7539" />
      <NODATA>0</NODATA>
    </ComplexSource>
    <ComplexSource>
      <SourceFilename relativeToVRT="1">scandinavia/ASTGTMV003_N61E009_dem_3857_zeroToNull.tif</SourceFilename>
      <SourceBand>1</SourceBand>
      <SourceProperties RasterXSize="3712" RasterYSize="7779" DataType="Int16" BlockXSize="3712" BlockYSize="1" />
      <SrcRect xOff="0" yOff="0" xSize="3712" ySize="7779" />
      <DstRect xOff="18553.2484655456" yOff="96468.6305001286" xSize="3712" ySize="7779" />
      <NODATA>0</NODATA>
    </ComplexSource>
    <ComplexSource>
      <SourceFilename relativeToVRT="1">scandinavia/ASTGTMV003_N68E017_dem_3857_zeroToNull.tif</SourceFilename>
      <SourceBand>1</SourceBand>
      <SourceProperties RasterXSize="3711" RasterYSize="10130" DataType="Int16" BlockXSize="3711" BlockYSize="1" />
      <SrcRect xOff="0" yOff="0" xSize="3711" ySize="10130" />
      <DstRect xOff="48238.4460104185" yOff="33413.4990281662" xSize="3711" ySize="10130" />
      <NODATA>0</NODATA>
    </ComplexSource>
    <ComplexSource>
      <SourceFilename relativeToVRT="1">scandinavia/ASTGTMV003_N66E013_dem_3857_zeroToNull.tif</SourceFilename>
      <SourceBand>1</SourceBand>
      <SourceProperties RasterXSize="3712" RasterYSize="9309" DataType="Int16" BlockXSize="3712" BlockYSize="1" />
      <SrcRect xOff="0" yOff="0" xSize="3712" ySize="9309" />
      <DstRect xOff="33395.847237982" yOff="53237.8785451553" xSize="3712" ySize="9309" />
      <NODATA>0</NODATA>
    </ComplexSource>
    <ComplexSource>
      <SourceFilename relativeToVRT="1">scandinavia/ASTGTMV003_N65E013_dem_3857_zeroToNull.tif</SourceFilename>
      <SourceBand>1</SourceBand>
      <SourceProperties RasterXSize="3713" RasterYSize="8951" DataType="Int16" BlockXSize="3713" BlockYSize="1" />
      <SrcRect xOff="0" yOff="0" xSize="3713" ySize="8951" />
      <DstRect xOff="33395.847237982" yOff="62545.0246731218" xSize="3713" ySize="8951" />
      <NODATA>0</NODATA>
    </ComplexSource>
    <ComplexSource>
      <SourceFilename relativeToVRT="1">scandinavia/ASTGTMV003_N68E014_dem_3857_zeroToNull.tif</SourceFilename>
      <SourceBand>1</SourceBand>
      <SourceProperties RasterXSize="3711" RasterYSize="10130" DataType="Int16" BlockXSize="3711" BlockYSize="1" />
      <SrcRect xOff="0" yOff="0" xSize="3711" ySize="10130" />
      <DstRect xOff="37106.4969310912" yOff="33413.4990281662" xSize="3711" ySize="10130" />
      <NODATA>0</NODATA>
    </ComplexSource>
    <ComplexSource>
      <SourceFilename relativeToVRT="1">scandinavia/ASTGTMV003_N63E027_dem_3857_zeroToNull.tif</SourceFilename>
      <SourceBand>1</SourceBand>
      <SourceProperties RasterXSize="3712" RasterYSize="8320" DataType="Int16" BlockXSize="3712" BlockYSize="1" />
      <SrcRect xOff="0" yOff="0" xSize="3712" ySize="8320" />
      <DstRect xOff="85344.9429415097" yOff="80114.5068325099" xSize="3712" ySize="8320" />
      <NODATA>0</NODATA>
    </ComplexSource>
    <ComplexSource>
      <SourceFilename relativeToVRT="1">scandinavia/ASTGTMV003_N63E024_dem_3857_zeroToNull.tif</SourceFilename>
      <SourceBand>1</SourceBand>
      <SourceProperties RasterXSize="3712" RasterYSize="8320" DataType="Int16" BlockXSize="3712" BlockYSize="1" />
      <SrcRect xOff="0" yOff="0" xSize="3712" ySize="8320" />
      <DstRect xOff="74212.9938621824" yOff="80114.5068325099" xSize="3712" ySize="8320" />
      <NODATA>0</NODATA>
    </ComplexSource>
    <ComplexSource>
      <SourceFilename relativeToVRT="1">scandinavia/ASTGTMV003_N66E026_dem_3857_zeroToNull.tif</SourceFilename>
      <SourceBand>1</SourceBand>
      <SourceProperties RasterXSize="3712" RasterYSize="9309" DataType="Int16" BlockXSize="3712" BlockYSize="1" />
      <SrcRect xOff="0" yOff="0" xSize="3712" ySize="9309" />
      <DstRect xOff="81634.2932484006" yOff="53237.8785451553" xSize="3712" ySize="9309" />
      <NODATA>0</NODATA>
    </ComplexSource>
    <ComplexSource>
      <SourceFilename relativeToVRT="1">scandinavia/ASTGTMV003_N66E029_dem_3857_zeroToNull.tif</SourceFilename>
      <SourceBand>1</SourceBand>
      <SourceProperties RasterXSize="3712" RasterYSize="9309" DataType="Int16" BlockXSize="3712" BlockYSize="1" />
      <SrcRect xOff="0" yOff="0" xSize="3712" ySize="9309" />
      <DstRect xOff="92766.2423277279" yOff="53237.8785451553" xSize="3712" ySize="9309" />
      <NODATA>0</NODATA>
    </ComplexSource>
    <ComplexSource>
      <SourceFilename relativeToVRT="1">scandinavia/ASTGTMV003_N66E024_dem_3857_zeroToNull.tif</SourceFilename>
      <SourceBand>1</SourceBand>
      <SourceProperties RasterXSize="3712" RasterYSize="9309" DataType="Int16" BlockXSize="3712" BlockYSize="1" />
      <SrcRect xOff="0" yOff="0" xSize="3712" ySize="9309" />
      <DstRect xOff="74212.9938621824" yOff="53237.8785451553" xSize="3712" ySize="9309" />
      <NODATA>0</NODATA>
    </ComplexSource>
    <ComplexSource>
      <SourceFilename relativeToVRT="1">scandinavia/ASTGTMV003_N59E023_dem_3857_zeroToNull.tif</SourceFilename>
      <SourceBand>1</SourceBand>
      <SourceProperties RasterXSize="3712" RasterYSize="7313" DataType="Int16" BlockXSize="3712" BlockYSize="1" />
      <SrcRect xOff="0" yOff="0" xSize="3712" ySize="7312.80544870875" />
      <DstRect xOff="70502.3441690732" yOff="111782.194551291" xSize="3712" ySize="7312.80544870875" />
      <NODATA>0</NODATA>
    </ComplexSource>
    <ComplexSource>
      <SourceFilename relativeToVRT="1">scandinavia/ASTGTMV003_N59E012_dem_3857_zeroToNull.tif</SourceFilename>
      <SourceBand>1</SourceBand>
      <SourceProperties RasterXSize="3712" RasterYSize="7313" DataType="Int16" BlockXSize="3712" BlockYSize="1" />
      <SrcRect xOff="0" yOff="0" xSize="3712" ySize="7312.80544870875" />
      <DstRect xOff="29685.1975448729" yOff="111782.194551291" xSize="3712" ySize="7312.80544870875" />
      <NODATA>0</NODATA>
    </ComplexSource>
    <ComplexSource>
      <SourceFilename relativeToVRT="1">scandinavia/ASTGTMV003_N65E031_dem_3857_zeroToNull.tif</SourceFilename>
      <SourceBand>1</SourceBand>
      <SourceProperties RasterXSize="3713" RasterYSize="8951" DataType="Int16" BlockXSize="3713" BlockYSize="1" />
      <SrcRect xOff="0" yOff="0" xSize="3713" ySize="8951" />
      <DstRect xOff="100187.541713946" yOff="62545.0246731218" xSize="3713" ySize="8951" />
      <NODATA>0</NODATA>
    </ComplexSource>
    <ComplexSource>
      <SourceFilename relativeToVRT="1">scandinavia/ASTGTMV003_N63E026_dem_3857_zeroToNull.tif</SourceFilename>
      <SourceBand>1</SourceBand>
      <SourceProperties RasterXSize="3712" RasterYSize="8320" DataType="Int16" BlockXSize="3712" BlockYSize="1" />
      <SrcRect xOff="0" yOff="0" xSize="3712" ySize="8320" />
      <DstRect xOff="81634.2932484006" yOff="80114.5068325099" xSize="3712" ySize="8320" />
      <NODATA>0</NODATA>
    </ComplexSource>
    <ComplexSource>
      <SourceFilename relativeToVRT="1">scandinavia/ASTGTMV003_N60E009_dem_3857_zeroToNull.tif</SourceFilename>
      <SourceBand>1</SourceBand>
      <SourceProperties RasterXSize="3712" RasterYSize="7539" DataType="Int16" BlockXSize="3712" BlockYSize="1" />
      <SrcRect xOff="0" yOff="0" xSize="3712" ySize="7539" />
      <DstRect xOff="18553.2484655456" yOff="104245.985242578" xSize="3712" ySize="7539" />
      <NODATA>0</NODATA>
    </ComplexSource>
    <ComplexSource>
      <SourceFilename relativeToVRT="1">scandinavia/ASTGTMV003_N69E020_dem_3857_zeroToNull.tif</SourceFilename>
      <SourceBand>1</SourceBand>
      <SourceProperties RasterXSize="3712" RasterYSize="10600" DataType="Int16" BlockXSize="3712" BlockYSize="1" />
      <SrcRect xOff="0" yOff="0" xSize="3712" ySize="10600" />
      <DstRect xOff="59370.3950897459" yOff="22815.7927971614" xSize="3712" ySize="10600" />
      <NODATA>0</NODATA>
    </ComplexSource>
    <ComplexSource>
      <SourceFilename relativeToVRT="1">scandinavia/ASTGTMV003_N60E012_dem_3857_zeroToNull.tif</SourceFilename>
      <SourceBand>1</SourceBand>
      <SourceProperties RasterXSize="3712" RasterYSize="7539" DataType="Int16" BlockXSize="3712" BlockYSize="1" />
      <SrcRect xOff="0" yOff="0" xSize="3712" ySize="7539" />
      <DstRect xOff="29685.1975448729" yOff="104245.985242578" xSize="3712" ySize="7539" />
      <NODATA>0</NODATA>
    </ComplexSource>
    <ComplexSource>
      <SourceFilename relativeToVRT="1">scandinavia/ASTGTMV003_N62E007_dem_3857_zeroToNull.tif</SourceFilename>
      <SourceBand>1</SourceBand>
      <SourceProperties RasterXSize="3712" RasterYSize="8040" DataType="Int16" BlockXSize="3712" BlockYSize="1" />
      <SrcRect xOff="0" yOff="0" xSize="3712" ySize="8040" />
      <DstRect xOff="11131.9490793274" yOff="88431.6561831517" xSize="3712" ySize="8040" />
      <NODATA>0</NODATA>
    </ComplexSource>
    <ComplexSource>
      <SourceFilename relativeToVRT="1">scandinavia/ASTGTMV003_N66E028_dem_3857_zeroToNull.tif</SourceFilename>
      <SourceBand>1</SourceBand>
      <SourceProperties RasterXSize="3712" RasterYSize="9309" DataType="Int16" BlockXSize="3712" BlockYSize="1" />
      <SrcRect xOff="0" yOff="0" xSize="3712" ySize="9309" />
      <DstRect xOff="89055.5926346188" yOff="53237.8785451553" xSize="3712" ySize="9309" />
      <NODATA>0</NODATA>
    </ComplexSource>
    <ComplexSource>
      <SourceFilename relativeToVRT="1">scandinavia/ASTGTMV003_N61E029_dem_3857_zeroToNull.tif</SourceFilename>
      <SourceBand>1</SourceBand>
      <SourceProperties RasterXSize="3712" RasterYSize="7779" DataType="Int16" BlockXSize="3712" BlockYSize="1" />
      <SrcRect xOff="0" yOff="0" xSize="3712" ySize="7779" />
      <DstRect xOff="92766.2423277279" yOff="96468.6305001286" xSize="3712" ySize="7779" />
      <NODATA>0</NODATA>
    </ComplexSource>
    <ComplexSource>
      <SourceFilename relativeToVRT="1">scandinavia/ASTGTMV003_N69E016_dem_3857_zeroToNull.tif</SourceFilename>
      <SourceBand>1</SourceBand>
      <SourceProperties RasterXSize="3712" RasterYSize="10600" DataType="Int16" BlockXSize="3712" BlockYSize="1" />
      <SrcRect xOff="0" yOff="0" xSize="3712" ySize="10600" />
      <DstRect xOff="44527.7963173094" yOff="22815.7927971614" xSize="3712" ySize="10600" />
      <NODATA>0</NODATA>
    </ComplexSource>
    <ComplexSource>
      <SourceFilename relativeToVRT="1">scandinavia/ASTGTMV003_N64E018_dem_3857_zeroToNull.tif</SourceFilename>
      <SourceBand>1</SourceBand>
      <SourceProperties RasterXSize="3713" RasterYSize="8623" DataType="Int16" BlockXSize="3713" BlockYSize="1" />
      <SrcRect xOff="0" yOff="0" xSize="3713" ySize="8623" />
      <DstRect xOff="51949.0957035276" yOff="71494.2184845265" xSize="3713" ySize="8623" />
      <NODATA>0</NODATA>
    </ComplexSource>
    <ComplexSource>
      <SourceFilename relativeToVRT="1">scandinavia/ASTGTMV003_N69E028_dem_3857_zeroToNull.tif</SourceFilename>
      <SourceBand>1</SourceBand>
      <SourceProperties RasterXSize="3712" RasterYSize="10600" DataType="Int16" BlockXSize="3712" BlockYSize="1" />
