<VRTDataset rasterXSize="148427" rasterYSize="138797">
  <SRS dataAxisToSRSAxisMapping="1,2">PROJCS["WGS 84 / Pseudo-Mercator",GEOGCS["WGS 84",DATUM["WGS_1984",SPHEROID["WGS 84",6378137,298.257223563,AUTHORITY["EPSG","7030"]],AUTHORITY["EPSG","6326"]],PRIMEM["Greenwich",0,AUTHORITY["EPSG","8901"]],UNIT["degree",0.0174532925199433,AUTHORITY["EPSG","9122"]],AUTHORITY["EPSG","4326"]],PROJECTION["Mercator_1SP"],PARAMETER["central_meridian",0],PARAMETER["scale_factor",1],PARAMETER["false_easting",0],PARAMETER["false_northing",0],UNIT["metre",1,AUTHORITY["EPSG","9001"]],AXIS["Easting",EAST],AXIS["Northing",NORTH],EXTENSION["PROJ4","+proj=merc +a=6378137 +b=6378137 +lat_ts=0 +lon_0=0 +x_0=0 +y_0=0 +k=1 +units=m +nadgrids=@null +wktext +no_defs"],AUTHORITY["EPSG","3857"]]</SRS>
  <GeoTransform>  5.5658199292598001e+05,  3.0000000000000000e+01,  0.0000000000000000e+00,  1.5461040387969803e+01,  0.0000000000000000e+00, -3.0000000000000000e+01</GeoTransform>
  <VRTRasterBand dataType="Float32" band="1">
    <NoDataValue>0</NoDataValue>
    <ComplexSource>
      <SourceFilename relativeToVRT="1">Z3X4Y3/S21E019_3857_zeroToNull.vrt</SourceFilename>
      <SourceBand>1</SourceBand>
      <SourceProperties RasterXSize="3711" RasterYSize="3963" DataType="Float32" BlockXSize="512" BlockYSize="128" />
      <SrcRect xOff="0" yOff="0" xSize="3711" ySize="3963" />
      <DstRect xOff="51949.0957035277" yOff="75767.6644913272" xSize="3711" ySize="3963" />
      <NODATA>0</NODATA>
    </ComplexSource>
    <ComplexSource>
      <SourceFilename relativeToVRT="1">Z3X4Y3/S02E026_3857_zeroToNull.vrt</SourceFilename>
      <SourceBand>1</SourceBand>
      <SourceProperties RasterXSize="3711" RasterYSize="3713" DataType="Float32" BlockXSize="512" BlockYSize="128" />
      <SrcRect xOff="0" yOff="0" xSize="3711" ySize="3713" />
      <DstRect xOff="77923.6435552915" yOff="3710.83801705207" xSize="3711" ySize="3713" />
      <NODATA>0</NODATA>
    </ComplexSource>
    <ComplexSource>
      <SourceFilename relativeToVRT="1">Z3X4Y3/S16E011_3857_zeroToNull.vrt</SourceFilename>
      <SourceBand>1</SourceBand>
      <SourceProperties RasterXSize="3712" RasterYSize="3852" DataType="Float32" BlockXSize="512" BlockYSize="128" />
      <SrcRect xOff="0" yOff="0" xSize="3712" ySize="3852" />
      <DstRect xOff="22263.8981586547" yOff="56306.6531402214" xSize="3712" ySize="3852" />
      <NODATA>0</NODATA>
    </ComplexSource>
    <ComplexSource>
      <SourceFilename relativeToVRT="1">Z3X4Y3/S12E016_3857_zeroToNull.vrt</SourceFilename>
      <SourceBand>1</SourceBand>
      <SourceProperties RasterXSize="3711" RasterYSize="3787" DataType="Float32" BlockXSize="512" BlockYSize="128" />
      <SrcRect xOff="0" yOff="0" xSize="3711" ySize="3787" />
      <DstRect xOff="40817.1466242003" yOff="41070.2170840298" xSize="3711" ySize="3787" />
      <NODATA>0</NODATA>
    </ComplexSource>
    <ComplexSource>
      <SourceFilename relativeToVRT="1">Z3X4Y3/S14E034_3857_zeroToNull.vrt</SourceFilename>
      <SourceBand>1</SourceBand>
      <SourceProperties RasterXSize="3711" RasterYSize="3817" DataType="Float32" BlockXSize="512" BlockYSize="128" />
      <SrcRect xOff="0" yOff="0" xSize="3711" ySize="3817" />
      <DstRect xOff="107608.841100164" yOff="48657.7288398688" xSize="3711" ySize="3817" />
      <NODATA>0</NODATA>
    </ComplexSource>
    <ComplexSource>
      <SourceFilename relativeToVRT="1">Z3X4Y3/S29E018_3857_zeroToNull.vrt</SourceFilename>
      <SourceBand>1</SourceBand>
      <SourceProperties RasterXSize="3712" RasterYSize="4223" DataType="Float32" BlockXSize="512" BlockYSize="128" />
      <SrcRect xOff="0" yOff="0" xSize="3712" ySize="4223" />
      <DstRect xOff="48238.4460104185" yOff="108299.057999712" xSize="3712" ySize="4223" />
      <NODATA>0</NODATA>
    </ComplexSource>
    <ComplexSource>
      <SourceFilename relativeToVRT="1">Z3X4Y3/S16E039_3857_zeroToNull.vrt</SourceFilename>
      <SourceBand>1</SourceBand>
      <SourceProperties RasterXSize="3712" RasterYSize="3852" DataType="Float32" BlockXSize="512" BlockYSize="128" />
      <SrcRect xOff="0" yOff="0" xSize="3712" ySize="3852" />
      <DstRect xOff="126162.08956571" yOff="56306.6531402214" xSize="3712" ySize="3852" />
      <NODATA>0</NODATA>
    </ComplexSource>
    <ComplexSource>
      <SourceFilename relativeToVRT="1">Z3X4Y3/S31E020_3857_zeroToNull.vrt</SourceFilename>
      <SourceBand>1</SourceBand>
      <SourceProperties RasterXSize="3712" RasterYSize="4308" DataType="Float32" BlockXSize="512" BlockYSize="128" />
      <SrcRect xOff="0" yOff="0" xSize="3712" ySize="4308" />
      <DstRect xOff="55659.7453966368" yOff="116784.915056187" xSize="3712" ySize="4308" />
      <NODATA>0</NODATA>
    </ComplexSource>
    <ComplexSource>
      <SourceFilename relativeToVRT="1">Z3X4Y3/S29E021_3857_zeroToNull.vrt</SourceFilename>
      <SourceBand>1</SourceBand>
      <SourceProperties RasterXSize="3712" RasterYSize="4223" DataType="Float32" BlockXSize="512" BlockYSize="128" />
      <SrcRect xOff="0" yOff="0" xSize="3712" ySize="4223" />
      <DstRect xOff="59370.3950897459" yOff="108299.057999712" xSize="3712" ySize="4223" />
      <NODATA>0</NODATA>
    </ComplexSource>
    <ComplexSource>
      <SourceFilename relativeToVRT="1">Z3X4Y3/S18E027_3857_zeroToNull.vrt</SourceFilename>
      <SourceBand>1</SourceBand>
      <SourceProperties RasterXSize="3712" RasterYSize="3892" DataType="Float32" BlockXSize="512" BlockYSize="128" />
      <SrcRect xOff="0" yOff="0" xSize="3712" ySize="3892" />
      <DstRect xOff="81634.2932484006" yOff="64027.4777980455" xSize="3712" ySize="3892" />
      <NODATA>0</NODATA>
    </ComplexSource>
    <ComplexSource>
      <SourceFilename relativeToVRT="1">Z3X4Y3/S04E016_3857_zeroToNull.vrt</SourceFilename>
      <SourceBand>1</SourceBand>
      <SourceProperties RasterXSize="3712" RasterYSize="3718" DataType="Float32" BlockXSize="512" BlockYSize="128" />
      <SrcRect xOff="0" yOff="0" xSize="3712" ySize="3718" />
      <DstRect xOff="40817.1466242003" yOff="11137.0383395015" xSize="3712" ySize="3718" />
      <NODATA>0</NODATA>
    </ComplexSource>
    <ComplexSource>
      <SourceFilename relativeToVRT="1">Z3X4Y3/S26E030_3857_zeroToNull.vrt</SourceFilename>
      <SourceBand>1</SourceBand>
      <SourceProperties RasterXSize="3712" RasterYSize="4112" DataType="Float32" BlockXSize="512" BlockYSize="128" />
      <SrcRect xOff="0" yOff="0" xSize="3712" ySize="4112" />
      <DstRect xOff="92766.242327728" yOff="95858.1008677235" xSize="3712" ySize="4112" />
      <NODATA>0</NODATA>
    </ComplexSource>
    <ComplexSource>
      <SourceFilename relativeToVRT="1">Z3X4Y3/S07E026_3857_zeroToNull.vrt</SourceFilename>
      <SourceBand>1</SourceBand>
      <SourceProperties RasterXSize="3711" RasterYSize="3736" DataType="Float32" BlockXSize="512" BlockYSize="128" />
      <SrcRect xOff="0" yOff="0" xSize="3711" ySize="3736" />
      <DstRect xOff="77923.6435552915" yOff="22304.6990627498" xSize="3711" ySize="3736" />
      <NODATA>0</NODATA>
    </ComplexSource>
    <ComplexSource>
      <SourceFilename relativeToVRT="1">Z3X4Y3/S12E015_3857_zeroToNull.vrt</SourceFilename>
      <SourceBand>1</SourceBand>
      <SourceProperties RasterXSize="3711" RasterYSize="3787" DataType="Float32" BlockXSize="512" BlockYSize="128" />
      <SrcRect xOff="0" yOff="0" xSize="3711" ySize="3787" />
      <DstRect xOff="37106.4969310912" yOff="41070.2170840298" xSize="3711" ySize="3787" />
      <NODATA>0</NODATA>
    </ComplexSource>
    <ComplexSource>
      <SourceFilename relativeToVRT="1">Z3X4Y3/S16E033_3857_zeroToNull.vrt</SourceFilename>
      <SourceBand>1</SourceBand>
      <SourceProperties RasterXSize="3712" RasterYSize="3852" DataType="Float32" BlockXSize="512" BlockYSize="128" />
      <SrcRect xOff="0" yOff="0" xSize="3712" ySize="3852" />
      <DstRect xOff="103898.191407055" yOff="56306.6531402214" xSize="3712" ySize="3852" />
      <NODATA>0</NODATA>
    </ComplexSource>
    <ComplexSource>
      <SourceFilename relativeToVRT="1">Z3X4Y3/S34E018_3857_zeroToNull.vrt</SourceFilename>
      <SourceBand>1</SourceBand>
      <SourceProperties RasterXSize="3711" RasterYSize="4451" DataType="Float32" BlockXSize="512" BlockYSize="128" />
      <SrcRect xOff="0" yOff="0" xSize="3711" ySize="4451" />
      <DstRect xOff="48238.4460104185" yOff="129843.366309059" xSize="3711" ySize="4451" />
      <NODATA>0</NODATA>
    </ComplexSource>
    <ComplexSource>
      <SourceFilename relativeToVRT="1">Z3X4Y3/S06E028_3857_zeroToNull.vrt</SourceFilename>
      <SourceBand>1</SourceBand>
      <SourceProperties RasterXSize="3712" RasterYSize="3729" DataType="Float32" BlockXSize="512" BlockYSize="128" />
      <SrcRect xOff="0" yOff="0" xSize="3712" ySize="3729" />
      <DstRect xOff="85344.9429415097" yOff="18576.8399405853" xSize="3712" ySize="3729" />
      <NODATA>0</NODATA>
    </ComplexSource>
    <ComplexSource>
      <SourceFilename relativeToVRT="1">Z3X4Y3/S30E028_3857_zeroToNull.vrt</SourceFilename>
      <SourceBand>1</SourceBand>
      <SourceProperties RasterXSize="3711" RasterYSize="4264" DataType="Float32" BlockXSize="512" BlockYSize="128" />
      <SrcRect xOff="0" yOff="0" xSize="3711" ySize="4264" />
      <DstRect xOff="85344.9429415097" yOff="112521.460617605" xSize="3711" ySize="4264" />
      <NODATA>0</NODATA>
    </ComplexSource>
    <ComplexSource>
      <SourceFilename relativeToVRT="1">Z3X4Y3/S01E032_3857_zeroToNull.vrt</SourceFilename>
      <SourceBand>1</SourceBand>
      <SourceProperties RasterXSize="3712" RasterYSize="3712" DataType="Float32" BlockXSize="512" BlockYSize="128" />
      <SrcRect xOff="0" yOff="0" xSize="3712" ySize="3712" />
      <DstRect xOff="100187.541713946" yOff="0" xSize="3712" ySize="3712" />
      <NODATA>0</NODATA>
    </ComplexSource>
    <ComplexSource>
      <SourceFilename relativeToVRT="1">Z3X4Y3/S09E031_3857_zeroToNull.vrt</SourceFilename>
      <SourceBand>1</SourceBand>
      <SourceProperties RasterXSize="3712" RasterYSize="3753" DataType="Float32" BlockXSize="512" BlockYSize="128" />
      <SrcRect xOff="0" yOff="0" xSize="3712" ySize="3753" />
      <DstRect xOff="96476.8920208371" yOff="29782.119969027" xSize="3712" ySize="3753" />
      <NODATA>0</NODATA>
    </ComplexSource>
    <ComplexSource>
      <SourceFilename relativeToVRT="1">Z3X4Y3/S17E022_3857_zeroToNull.vrt</SourceFilename>
      <SourceBand>1</SourceBand>
      <SourceProperties RasterXSize="3711" RasterYSize="3871" DataType="Float32" BlockXSize="512" BlockYSize="128" />
      <SrcRect xOff="0" yOff="0" xSize="3711" ySize="3871" />
      <DstRect xOff="63081.044782855" yOff="60157.4047730559" xSize="3711" ySize="3871" />
      <NODATA>0</NODATA>
    </ComplexSource>
    <ComplexSource>
      <SourceFilename relativeToVRT="1">Z3X4Y3/S10E015_3857_zeroToNull.vrt</SourceFilename>
      <SourceBand>1</SourceBand>
      <SourceProperties RasterXSize="3712" RasterYSize="3764" DataType="Float32" BlockXSize="512" BlockYSize="128" />
      <SrcRect xOff="0" yOff="0" xSize="3712" ySize="3764" />
      <DstRect xOff="37106.4969310912" yOff="33534.0290011442" xSize="3712" ySize="3764" />
      <NODATA>0</NODATA>
    </ComplexSource>
    <ComplexSource>
      <SourceFilename relativeToVRT="1">Z3X4Y3/S08E036_3857_zeroToNull.vrt</SourceFilename>
      <SourceBand>1</SourceBand>
      <SourceProperties RasterXSize="3711" RasterYSize="3743" DataType="Float32" BlockXSize="512" BlockYSize="128" />
      <SrcRect xOff="0" yOff="0" xSize="3711" ySize="3743" />
      <DstRect xOff="115030.140486383" yOff="26039.4032693618" xSize="3711" ySize="3743" />
      <NODATA>0</NODATA>
    </ComplexSource>
    <ComplexSource>
      <SourceFilename relativeToVRT="1">Z3X4Y3/S18E013_3857_zeroToNull.vrt</SourceFilename>
      <SourceBand>1</SourceBand>
      <SourceProperties RasterXSize="3712" RasterYSize="3892" DataType="Float32" BlockXSize="512" BlockYSize="128" />
      <SrcRect xOff="0" yOff="0" xSize="3712" ySize="3892" />
      <DstRect xOff="29685.1975448729" yOff="64027.4777980455" xSize="3712" ySize="3892" />
      <NODATA>0</NODATA>
    </ComplexSource>
    <ComplexSource>
      <SourceFilename relativeToVRT="1">Z3X4Y3/S16E015_3857_zeroToNull.vrt</SourceFilename>
      <SourceBand>1</SourceBand>
      <SourceProperties RasterXSize="3712" RasterYSize="3852" DataType="Float32" BlockXSize="512" BlockYSize="128" />
      <SrcRect xOff="0" yOff="0" xSize="3712" ySize="3852" />
      <DstRect xOff="37106.4969310912" yOff="56306.6531402214" xSize="3712" ySize="3852" />
      <NODATA>0</NODATA>
    </ComplexSource>
    <ComplexSource>
      <SourceFilename relativeToVRT="1">Z3X4Y3/S23E044_3857_zeroToNull.vrt</SourceFilename>
      <SourceBand>1</SourceBand>
      <SourceProperties RasterXSize="3712" RasterYSize="4018" DataType="Float32" BlockXSize="512" BlockYSize="128" />
      <SrcRect xOff="0" yOff="0" xSize="3711.66196874439" ySize="4018" />
      <DstRect xOff="144715.338031256" yOff="83717.4673541683" xSize="3711.66196874439" ySize="4018" />
      <NODATA>0</NODATA>
    </ComplexSource>
    <ComplexSource>
      <SourceFilename relativeToVRT="1">Z3X4Y3/S05E011_3857_zeroToNull.vrt</SourceFilename>
      <SourceBand>1</SourceBand>
      <SourceProperties RasterXSize="3711" RasterYSize="3724" DataType="Float32" BlockXSize="512" BlockYSize="128" />
      <SrcRect xOff="0" yOff="0" xSize="3711" ySize="3724" />
      <DstRect xOff="22263.8981586547" yOff="14854.6690634352" xSize="3711" ySize="3724" />
      <NODATA>0</NODATA>
    </ComplexSource>
    <ComplexSource>
      <SourceFilename relativeToVRT="1">Z3X4Y3/S04E017_3857_zeroToNull.vrt</SourceFilename>
      <SourceBand>1</SourceBand>
      <SourceProperties RasterXSize="3712" RasterYSize="3718" DataType="Float32" BlockXSize="512" BlockYSize="128" />
      <SrcRect xOff="0" yOff="0" xSize="3712" ySize="3718" />
      <DstRect xOff="44527.7963173094" yOff="11137.0383395015" xSize="3712" ySize="3718" />
      <NODATA>0</NODATA>
    </ComplexSource>
    <ComplexSource>
      <SourceFilename relativeToVRT="1">Z3X4Y3/S24E044_3857_zeroToNull.vrt</SourceFilename>
      <SourceBand>1</SourceBand>
      <SourceProperties RasterXSize="3712" RasterYSize="4047" DataType="Float32" BlockXSize="512" BlockYSize="128" />
      <SrcRect xOff="0" yOff="0" xSize="3711.66196874439" ySize="4047" />
      <DstRect xOff="144715.338031256" yOff="87733.9100791261" xSize="3711.66196874439" ySize="4047" />
      <NODATA>0</NODATA>
    </ComplexSource>
    <ComplexSource>
      <SourceFilename relativeToVRT="1">Z3X4Y3/S05E017_3857_zeroToNull.vrt</SourceFilename>
      <SourceBand>1</SourceBand>
      <SourceProperties RasterXSize="3711" RasterYSize="3724" DataType="Float32" BlockXSize="512" BlockYSize="128" />
      <SrcRect xOff="0" yOff="0" xSize="3711" ySize="3724" />
      <DstRect xOff="44527.7963173094" yOff="14854.6690634352" xSize="3711" ySize="3724" />
      <NODATA>0</NODATA>
    </ComplexSource>
    <ComplexSource>
      <SourceFilename relativeToVRT="1">Z3X4Y3/S21E031_3857_zeroToNull.vrt</SourceFilename>
      <SourceBand>1</SourceBand>
      <SourceProperties RasterXSize="3711" RasterYSize="3963" DataType="Float32" BlockXSize="512" BlockYSize="128" />
      <SrcRect xOff="0" yOff="0" xSize="3711" ySize="3963" />
      <DstRect xOff="96476.8920208371" yOff="75767.6644913272" xSize="3711" ySize="3963" />
      <NODATA>0</NODATA>
    </ComplexSource>
    <ComplexSource>
      <SourceFilename relativeToVRT="1">Z3X4Y3/S01E019_3857_zeroToNull.vrt</SourceFilename>
      <SourceBand>1</SourceBand>
      <SourceProperties RasterXSize="3712" RasterYSize="3712" DataType="Float32" BlockXSize="512" BlockYSize="128" />
      <SrcRect xOff="0" yOff="0" xSize="3712" ySize="3712" />
      <DstRect xOff="51949.0957035277" yOff="0" xSize="3712" ySize="3712" />
      <NODATA>0</NODATA>
    </ComplexSource>
    <ComplexSource>
      <SourceFilename relativeToVRT="1">Z3X4Y3/S04E040_3857_zeroToNull.vrt</SourceFilename>
      <SourceBand>1</SourceBand>
      <SourceProperties RasterXSize="3712" RasterYSize="3718" DataType="Float32" BlockXSize="512" BlockYSize="128" />
      <SrcRect xOff="0" yOff="0" xSize="3712" ySize="3718" />
      <DstRect xOff="129872.739258819" yOff="11137.0383395015" xSize="3712" ySize="3718" />
      <NODATA>0</NODATA>
    </ComplexSource>
    <ComplexSource>
      <SourceFilename relativeToVRT="1">Z3X4Y3/S20E028_3857_zeroToNull.vrt</SourceFilename>
      <SourceBand>1</SourceBand>
      <SourceProperties RasterXSize="3712" RasterYSize="3938" DataType="Float32" BlockXSize="512" BlockYSize="128" />
      <SrcRect xOff="0" yOff="0" xSize="3712" ySize="3938" />
      <DstRect xOff="85344.9429415097" yOff="71831.1674739013" xSize="3712" ySize="3938" />
      <NODATA>0</NODATA>
    </ComplexSource>
    <ComplexSource>
      <SourceFilename relativeToVRT="1">Z3X4Y3/S03E025_3857_zeroToNull.vrt</SourceFilename>
      <SourceBand>1</SourceBand>
      <SourceProperties RasterXSize="3711" RasterYSize="3716" DataType="Float32" BlockXSize="512" BlockYSize="128" />
      <SrcRect xOff="0" yOff="0" xSize="3711" ySize="3716" />
      <DstRect xOff="74212.9938621824" yOff="7422.80663606699" xSize="3711" ySize="3716" />
      <NODATA>0</NODATA>
    </ComplexSource>
    <ComplexSource>
      <SourceFilename relativeToVRT="1">Z3X4Y3/S21E026_3857_zeroToNull.vrt</SourceFilename>
      <SourceBand>1</SourceBand>
      <SourceProperties RasterXSize="3711" RasterYSize="3963" DataType="Float32" BlockXSize="512" BlockYSize="128" />
      <SrcRect xOff="0" yOff="0" xSize="3711" ySize="3963" />
      <DstRect xOff="77923.6435552915" yOff="75767.6644913272" xSize="3711" ySize="3963" />
      <NODATA>0</NODATA>
    </ComplexSource>
    <ComplexSource>
      <SourceFilename relativeToVRT="1">Z3X4Y3/S22E019_3857_zeroToNull.vrt</SourceFilename>
      <SourceBand>1</SourceBand>
      <SourceProperties RasterXSize="3712" RasterYSize="3989" DataType="Float32" BlockXSize="512" BlockYSize="128" />
      <SrcRect xOff="0" yOff="0" xSize="3712" ySize="3989" />
      <DstRect xOff="51949.0957035277" yOff="79729.2495992133" xSize="3712" ySize="3989" />
      <NODATA>0</NODATA>
    </ComplexSource>
    <ComplexSource>
      <SourceFilename relativeToVRT="1">Z3X4Y3/S31E017_3857_zeroToNull.vrt</SourceFilename>
      <SourceBand>1</SourceBand>
      <SourceProperties RasterXSize="3712" RasterYSize="4308" DataType="Float32" BlockXSize="512" BlockYSize="128" />
      <SrcRect xOff="0" yOff="0" xSize="3712" ySize="4308" />
      <DstRect xOff="44527.7963173094" yOff="116784.915056187" xSize="3712" ySize="4308" />
      <NODATA>0</NODATA>
    </ComplexSource>
    <ComplexSource>
      <SourceFilename relativeToVRT="1">Z3X4Y3/S06E035_3857_zeroToNull.vrt</SourceFilename>
      <SourceBand>1</SourceBand>
      <SourceProperties RasterXSize="3712" RasterYSize="3729" DataType="Float32" BlockXSize="512" BlockYSize="128" />
      <SrcRect xOff="0" yOff="0" xSize="3712" ySize="3729" />
      <DstRect xOff="111319.490793274" yOff="18576.8399405853" xSize="3712" ySize="3729" />
      <NODATA>0</NODATA>
    </ComplexSource>
    <ComplexSource>
      <SourceFilename relativeToVRT="1">Z3X4Y3/S02E018_3857_zeroToNull.vrt</SourceFilename>
      <SourceBand>1</SourceBand>
      <SourceProperties RasterXSize="3711" RasterYSize="3713" DataType="Float32" BlockXSize="512" BlockYSize="128" />
      <SrcRect xOff="0" yOff="0" xSize="3711" ySize="3713" />
      <DstRect xOff="48238.4460104185" yOff="3710.83801705207" xSize="3711" ySize="3713" />
      <NODATA>0</NODATA>
    </ComplexSource>
    <ComplexSource>
      <SourceFilename relativeToVRT="1">Z3X4Y3/S03E021_3857_zeroToNull.vrt</SourceFilename>
      <SourceBand>1</SourceBand>
      <SourceProperties RasterXSize="3711" RasterYSize="3716" DataType="Float32" BlockXSize="512" BlockYSize="128" />
      <SrcRect xOff="0" yOff="0" xSize="3711" ySize="3716" />
      <DstRect xOff="59370.3950897459" yOff="7422.80663606699" xSize="3711" ySize="3716" />
      <NODATA>0</NODATA>
    </ComplexSource>
    <ComplexSource>
      <SourceFilename relativeToVRT="1">Z3X4Y3/S15E027_3857_zeroToNull.vrt</SourceFilename>
      <SourceBand>1</SourceBand>
      <SourceProperties RasterXSize="3711" RasterYSize="3834" DataType="Float32" BlockXSize="512" BlockYSize="128" />
      <SrcRect xOff="0" yOff="0" xSize="3711" ySize="3834" />
      <DstRect xOff="81634.2932484006" yOff="52473.8691615907" xSize="3711" ySize="3834" />
      <NODATA>0</NODATA>
    </ComplexSource>
    <ComplexSource>
      <SourceFilename relativeToVRT="1">Z3X4Y3/S04E028_3857_zeroToNull.vrt</SourceFilename>
      <SourceBand>1</SourceBand>
      <SourceProperties RasterXSize="3712" RasterYSize="3718" DataType="Float32" BlockXSize="512" BlockYSize="128" />
      <SrcRect xOff="0" yOff="0" xSize="3712" ySize="3718" />
      <DstRect xOff="85344.9429415097" yOff="11137.0383395015" xSize="3712" ySize="3718" />
      <NODATA>0</NODATA>
    </ComplexSource>
    <ComplexSource>
      <SourceFilename relativeToVRT="1">Z3X4Y3/S18E021_3857_zeroToNull.vrt</SourceFilename>
      <SourceBand>1</SourceBand>
      <SourceProperties RasterXSize="3712" RasterYSize="3892" DataType="Float32" BlockXSize="512" BlockYSize="128" />
      <SrcRect xOff="0" yOff="0" xSize="3712" ySize="3892" />
      <DstRect xOff="59370.3950897459" yOff="64027.4777980455" xSize="3712" ySize="3892" />
      <NODATA>0</NODATA>
    </ComplexSource>
    <ComplexSource>
      <SourceFilename relativeToVRT="1">Z3X4Y3/S09E030_3857_zeroToNull.vrt</SourceFilename>
      <SourceBand>1</SourceBand>
      <SourceProperties RasterXSize="3712" RasterYSize="3753" DataType="Float32" BlockXSize="512" BlockYSize="128" />
      <SrcRect xOff="0" yOff="0" xSize="3712" ySize="3753" />
      <DstRect xOff="92766.242327728" yOff="29782.119969027" xSize="3712" ySize="3753" />
      <NODATA>0</NODATA>
    </ComplexSource>
    <ComplexSource>
      <SourceFilename relativeToVRT="1">Z3X4Y3/S12E029_3857_zeroToNull.vrt</SourceFilename>
      <SourceBand>1</SourceBand>
      <SourceProperties RasterXSize="3711" RasterYSize="3787" DataType="Float32" BlockXSize="512" BlockYSize="128" />
      <SrcRect xOff="0" yOff="0" xSize="3711" ySize="3787" />
      <DstRect xOff="89055.5926346188" yOff="41070.2170840298" xSize="3711" ySize="3787" />
      <NODATA>0</NODATA>
    </ComplexSource>
    <ComplexSource>
      <SourceFilename relativeToVRT="1">Z3X4Y3/S03E036_3857_zeroToNull.vrt</SourceFilename>
      <SourceBand>1</SourceBand>
      <SourceProperties RasterXSize="3711" RasterYSize="3716" DataType="Float32" BlockXSize="512" BlockYSize="128" />
      <SrcRect xOff="0" yOff="0" xSize="3711" ySize="3716" />
      <DstRect xOff="115030.140486383" yOff="7422.80663606699" xSize="3711" ySize="3716" />
      <NODATA>0</NODATA>
    </ComplexSource>
    <ComplexSource>
      <SourceFilename relativeToVRT="1">Z3X4Y3/S22E016_3857_zeroToNull.vrt</SourceFilename>
      <SourceBand>1</SourceBand>
      <SourceProperties RasterXSize="3712" RasterYSize="3989" DataType="Float32" BlockXSize="512" BlockYSize="128" />
      <SrcRect xOff="0" yOff="0" xSize="3712" ySize="3989" />
      <DstRect xOff="40817.1466242003" yOff="79729.2495992133" xSize="3712" ySize="3989" />
      <NODATA>0</NODATA>
    </ComplexSource>
    <ComplexSource>
      <SourceFilename relativeToVRT="1">Z3X4Y3/S23E015_3857_zeroToNull.vrt</SourceFilename>
      <SourceBand>1</SourceBand>
      <SourceProperties RasterXSize="3712" RasterYSize="4018" DataType="Float32" BlockXSize="512" BlockYSize="128" />
      <SrcRect xOff="0" yOff="0" xSize="3712" ySize="4018" />
      <DstRect xOff="37106.4969310912" yOff="83717.4673541683" xSize="3712" ySize="4018" />
      <NODATA>0</NODATA>
    </ComplexSource>
    <ComplexSource>
      <SourceFilename relativeToVRT="1">Z3X4Y3/S01E026_3857_zeroToNull.vrt</SourceFilename>
      <SourceBand>1</SourceBand>
