<VRTDataset rasterXSize="70503" rasterYSize="84870">
  <SRS dataAxisToSRSAxisMapping="1,2">PROJCS["WGS 84 / Pseudo-Mercator",GEOGCS["WGS 84",DATUM["WGS_1984",SPHEROID["WGS 84",6378137,298.257223563,AUTHORITY["EPSG","7030"]],AUTHORITY["EPSG","6326"]],PRIMEM["Greenwich",0,AUTHORITY["EPSG","8901"]],UNIT["degree",0.0174532925199433,AUTHORITY["EPSG","9122"]],AUTHORITY["EPSG","4326"]],PROJECTION["Mercator_1SP"],PARAMETER["central_meridian",0],PARAMETER["scale_factor",1],PARAMETER["false_easting",0],PARAMETER["false_northing",0],UNIT["metre",1,AUTHORITY["EPSG","9001"]],AXIS["Easting",EAST],AXIS["Northing",NORTH],EXTENSION["PROJ4","+proj=merc +a=6378137 +b=6378137 +lat_ts=0 +lon_0=0 +x_0=0 +y_0=0 +k=1 +units=m +nadgrids=@null +wktext +no_defs"],AUTHORITY["EPSG","3857"]]</SRS>
  <GeoTransform> -8.4602967613291778e+06,  3.0000000000000000e+01,  0.0000000000000000e+00, -5.0123211777896956e+06,  0.0000000000000000e+00, -3.0000000000000000e+01</GeoTransform>
  <VRTRasterBand dataType="Float32" band="1">
    <NoDataValue>0</NoDataValue>
    <ComplexSource>
      <SourceFilename relativeToVRT="1">Z3X2Y2/S55W064_3857_zeroToNull.vrt</SourceFilename>
      <SourceBand>1</SourceBand>
      <SourceProperties RasterXSize="3711" RasterYSize="6392" DataType="Float32" BlockXSize="512" BlockYSize="128" />
      <SrcRect xOff="0" yOff="0" xSize="3711" ySize="6392" />
      <DstRect xOff="44527.7963173094" yOff="71926.9604120375" xSize="3711" ySize="6392" />
      <NODATA>0</NODATA>
    </ComplexSource>
    <ComplexSource>
      <SourceFilename relativeToVRT="1">Z3X2Y2/S47W076_3857_zeroToNull.vrt</SourceFilename>
      <SourceBand>1</SourceBand>
      <SourceProperties RasterXSize="3711" RasterYSize="5392" DataType="Float32" BlockXSize="512" BlockYSize="128" />
      <SrcRect xOff="0" yOff="0" xSize="3711" ySize="5392" />
      <DstRect xOff="0" yOff="25600.1928484264" xSize="3711" ySize="5392" />
      <NODATA>0</NODATA>
    </ComplexSource>
    <ComplexSource>
      <SourceFilename relativeToVRT="1">Z3X2Y2/S42W074_3857_zeroToNull.vrt</SourceFilename>
      <SourceBand>1</SourceBand>
      <SourceProperties RasterXSize="3712" RasterYSize="4956" DataType="Float32" BlockXSize="512" BlockYSize="128" />
      <SrcRect xOff="0" yOff="0" xSize="3712" ySize="4956" />
      <DstRect xOff="7421.29938621822" yOff="0" xSize="3712" ySize="4956" />
      <NODATA>0</NODATA>
    </ComplexSource>
    <ComplexSource>
      <SourceFilename relativeToVRT="1">Z3X2Y2/S52W069_3857_zeroToNull.vrt</SourceFilename>
      <SourceBand>1</SourceBand>
      <SourceProperties RasterXSize="3711" RasterYSize="5962" DataType="Float32" BlockXSize="512" BlockYSize="128" />
      <SrcRect xOff="0" yOff="0" xSize="3711" ySize="5962" />
      <DstRect xOff="25974.5478517638" yOff="53631.5992383627" xSize="3711" ySize="5962" />
      <NODATA>0</NODATA>
    </ComplexSource>
    <ComplexSource>
      <SourceFilename relativeToVRT="1">Z3X2Y2/S55W067_3857_zeroToNull.vrt</SourceFilename>
      <SourceBand>1</SourceBand>
      <SourceProperties RasterXSize="3711" RasterYSize="6392" DataType="Float32" BlockXSize="512" BlockYSize="128" />
      <SrcRect xOff="0" yOff="0" xSize="3711" ySize="6392" />
      <DstRect xOff="33395.847237982" yOff="71926.9604120375" xSize="3711" ySize="6392" />
      <NODATA>0</NODATA>
    </ComplexSource>
    <ComplexSource>
      <SourceFilename relativeToVRT="1">Z3X2Y2/S54W074_3857_zeroToNull.vrt</SourceFilename>
      <SourceBand>1</SourceBand>
      <SourceProperties RasterXSize="3711" RasterYSize="6241" DataType="Float32" BlockXSize="512" BlockYSize="128" />
      <SrcRect xOff="0" yOff="0" xSize="3711" ySize="6241" />
      <DstRect xOff="7421.29938621822" yOff="65688.368398536" xSize="3711" ySize="6241" />
      <NODATA>0</NODATA>
    </ComplexSource>
    <ComplexSource>
      <SourceFilename relativeToVRT="1">Z3X2Y2/S42W073_3857_zeroToNull.vrt</SourceFilename>
      <SourceBand>1</SourceBand>
      <SourceProperties RasterXSize="3712" RasterYSize="4956" DataType="Float32" BlockXSize="512" BlockYSize="128" />
      <SrcRect xOff="0" yOff="0" xSize="3712" ySize="4956" />
      <DstRect xOff="11131.9490793273" yOff="0" xSize="3712" ySize="4956" />
      <NODATA>0</NODATA>
    </ComplexSource>
    <ComplexSource>
      <SourceFilename relativeToVRT="1">Z3X2Y2/S45W075_3857_zeroToNull.vrt</SourceFilename>
      <SourceBand>1</SourceBand>
      <SourceProperties RasterXSize="3712" RasterYSize="5204" DataType="Float32" BlockXSize="512" BlockYSize="128" />
      <SrcRect xOff="0" yOff="0" xSize="3712" ySize="5204" />
      <DstRect xOff="3710.6496931091" yOff="15103.3170727595" xSize="3712" ySize="5204" />
      <NODATA>0</NODATA>
    </ComplexSource>
    <ComplexSource>
      <SourceFilename relativeToVRT="1">Z3X2Y2/S50W075_3857_zeroToNull.vrt</SourceFilename>
      <SourceBand>1</SourceBand>
      <SourceProperties RasterXSize="3712" RasterYSize="5715" DataType="Float32" BlockXSize="512" BlockYSize="128" />
      <SrcRect xOff="0" yOff="0" xSize="3712" ySize="5715" />
      <DstRect xOff="3710.6496931091" yOff="42083.8883237068" xSize="3712" ySize="5715" />
      <NODATA>0</NODATA>
    </ComplexSource>
    <ComplexSource>
      <SourceFilename relativeToVRT="1">Z3X2Y2/S47W068_3857_zeroToNull.vrt</SourceFilename>
      <SourceBand>1</SourceBand>
      <SourceProperties RasterXSize="3711" RasterYSize="5392" DataType="Float32" BlockXSize="512" BlockYSize="128" />
      <SrcRect xOff="0" yOff="0" xSize="3711" ySize="5392" />
      <DstRect xOff="29685.1975448729" yOff="25600.1928484264" xSize="3711" ySize="5392" />
      <NODATA>0</NODATA>
    </ComplexSource>
    <ComplexSource>
      <SourceFilename relativeToVRT="1">Z3X2Y2/S52W061_3857_zeroToNull.vrt</SourceFilename>
      <SourceBand>1</SourceBand>
      <SourceProperties RasterXSize="3711" RasterYSize="5962" DataType="Float32" BlockXSize="512" BlockYSize="128" />
      <SrcRect xOff="0" yOff="0" xSize="3711" ySize="5962" />
      <DstRect xOff="55659.7453966367" yOff="53631.5992383627" xSize="3711" ySize="5962" />
      <NODATA>0</NODATA>
    </ComplexSource>
    <ComplexSource>
      <SourceFilename relativeToVRT="1">Z3X2Y2/S54W068_3857_zeroToNull.vrt</SourceFilename>
      <SourceBand>1</SourceBand>
      <SourceProperties RasterXSize="3711" RasterYSize="6241" DataType="Float32" BlockXSize="512" BlockYSize="128" />
      <SrcRect xOff="0" yOff="0" xSize="3711" ySize="6241" />
      <DstRect xOff="29685.1975448729" yOff="65688.368398536" xSize="3711" ySize="6241" />
      <NODATA>0</NODATA>
    </ComplexSource>
    <ComplexSource>
      <SourceFilename relativeToVRT="1">Z3X2Y2/S48W068_3857_zeroToNull.vrt</SourceFilename>
      <SourceBand>1</SourceBand>
      <SourceProperties RasterXSize="3712" RasterYSize="5494" DataType="Float32" BlockXSize="512" BlockYSize="128" />
      <SrcRect xOff="0" yOff="0" xSize="3712" ySize="5494" />
      <DstRect xOff="29685.1975448729" yOff="30991.0074823056" xSize="3712" ySize="5494" />
      <NODATA>0</NODATA>
    </ComplexSource>
    <ComplexSource>
      <SourceFilename relativeToVRT="1">Z3X2Y2/S52W058_3857_zeroToNull.vrt</SourceFilename>
      <SourceBand>1</SourceBand>
      <SourceProperties RasterXSize="3711" RasterYSize="5962" DataType="Float32" BlockXSize="512" BlockYSize="128" />
      <SrcRect xOff="0" yOff="0" xSize="3711" ySize="5962" />
      <DstRect xOff="66791.6944759641" yOff="53631.5992383627" xSize="3711" ySize="5962" />
      <NODATA>0</NODATA>
    </ComplexSource>
    <ComplexSource>
      <SourceFilename relativeToVRT="1">Z3X2Y2/S46W073_3857_zeroToNull.vrt</SourceFilename>
      <SourceBand>1</SourceBand>
      <SourceProperties RasterXSize="3712" RasterYSize="5295" DataType="Float32" BlockXSize="512" BlockYSize="128" />
      <SrcRect xOff="0" yOff="0" xSize="3712" ySize="5295" />
      <DstRect xOff="11131.9490793273" yOff="20305.9481071956" xSize="3712" ySize="5295" />
      <NODATA>0</NODATA>
    </ComplexSource>
    <ComplexSource>
      <SourceFilename relativeToVRT="1">Z3X2Y2/S56W067_3857_zeroToNull.vrt</SourceFilename>
      <SourceBand>1</SourceBand>
      <SourceProperties RasterXSize="3712" RasterYSize="6553" DataType="Float32" BlockXSize="512" BlockYSize="128" />
      <SrcRect xOff="0" yOff="0" xSize="3712" ySize="6552.734006439" />
      <DstRect xOff="33395.847237982" yOff="78317.265993561" xSize="3712" ySize="6552.734006439" />
      <NODATA>0</NODATA>
    </ComplexSource>
    <ComplexSource>
      <SourceFilename relativeToVRT="1">Z3X2Y2/S52W070_3857_zeroToNull.vrt</SourceFilename>
      <SourceBand>1</SourceBand>
      <SourceProperties RasterXSize="3711" RasterYSize="5962" DataType="Float32" BlockXSize="512" BlockYSize="128" />
      <SrcRect xOff="0" yOff="0" xSize="3711" ySize="5962" />
      <DstRect xOff="22263.8981586547" yOff="53631.5992383627" xSize="3711" ySize="5962" />
      <NODATA>0</NODATA>
    </ComplexSource>
    <ComplexSource>
      <SourceFilename relativeToVRT="1">Z3X2Y2/S49W070_3857_zeroToNull.vrt</SourceFilename>
      <SourceBand>1</SourceBand>
      <SourceProperties RasterXSize="3712" RasterYSize="5601" DataType="Float32" BlockXSize="512" BlockYSize="128" />
      <SrcRect xOff="0" yOff="0" xSize="3712" ySize="5601" />
      <DstRect xOff="22263.8981586547" yOff="36483.6850321395" xSize="3712" ySize="5601" />
      <NODATA>0</NODATA>
    </ComplexSource>
    <ComplexSource>
      <SourceFilename relativeToVRT="1">Z3X2Y2/S49W076_3857_zeroToNull.vrt</SourceFilename>
      <SourceBand>1</SourceBand>
      <SourceProperties RasterXSize="3712" RasterYSize="5601" DataType="Float32" BlockXSize="512" BlockYSize="128" />
      <SrcRect xOff="0" yOff="0" xSize="3712" ySize="5601" />
      <DstRect xOff="0" yOff="36483.6850321395" xSize="3712" ySize="5601" />
      <NODATA>0</NODATA>
    </ComplexSource>
    <ComplexSource>
      <SourceFilename relativeToVRT="1">Z3X2Y2/S50W068_3857_zeroToNull.vrt</SourceFilename>
      <SourceBand>1</SourceBand>
      <SourceProperties RasterXSize="3712" RasterYSize="5715" DataType="Float32" BlockXSize="512" BlockYSize="128" />
      <SrcRect xOff="0" yOff="0" xSize="3712" ySize="5715" />
      <DstRect xOff="29685.1975448729" yOff="42083.8883237068" xSize="3712" ySize="5715" />
      <NODATA>0</NODATA>
    </ComplexSource>
    <ComplexSource>
      <SourceFilename relativeToVRT="1">Z3X2Y2/S44W071_3857_zeroToNull.vrt</SourceFilename>
      <SourceBand>1</SourceBand>
      <SourceProperties RasterXSize="3712" RasterYSize="5117" DataType="Float32" BlockXSize="512" BlockYSize="128" />
      <SrcRect xOff="0" yOff="0" xSize="3712" ySize="5117" />
      <DstRect xOff="18553.2484655455" yOff="9987.65096248565" xSize="3712" ySize="5117" />
      <NODATA>0</NODATA>
    </ComplexSource>
    <ComplexSource>
      <SourceFilename relativeToVRT="1">Z3X2Y2/S42W069_3857_zeroToNull.vrt</SourceFilename>
      <SourceBand>1</SourceBand>
      <SourceProperties RasterXSize="3712" RasterYSize="4956" DataType="Float32" BlockXSize="512" BlockYSize="128" />
      <SrcRect xOff="0" yOff="0" xSize="3712" ySize="4956" />
      <DstRect xOff="25974.5478517638" yOff="0" xSize="3712" ySize="4956" />
      <NODATA>0</NODATA>
    </ComplexSource>
    <ComplexSource>
      <SourceFilename relativeToVRT="1">Z3X2Y2/S56W071_3857_zeroToNull.vrt</SourceFilename>
      <SourceBand>1</SourceBand>
      <SourceProperties RasterXSize="3712" RasterYSize="6553" DataType="Float32" BlockXSize="512" BlockYSize="128" />
      <SrcRect xOff="0" yOff="0" xSize="3712" ySize="6552.734006439" />
      <DstRect xOff="18553.2484655455" yOff="78317.265993561" xSize="3712" ySize="6552.734006439" />
      <NODATA>0</NODATA>
    </ComplexSource>
    <ComplexSource>
      <SourceFilename relativeToVRT="1">Z3X2Y2/S54W075_3857_zeroToNull.vrt</SourceFilename>
      <SourceBand>1</SourceBand>
      <SourceProperties RasterXSize="3711" RasterYSize="6241" DataType="Float32" BlockXSize="512" BlockYSize="128" />
      <SrcRect xOff="0" yOff="0" xSize="3711" ySize="6241" />
      <DstRect xOff="3710.6496931091" yOff="65688.368398536" xSize="3711" ySize="6241" />
      <NODATA>0</NODATA>
    </ComplexSource>
    <ComplexSource>
      <SourceFilename relativeToVRT="1">Z3X2Y2/S46W069_3857_zeroToNull.vrt</SourceFilename>
      <SourceBand>1</SourceBand>
      <SourceProperties RasterXSize="3712" RasterYSize="5295" DataType="Float32" BlockXSize="512" BlockYSize="128" />
      <SrcRect xOff="0" yOff="0" xSize="3712" ySize="5295" />
      <DstRect xOff="25974.5478517638" yOff="20305.9481071956" xSize="3712" ySize="5295" />
      <NODATA>0</NODATA>
    </ComplexSource>
    <ComplexSource>
      <SourceFilename relativeToVRT="1">Z3X2Y2/S53W076_3857_zeroToNull.vrt</SourceFilename>
      <SourceBand>1</SourceBand>
      <SourceProperties RasterXSize="3712" RasterYSize="6097" DataType="Float32" BlockXSize="512" BlockYSize="128" />
      <SrcRect xOff="0" yOff="0" xSize="3712" ySize="6097" />
      <DstRect xOff="0" yOff="59592.6387918055" xSize="3712" ySize="6097" />
      <NODATA>0</NODATA>
    </ComplexSource>
    <ComplexSource>
      <SourceFilename relativeToVRT="1">Z3X2Y2/S46W074_3857_zeroToNull.vrt</SourceFilename>
      <SourceBand>1</SourceBand>
      <SourceProperties RasterXSize="3712" RasterYSize="5295" DataType="Float32" BlockXSize="512" BlockYSize="128" />
      <SrcRect xOff="0" yOff="0" xSize="3712" ySize="5295" />
      <DstRect xOff="7421.29938621822" yOff="20305.9481071956" xSize="3712" ySize="5295" />
      <NODATA>0</NODATA>
    </ComplexSource>
    <ComplexSource>
      <SourceFilename relativeToVRT="1">Z3X2Y2/S50W069_3857_zeroToNull.vrt</SourceFilename>
      <SourceBand>1</SourceBand>
      <SourceProperties RasterXSize="3712" RasterYSize="5715" DataType="Float32" BlockXSize="512" BlockYSize="128" />
      <SrcRect xOff="0" yOff="0" xSize="3712" ySize="5715" />
      <DstRect xOff="25974.5478517638" yOff="42083.8883237068" xSize="3712" ySize="5715" />
      <NODATA>0</NODATA>
    </ComplexSource>
    <ComplexSource>
      <SourceFilename relativeToVRT="1">Z3X2Y2/S49W072_3857_zeroToNull.vrt</SourceFilename>
      <SourceBand>1</SourceBand>
      <SourceProperties RasterXSize="3712" RasterYSize="5601" DataType="Float32" BlockXSize="512" BlockYSize="128" />
      <SrcRect xOff="0" yOff="0" xSize="3712" ySize="5601" />
      <DstRect xOff="14842.5987724364" yOff="36483.6850321395" xSize="3712" ySize="5601" />
      <NODATA>0</NODATA>
    </ComplexSource>
    <ComplexSource>
      <SourceFilename relativeToVRT="1">Z3X2Y2/S42W068_3857_zeroToNull.vrt</SourceFilename>
      <SourceBand>1</SourceBand>
      <SourceProperties RasterXSize="3712" RasterYSize="4956" DataType="Float32" BlockXSize="512" BlockYSize="128" />
      <SrcRect xOff="0" yOff="0" xSize="3712" ySize="4956" />
      <DstRect xOff="29685.1975448729" yOff="0" xSize="3712" ySize="4956" />
      <NODATA>0</NODATA>
    </ComplexSource>
    <ComplexSource>
      <SourceFilename relativeToVRT="1">Z3X2Y2/S51W076_3857_zeroToNull.vrt</SourceFilename>
      <SourceBand>1</SourceBand>
      <SourceProperties RasterXSize="3712" RasterYSize="5836" DataType="Float32" BlockXSize="512" BlockYSize="128" />
      <SrcRect xOff="0" yOff="0" xSize="3712" ySize="5836" />
      <DstRect xOff="0" yOff="47797.6870051096" xSize="3712" ySize="5836" />
      <NODATA>0</NODATA>
    </ComplexSource>
    <ComplexSource>
      <SourceFilename relativeToVRT="1">Z3X2Y2/S55W068_3857_zeroToNull.vrt</SourceFilename>
      <SourceBand>1</SourceBand>
      <SourceProperties RasterXSize="3711" RasterYSize="6392" DataType="Float32" BlockXSize="512" BlockYSize="128" />
      <SrcRect xOff="0" yOff="0" xSize="3711" ySize="6392" />
      <DstRect xOff="29685.1975448729" yOff="71926.9604120375" xSize="3711" ySize="6392" />
      <NODATA>0</NODATA>
    </ComplexSource>
    <ComplexSource>
      <SourceFilename relativeToVRT="1">Z3X2Y2/S52W059_3857_zeroToNull.vrt</SourceFilename>
      <SourceBand>1</SourceBand>
      <SourceProperties RasterXSize="3711" RasterYSize="5962" DataType="Float32" BlockXSize="512" BlockYSize="128" />
      <SrcRect xOff="0" yOff="0" xSize="3711" ySize="5962" />
      <DstRect xOff="63081.044782855" yOff="53631.5992383627" xSize="3711" ySize="5962" />
      <NODATA>0</NODATA>
    </ComplexSource>
    <ComplexSource>
      <SourceFilename relativeToVRT="1">Z3X2Y2/S43W067_3857_zeroToNull.vrt</SourceFilename>
      <SourceBand>1</SourceBand>
      <SourceProperties RasterXSize="3712" RasterYSize="5034" DataType="Float32" BlockXSize="512" BlockYSize="128" />
      <SrcRect xOff="0" yOff="0" xSize="3712" ySize="5034" />
      <DstRect xOff="33395.847237982" yOff="4954.58204669372" xSize="3712" ySize="5034" />
      <NODATA>0</NODATA>
    </ComplexSource>
    <ComplexSource>
      <SourceFilename relativeToVRT="1">Z3X2Y2/S48W066_3857_zeroToNull.vrt</SourceFilename>
      <SourceBand>1</SourceBand>
      <SourceProperties RasterXSize="3712" RasterYSize="5494" DataType="Float32" BlockXSize="512" BlockYSize="128" />
      <SrcRect xOff="0" yOff="0" xSize="3712" ySize="5494" />
      <DstRect xOff="37106.4969310912" yOff="30991.0074823056" xSize="3712" ySize="5494" />
      <NODATA>0</NODATA>
    </ComplexSource>
    <ComplexSource>
      <SourceFilename relativeToVRT="1">Z3X2Y2/S54W073_3857_zeroToNull.vrt</SourceFilename>
      <SourceBand>1</SourceBand>
      <SourceProperties RasterXSize="3711" RasterYSize="6241" DataType="Float32" BlockXSize="512" BlockYSize="128" />
      <SrcRect xOff="0" yOff="0" xSize="3711" ySize="6241" />
      <DstRect xOff="11131.9490793273" yOff="65688.368398536" xSize="3711" ySize="6241" />
      <NODATA>0</NODATA>
    </ComplexSource>
    <ComplexSource>
      <SourceFilename relativeToVRT="1">Z3X2Y2/S48W071_3857_zeroToNull.vrt</SourceFilename>
      <SourceBand>1</SourceBand>
      <SourceProperties RasterXSize="3712" RasterYSize="5494" DataType="Float32" BlockXSize="512" BlockYSize="128" />
      <SrcRect xOff="0" yOff="0" xSize="3712" ySize="5494" />
      <DstRect xOff="18553.2484655455" yOff="30991.0074823056" xSize="3712" ySize="5494" />
      <NODATA>0</NODATA>
    </ComplexSource>
    <ComplexSource>
      <SourceFilename relativeToVRT="1">Z3X2Y2/S42W066_3857_zeroToNull.vrt</SourceFilename>
      <SourceBand>1</SourceBand>
      <SourceProperties RasterXSize="3712" RasterYSize="4956" DataType="Float32" BlockXSize="512" BlockYSize="128" />
      <SrcRect xOff="0" yOff="0" xSize="3712" ySize="4956" />
      <DstRect xOff="37106.4969310912" yOff="0" xSize="3712" ySize="4956" />
      <NODATA>0</NODATA>
    </ComplexSource>
    <ComplexSource>
      <SourceFilename relativeToVRT="1">Z3X2Y2/S49W067_3857_zeroToNull.vrt</SourceFilename>
      <SourceBand>1</SourceBand>
      <SourceProperties RasterXSize="3712" RasterYSize="5601" DataType="Float32" BlockXSize="512" BlockYSize="128" />
      <SrcRect xOff="0" yOff="0" xSize="3712" ySize="5601" />
      <DstRect xOff="33395.847237982" yOff="36483.6850321395" xSize="3712" ySize="5601" />
      <NODATA>0</NODATA>
    </ComplexSource>
    <ComplexSource>
      <SourceFilename relativeToVRT="1">Z3X2Y2/S55W070_3857_zeroToNull.vrt</SourceFilename>
      <SourceBand>1</SourceBand>
      <SourceProperties RasterXSize="3711" RasterYSize="6392" DataType="Float32" BlockXSize="512" BlockYSize="128" />
      <SrcRect xOff="0" yOff="0" xSize="3711" ySize="6392" />
      <DstRect xOff="22263.8981586547" yOff="71926.9604120375" xSize="3711" ySize="6392" />
      <NODATA>0</NODATA>
    </ComplexSource>
    <ComplexSource>
      <SourceFilename relativeToVRT="1">Z3X2Y2/S53W059_3857_zeroToNull.vrt</SourceFilename>
      <SourceBand>1</SourceBand>
      <SourceProperties RasterXSize="3712" RasterYSize="6097" DataType="Float32" BlockXSize="512" BlockYSize="128" />
      <SrcRect xOff="0" yOff="0" xSize="3712" ySize="6097" />
      <DstRect xOff="63081.044782855" yOff="59592.6387918055" xSize="3712" ySize="6097" />
      <NODATA>0</NODATA>
    </ComplexSource>
    <ComplexSource>
      <SourceFilename relativeToVRT="1">Z3X2Y2/S56W070_3857_zeroToNull.vrt</SourceFilename>
      <SourceBand>1</SourceBand>
      <SourceProperties RasterXSize="3712" RasterYSize="6553" DataType="Float32" BlockXSize="512" BlockYSize="128" />
      <SrcRect xOff="0" yOff="0" xSize="3712" ySize="6552.734006439" />
      <DstRect xOff="22263.8981586547" yOff="78317.265993561" xSize="3712" ySize="6552.734006439" />
      <NODATA>0</NODATA>
    </ComplexSource>
    <ComplexSource>
      <SourceFilename relativeToVRT="1">Z3X2Y2/S45W071_3857_zeroToNull.vrt</SourceFilename>
      <SourceBand>1</SourceBand>
      <SourceProperties RasterXSize="3712" RasterYSize="5204" DataType="Float32" BlockXSize="512" BlockYSize="128" />
      <SrcRect xOff="0" yOff="0" xSize="3712" ySize="5204" />
      <DstRect xOff="18553.2484655455" yOff="15103.3170727595" xSize="3712" ySize="5204" />
      <NODATA>0</NODATA>
    </ComplexSource>
    <ComplexSource>
      <SourceFilename relativeToVRT="1">Z3X2Y2/S51W073_3857_zeroToNull.vrt</SourceFilename>
      <SourceBand>1</SourceBand>
      <SourceProperties RasterXSize="3712" RasterYSize="5836" DataType="Float32" BlockXSize="512" BlockYSize="128" />
      <SrcRect xOff="0" yOff="0" xSize="3712" ySize="5836" />
      <DstRect xOff="11131.9490793273" yOff="47797.6870051096" xSize="3712" ySize="5836" />
      <NODATA>0</NODATA>
    </ComplexSource>
    <ComplexSource>
      <SourceFilename relativeToVRT="1">Z3X2Y2/S55W065_3857_zeroToNull.vrt</SourceFilename>
      <SourceBand>1</SourceBand>
      <SourceProperties RasterXSize="3711" RasterYSize="6392" DataType="Float32" BlockXSize="512" BlockYSize="128" />
      <SrcRect xOff="0" yOff="0" xSize="3711" ySize="6392" />
      <DstRect xOff="40817.1466242003" yOff="71926.9604120375" xSize="3711" ySize="6392" />
      <NODATA>0</NODATA>
    </ComplexSource>
    <ComplexSource>
      <SourceFilename relativeToVRT="1">Z3X2Y2/S46W076_3857_zeroToNull.vrt</SourceFilename>
      <SourceBand>1</SourceBand>
      <SourceProperties RasterXSize="3712" RasterYSize="5295" DataType="Float32" BlockXSize="512" BlockYSize="128" />
      <SrcRect xOff="0" yOff="0" xSize="3712" ySize="5295" />
      <DstRect xOff="0" yOff="20305.9481071956" xSize="3712" ySize="5295" />
      <NODATA>0</NODATA>
    </ComplexSource>
    <ComplexSource>
      <SourceFilename relativeToVRT="1">Z3X2Y2/S43W072_3857_zeroToNull.vrt</SourceFilename>
      <SourceBand>1</SourceBand>
      <SourceProperties RasterXSize="3712" RasterYSize="5034" DataType="Float32" BlockXSize="512" BlockYSize="128" />
      <SrcRect xOff="0" yOff="0" xSize="3712" ySize="5034" />
      <DstRect xOff="14842.5987724364" yOff="4954.58204669372" xSize="3712" ySize="5034" />
      <NODATA>0</NODATA>
    </ComplexSource>
    <ComplexSource>
      <SourceFilename relativeToVRT="1">Z3X2Y2/S42W070_3857_zeroToNull.vrt</SourceFilename>
      <SourceBand>1</SourceBand>
      <SourceProperties RasterXSize="3712" RasterYSize="4956" DataType="Float32" BlockXSize="512" BlockYSize="128" />
      <SrcRect xOff="0" yOff="0" xSize="3712" ySize="4956" />
      <DstRect xOff="22263.8981586547" yOff="0" xSize="3712" ySize="4956" />
      <NODATA>0</NODATA>
    </ComplexSource>
    <ComplexSource>
      <SourceFilename relativeToVRT="1">Z3X2Y2/S53W069_3857_zeroToNull.vrt</SourceFilename>
      <SourceBand>1</SourceBand>
      <SourceProperties RasterXSize="3712" RasterYSize="6097" DataType="Float32" BlockXSize="512" BlockYSize="128" />
      <SrcRect xOff="0" yOff="0" xSize="3712" ySize="6097" />
      <DstRect xOff="25974.5478517638" yOff="59592.6387918055" xSize="3712" ySize="6097" />
      <NODATA>0</NODATA>
    </ComplexSource>
    <ComplexSource>
      <SourceFilename relativeToVRT="1">Z3X2Y2/S51W072_3857_zeroToNull.vrt</SourceFilename>
      <SourceBand>1</SourceBand>
      <SourceProperties RasterXSize="3712" RasterYSize="5836" DataType="Float32" BlockXSize="512" BlockYSize="128" />
      <SrcRect xOff="0" yOff="0" xSize="3712" ySize="5836" />
