<VRTDataset rasterXSize="166981" rasterYSize="112915">
  <SRS dataAxisToSRSAxisMapping="1,2">PROJCS["WGS 84 / Pseudo-Mercator",GEOGCS["WGS 84",DATUM["WGS_1984",SPHEROID["WGS 84",6378137,298.257223563,AUTHORITY["EPSG","7030"]],AUTHORITY["EPSG","6326"]],PRIMEM["Greenwich",0,AUTHORITY["EPSG","8901"]],UNIT["degree",0.0174532925199433,AUTHORITY["EPSG","9122"]],AUTHORITY["EPSG","4326"]],PROJECTION["Mercator_1SP"],PARAMETER["central_meridian",0],PARAMETER["scale_factor",1],PARAMETER["false_easting",0],PARAMETER["false_northing",0],UNIT["metre",1,AUTHORITY["EPSG","9001"]],AXIS["Easting",EAST],AXIS["Northing",NORTH],EXTENSION["PROJ4","+proj=merc +a=6378137 +b=6378137 +lat_ts=0 +lon_0=0 +x_0=0 +y_0=0 +k=1 +units=m +nadgrids=@null +wktext +no_defs"],AUTHORITY["EPSG","3857"]]</SRS>
  <GeoTransform> -1.5028146718132319e+07,  3.0000000000000000e+01,  0.0000000000000000e+00,  8.3997688119640537e+06,  0.0000000000000000e+00, -3.0000000000000000e+01</GeoTransform>
  <VRTRasterBand dataType="Float32" band="1">
    <NoDataValue>0</NoDataValue>
    <ComplexSource>
      <SourceFilename relativeToVRT="1">Z3X1Y5/N48W102_3857_zeroToNull.vrt</SourceFilename>
      <SourceBand>1</SourceBand>
      <SourceProperties RasterXSize="3712" RasterYSize="5601" DataType="Float32" BlockXSize="512" BlockYSize="128" />
      <SrcRect xOff="0" yOff="0" xSize="3712" ySize="5601" />
      <DstRect xOff="122451.439872601" yOff="70829.4617128694" xSize="3712" ySize="5601" />
      <NODATA>0</NODATA>
    </ComplexSource>
    <ComplexSource>
      <SourceFilename relativeToVRT="1">Z3X1Y5/N48W115_3857_zeroToNull.vrt</SourceFilename>
      <SourceBand>1</SourceBand>
      <SourceProperties RasterXSize="3712" RasterYSize="5601" DataType="Float32" BlockXSize="512" BlockYSize="128" />
      <SrcRect xOff="0" yOff="0" xSize="3712" ySize="5601" />
      <DstRect xOff="74212.9938621823" yOff="70829.4617128694" xSize="3712" ySize="5601" />
      <NODATA>0</NODATA>
    </ComplexSource>
    <ComplexSource>
      <SourceFilename relativeToVRT="1">Z3X1Y5/N52W109_3857_zeroToNull.vrt</SourceFilename>
      <SourceBand>1</SourceBand>
      <SourceProperties RasterXSize="3712" RasterYSize="6097" DataType="Float32" BlockXSize="512" BlockYSize="128" />
      <SrcRect xOff="0" yOff="0" xSize="3712" ySize="6097" />
      <DstRect xOff="96476.892020837" yOff="47224.8400282538" xSize="3712" ySize="6097" />
      <NODATA>0</NODATA>
    </ComplexSource>
    <ComplexSource>
      <SourceFilename relativeToVRT="1">Z3X1Y5/N52W113_3857_zeroToNull.vrt</SourceFilename>
      <SourceBand>1</SourceBand>
      <SourceProperties RasterXSize="3712" RasterYSize="6097" DataType="Float32" BlockXSize="512" BlockYSize="128" />
      <SrcRect xOff="0" yOff="0" xSize="3712" ySize="6097" />
      <DstRect xOff="81634.2932484006" yOff="47224.8400282538" xSize="3712" ySize="6097" />
      <NODATA>0</NODATA>
    </ComplexSource>
    <ComplexSource>
      <SourceFilename relativeToVRT="1">Z3X1Y5/N51W110_3857_zeroToNull.vrt</SourceFilename>
      <SourceBand>1</SourceBand>
      <SourceProperties RasterXSize="3711" RasterYSize="5962" DataType="Float32" BlockXSize="512" BlockYSize="128" />
      <SrcRect xOff="0" yOff="0" xSize="3711" ySize="5962" />
      <DstRect xOff="92766.2423277279" yOff="53320.6081545127" xSize="3711" ySize="5962" />
      <NODATA>0</NODATA>
    </ComplexSource>
    <ComplexSource>
      <SourceFilename relativeToVRT="1">Z3X1Y5/N54W107_3857_zeroToNull.vrt</SourceFilename>
      <SourceBand>1</SourceBand>
      <SourceProperties RasterXSize="3711" RasterYSize="6392" DataType="Float32" BlockXSize="512" BlockYSize="128" />
      <SrcRect xOff="0" yOff="0" xSize="3711" ySize="6392" />
      <DstRect xOff="103898.191407055" yOff="34595.8581121628" xSize="3711" ySize="6392" />
      <NODATA>0</NODATA>
    </ComplexSource>
    <ComplexSource>
      <SourceFilename relativeToVRT="1">Z3X1Y5/N48W119_3857_zeroToNull.vrt</SourceFilename>
      <SourceBand>1</SourceBand>
      <SourceProperties RasterXSize="3712" RasterYSize="5601" DataType="Float32" BlockXSize="512" BlockYSize="128" />
      <SrcRect xOff="0" yOff="0" xSize="3712" ySize="5601" />
      <DstRect xOff="59370.3950897459" yOff="70829.4617128694" xSize="3712" ySize="5601" />
      <NODATA>0</NODATA>
    </ComplexSource>
    <ComplexSource>
      <SourceFilename relativeToVRT="1">Z3X1Y5/N50W108_3857_zeroToNull.vrt</SourceFilename>
      <SourceBand>1</SourceBand>
      <SourceProperties RasterXSize="3712" RasterYSize="5836" DataType="Float32" BlockXSize="512" BlockYSize="128" />
      <SrcRect xOff="0" yOff="0" xSize="3712" ySize="5836" />
      <DstRect xOff="100187.541713946" yOff="59281.684045025" xSize="3712" ySize="5836" />
      <NODATA>0</NODATA>
    </ComplexSource>
    <ComplexSource>
      <SourceFilename relativeToVRT="1">Z3X1Y5/N53W101_3857_zeroToNull.vrt</SourceFilename>
      <SourceBand>1</SourceBand>
      <SourceProperties RasterXSize="3711" RasterYSize="6241" DataType="Float32" BlockXSize="512" BlockYSize="128" />
      <SrcRect xOff="0" yOff="0" xSize="3711" ySize="6241" />
      <DstRect xOff="126162.08956571" yOff="40986.2071342405" xSize="3711" ySize="6241" />
      <NODATA>0</NODATA>
    </ComplexSource>
    <ComplexSource>
      <SourceFilename relativeToVRT="1">Z3X1Y5/N43W110_3857_zeroToNull.vrt</SourceFilename>
      <SourceBand>1</SourceBand>
      <SourceProperties RasterXSize="3712" RasterYSize="5117" DataType="Float32" BlockXSize="512" BlockYSize="128" />
      <SrcRect xOff="0" yOff="0" xSize="3712" ySize="5117" />
      <DstRect xOff="92766.2423277279" yOff="97810.1711746906" xSize="3712" ySize="5117" />
      <NODATA>0</NODATA>
    </ComplexSource>
    <ComplexSource>
      <SourceFilename relativeToVRT="1">Z3X1Y5/N45W106_3857_zeroToNull.vrt</SourceFilename>
      <SourceBand>1</SourceBand>
      <SourceProperties RasterXSize="3712" RasterYSize="5295" DataType="Float32" BlockXSize="512" BlockYSize="128" />
      <SrcRect xOff="0" yOff="0" xSize="3712" ySize="5295" />
      <DstRect xOff="107608.841100164" yOff="87313.2444879322" xSize="3712" ySize="5295" />
      <NODATA>0</NODATA>
    </ComplexSource>
    <ComplexSource>
      <SourceFilename relativeToVRT="1">Z3X1Y5/N58W115_3857_zeroToNull.vrt</SourceFilename>
      <SourceBand>1</SourceBand>
      <SourceProperties RasterXSize="3711" RasterYSize="7105" DataType="Float32" BlockXSize="512" BlockYSize="128" />
      <SrcRect xOff="0" yOff="0" xSize="3711" ySize="7105" />
      <DstRect xOff="74212.9938621823" yOff="7311.73022499929" xSize="3711" ySize="7105" />
      <NODATA>0</NODATA>
    </ComplexSource>
    <ComplexSource>
      <SourceFilename relativeToVRT="1">Z3X1Y5/N48W120_3857_zeroToNull.vrt</SourceFilename>
      <SourceBand>1</SourceBand>
      <SourceProperties RasterXSize="3712" RasterYSize="5601" DataType="Float32" BlockXSize="512" BlockYSize="128" />
      <SrcRect xOff="0" yOff="0" xSize="3712" ySize="5601" />
      <DstRect xOff="55659.7453966368" yOff="70829.4617128694" xSize="3712" ySize="5601" />
      <NODATA>0</NODATA>
    </ComplexSource>
    <ComplexSource>
      <SourceFilename relativeToVRT="1">Z3X1Y5/N41W116_3857_zeroToNull.vrt</SourceFilename>
      <SourceBand>1</SourceBand>
      <SourceProperties RasterXSize="3712" RasterYSize="4956" DataType="Float32" BlockXSize="512" BlockYSize="128" />
      <SrcRect xOff="0" yOff="0" xSize="3712" ySize="4956" />
      <DstRect xOff="70502.3441690733" yOff="107958.95210032" xSize="3712" ySize="4956" />
      <NODATA>0</NODATA>
    </ComplexSource>
    <ComplexSource>
      <SourceFilename relativeToVRT="1">Z3X1Y5/N50W119_3857_zeroToNull.vrt</SourceFilename>
      <SourceBand>1</SourceBand>
      <SourceProperties RasterXSize="3712" RasterYSize="5836" DataType="Float32" BlockXSize="512" BlockYSize="128" />
      <SrcRect xOff="0" yOff="0" xSize="3712" ySize="5836" />
      <DstRect xOff="59370.3950897459" yOff="59281.684045025" xSize="3712" ySize="5836" />
      <NODATA>0</NODATA>
    </ComplexSource>
    <ComplexSource>
      <SourceFilename relativeToVRT="1">Z3X1Y5/N57W099_3857_zeroToNull.vrt</SourceFilename>
      <SourceBand>1</SourceBand>
      <SourceProperties RasterXSize="3711" RasterYSize="6908" DataType="Float32" BlockXSize="512" BlockYSize="128" />
      <SrcRect xOff="0" yOff="0" xSize="3711" ySize="6908" />
      <DstRect xOff="133583.388951928" yOff="14414.0700224258" xSize="3711" ySize="6908" />
      <NODATA>0</NODATA>
    </ComplexSource>
    <ComplexSource>
      <SourceFilename relativeToVRT="1">Z3X1Y5/N59W129_3857_zeroToNull.vrt</SourceFilename>
      <SourceBand>1</SourceBand>
      <SourceProperties RasterXSize="3712" RasterYSize="7313" DataType="Float32" BlockXSize="512" BlockYSize="128" />
      <SrcRect xOff="0" yOff="0" xSize="3712" ySize="7313" />
      <DstRect xOff="22263.8981586546" yOff="0" xSize="3712" ySize="7313" />
      <NODATA>0</NODATA>
    </ComplexSource>
    <ComplexSource>
      <SourceFilename relativeToVRT="1">Z3X1Y5/N56W131_3857_zeroToNull.vrt</SourceFilename>
      <SourceBand>1</SourceBand>
      <SourceProperties RasterXSize="3712" RasterYSize="6726" DataType="Float32" BlockXSize="512" BlockYSize="128" />
      <SrcRect xOff="0" yOff="0" xSize="3712" ySize="6726" />
      <DstRect xOff="14842.5987724364" yOff="21320.7250441804" xSize="3712" ySize="6726" />
      <NODATA>0</NODATA>
    </ComplexSource>
    <ComplexSource>
      <SourceFilename relativeToVRT="1">Z3X1Y5/N54W095_3857_zeroToNull.vrt</SourceFilename>
      <SourceBand>1</SourceBand>
      <SourceProperties RasterXSize="3711" RasterYSize="6392" DataType="Float32" BlockXSize="512" BlockYSize="128" />
      <SrcRect xOff="0" yOff="0" xSize="3711" ySize="6392" />
      <DstRect xOff="148425.987724365" yOff="34595.8581121628" xSize="3711" ySize="6392" />
      <NODATA>0</NODATA>
    </ComplexSource>
    <ComplexSource>
      <SourceFilename relativeToVRT="1">Z3X1Y5/N56W126_3857_zeroToNull.vrt</SourceFilename>
      <SourceBand>1</SourceBand>
      <SourceProperties RasterXSize="3712" RasterYSize="6726" DataType="Float32" BlockXSize="512" BlockYSize="128" />
      <SrcRect xOff="0" yOff="0" xSize="3712" ySize="6726" />
      <DstRect xOff="33395.847237982" yOff="21320.7250441804" xSize="3712" ySize="6726" />
      <NODATA>0</NODATA>
    </ComplexSource>
    <ComplexSource>
      <SourceFilename relativeToVRT="1">Z3X1Y5/N58W104_3857_zeroToNull.vrt</SourceFilename>
      <SourceBand>1</SourceBand>
      <SourceProperties RasterXSize="3711" RasterYSize="7105" DataType="Float32" BlockXSize="512" BlockYSize="128" />
      <SrcRect xOff="0" yOff="0" xSize="3711" ySize="7105" />
      <DstRect xOff="115030.140486383" yOff="7311.73022499929" xSize="3711" ySize="7105" />
      <NODATA>0</NODATA>
    </ComplexSource>
    <ComplexSource>
      <SourceFilename relativeToVRT="1">Z3X1Y5/N55W120_3857_zeroToNull.vrt</SourceFilename>
      <SourceBand>1</SourceBand>
      <SourceProperties RasterXSize="3712" RasterYSize="6553" DataType="Float32" BlockXSize="512" BlockYSize="128" />
      <SrcRect xOff="0" yOff="0" xSize="3712" ySize="6553" />
      <DstRect xOff="55659.7453966368" yOff="28044.1835661054" xSize="3712" ySize="6553" />
      <NODATA>0</NODATA>
    </ComplexSource>
    <ComplexSource>
      <SourceFilename relativeToVRT="1">Z3X1Y5/N56W114_3857_zeroToNull.vrt</SourceFilename>
      <SourceBand>1</SourceBand>
      <SourceProperties RasterXSize="3712" RasterYSize="6726" DataType="Float32" BlockXSize="512" BlockYSize="128" />
      <SrcRect xOff="0" yOff="0" xSize="3712" ySize="6726" />
      <DstRect xOff="77923.6435552915" yOff="21320.7250441804" xSize="3712" ySize="6726" />
      <NODATA>0</NODATA>
    </ComplexSource>
    <ComplexSource>
      <SourceFilename relativeToVRT="1">Z3X1Y5/N46W112_3857_zeroToNull.vrt</SourceFilename>
      <SourceBand>1</SourceBand>
      <SourceProperties RasterXSize="3711" RasterYSize="5392" DataType="Float32" BlockXSize="512" BlockYSize="128" />
      <SrcRect xOff="0" yOff="0" xSize="3711" ySize="5392" />
      <DstRect xOff="85344.9429415097" yOff="81922.402310059" xSize="3711" ySize="5392" />
      <NODATA>0</NODATA>
    </ComplexSource>
    <ComplexSource>
      <SourceFilename relativeToVRT="1">Z3X1Y5/N48W114_3857_zeroToNull.vrt</SourceFilename>
      <SourceBand>1</SourceBand>
      <SourceProperties RasterXSize="3712" RasterYSize="5601" DataType="Float32" BlockXSize="512" BlockYSize="128" />
      <SrcRect xOff="0" yOff="0" xSize="3712" ySize="5601" />
      <DstRect xOff="77923.6435552915" yOff="70829.4617128694" xSize="3712" ySize="5601" />
      <NODATA>0</NODATA>
    </ComplexSource>
    <ComplexSource>
      <SourceFilename relativeToVRT="1">Z3X1Y5/N52W111_3857_zeroToNull.vrt</SourceFilename>
      <SourceBand>1</SourceBand>
      <SourceProperties RasterXSize="3712" RasterYSize="6097" DataType="Float32" BlockXSize="512" BlockYSize="128" />
      <SrcRect xOff="0" yOff="0" xSize="3712" ySize="6097" />
      <DstRect xOff="89055.5926346188" yOff="47224.8400282538" xSize="3712" ySize="6097" />
      <NODATA>0</NODATA>
    </ComplexSource>
    <ComplexSource>
      <SourceFilename relativeToVRT="1">Z3X1Y5/N57W120_3857_zeroToNull.vrt</SourceFilename>
      <SourceBand>1</SourceBand>
      <SourceProperties RasterXSize="3711" RasterYSize="6908" DataType="Float32" BlockXSize="512" BlockYSize="128" />
      <SrcRect xOff="0" yOff="0" xSize="3711" ySize="6908" />
      <DstRect xOff="55659.7453966368" yOff="14414.0700224258" xSize="3711" ySize="6908" />
      <NODATA>0</NODATA>
    </ComplexSource>
    <ComplexSource>
      <SourceFilename relativeToVRT="1">Z3X1Y5/N46W119_3857_zeroToNull.vrt</SourceFilename>
      <SourceBand>1</SourceBand>
      <SourceProperties RasterXSize="3711" RasterYSize="5392" DataType="Float32" BlockXSize="512" BlockYSize="128" />
      <SrcRect xOff="0" yOff="0" xSize="3711" ySize="5392" />
      <DstRect xOff="59370.3950897459" yOff="81922.402310059" xSize="3711" ySize="5392" />
      <NODATA>0</NODATA>
    </ComplexSource>
    <ComplexSource>
      <SourceFilename relativeToVRT="1">Z3X1Y5/N45W097_3857_zeroToNull.vrt</SourceFilename>
      <SourceBand>1</SourceBand>
      <SourceProperties RasterXSize="3712" RasterYSize="5295" DataType="Float32" BlockXSize="512" BlockYSize="128" />
      <SrcRect xOff="0" yOff="0" xSize="3712" ySize="5295" />
      <DstRect xOff="141004.688338146" yOff="87313.2444879322" xSize="3712" ySize="5295" />
      <NODATA>0</NODATA>
    </ComplexSource>
    <ComplexSource>
      <SourceFilename relativeToVRT="1">Z3X1Y5/N54W123_3857_zeroToNull.vrt</SourceFilename>
      <SourceBand>1</SourceBand>
      <SourceProperties RasterXSize="3711" RasterYSize="6392" DataType="Float32" BlockXSize="512" BlockYSize="128" />
      <SrcRect xOff="0" yOff="0" xSize="3711" ySize="6392" />
      <DstRect xOff="44527.7963173094" yOff="34595.8581121628" xSize="3711" ySize="6392" />
      <NODATA>0</NODATA>
    </ComplexSource>
    <ComplexSource>
      <SourceFilename relativeToVRT="1">Z3X1Y5/N50W091_3857_zeroToNull.vrt</SourceFilename>
      <SourceBand>1</SourceBand>
      <SourceProperties RasterXSize="3712" RasterYSize="5836" DataType="Float32" BlockXSize="512" BlockYSize="128" />
      <SrcRect xOff="0" yOff="0" xSize="3712" ySize="5836" />
      <DstRect xOff="163268.586496801" yOff="59281.684045025" xSize="3712" ySize="5836" />
      <NODATA>0</NODATA>
    </ComplexSource>
    <ComplexSource>
      <SourceFilename relativeToVRT="1">Z3X1Y5/N48W096_3857_zeroToNull.vrt</SourceFilename>
      <SourceBand>1</SourceBand>
      <SourceProperties RasterXSize="3712" RasterYSize="5601" DataType="Float32" BlockXSize="512" BlockYSize="128" />
      <SrcRect xOff="0" yOff="0" xSize="3712" ySize="5601" />
      <DstRect xOff="144715.338031256" yOff="70829.4617128694" xSize="3712" ySize="5601" />
      <NODATA>0</NODATA>
    </ComplexSource>
    <ComplexSource>
      <SourceFilename relativeToVRT="1">Z3X1Y5/N42W091_3857_zeroToNull.vrt</SourceFilename>
      <SourceBand>1</SourceBand>
      <SourceProperties RasterXSize="3712" RasterYSize="5034" DataType="Float32" BlockXSize="512" BlockYSize="128" />
      <SrcRect xOff="0" yOff="0" xSize="3712" ySize="5034" />
      <DstRect xOff="163268.586496801" yOff="102925.860822986" xSize="3712" ySize="5034" />
      <NODATA>0</NODATA>
    </ComplexSource>
    <ComplexSource>
      <SourceFilename relativeToVRT="1">Z3X1Y5/N42W100_3857_zeroToNull.vrt</SourceFilename>
      <SourceBand>1</SourceBand>
      <SourceProperties RasterXSize="3712" RasterYSize="5034" DataType="Float32" BlockXSize="512" BlockYSize="128" />
      <SrcRect xOff="0" yOff="0" xSize="3712" ySize="5034" />
      <DstRect xOff="129872.739258819" yOff="102925.860822986" xSize="3712" ySize="5034" />
      <NODATA>0</NODATA>
    </ComplexSource>
    <ComplexSource>
      <SourceFilename relativeToVRT="1">Z3X1Y5/N53W095_3857_zeroToNull.vrt</SourceFilename>
      <SourceBand>1</SourceBand>
      <SourceProperties RasterXSize="3711" RasterYSize="6241" DataType="Float32" BlockXSize="512" BlockYSize="128" />
      <SrcRect xOff="0" yOff="0" xSize="3711" ySize="6241" />
      <DstRect xOff="148425.987724365" yOff="40986.2071342405" xSize="3711" ySize="6241" />
      <NODATA>0</NODATA>
    </ComplexSource>
    <ComplexSource>
      <SourceFilename relativeToVRT="1">Z3X1Y5/N42W116_3857_zeroToNull.vrt</SourceFilename>
      <SourceBand>1</SourceBand>
      <SourceProperties RasterXSize="3712" RasterYSize="5034" DataType="Float32" BlockXSize="512" BlockYSize="128" />
      <SrcRect xOff="0" yOff="0" xSize="3712" ySize="5034" />
      <DstRect xOff="70502.3441690733" yOff="102925.860822986" xSize="3712" ySize="5034" />
      <NODATA>0</NODATA>
    </ComplexSource>
    <ComplexSource>
      <SourceFilename relativeToVRT="1">Z3X1Y5/N51W132_3857_zeroToNull.vrt</SourceFilename>
      <SourceBand>1</SourceBand>
      <SourceProperties RasterXSize="3711" RasterYSize="5962" DataType="Float32" BlockXSize="512" BlockYSize="128" />
      <SrcRect xOff="0" yOff="0" xSize="3711" ySize="5962" />
      <DstRect xOff="11131.9490793273" yOff="53320.6081545127" xSize="3711" ySize="5962" />
      <NODATA>0</NODATA>
    </ComplexSource>
    <ComplexSource>
      <SourceFilename relativeToVRT="1">Z3X1Y5/N48W117_3857_zeroToNull.vrt</SourceFilename>
      <SourceBand>1</SourceBand>
      <SourceProperties RasterXSize="3712" RasterYSize="5601" DataType="Float32" BlockXSize="512" BlockYSize="128" />
      <SrcRect xOff="0" yOff="0" xSize="3712" ySize="5601" />
      <DstRect xOff="66791.6944759641" yOff="70829.4617128694" xSize="3712" ySize="5601" />
      <NODATA>0</NODATA>
    </ComplexSource>
    <ComplexSource>
      <SourceFilename relativeToVRT="1">Z3X1Y5/N43W108_3857_zeroToNull.vrt</SourceFilename>
      <SourceBand>1</SourceBand>
      <SourceProperties RasterXSize="3712" RasterYSize="5117" DataType="Float32" BlockXSize="512" BlockYSize="128" />
      <SrcRect xOff="0" yOff="0" xSize="3712" ySize="5117" />
      <DstRect xOff="100187.541713946" yOff="97810.1711746906" xSize="3712" ySize="5117" />
      <NODATA>0</NODATA>
    </ComplexSource>
    <ComplexSource>
      <SourceFilename relativeToVRT="1">Z3X1Y5/N56W104_3857_zeroToNull.vrt</SourceFilename>
      <SourceBand>1</SourceBand>
      <SourceProperties RasterXSize="3712" RasterYSize="6726" DataType="Float32" BlockXSize="512" BlockYSize="128" />
      <SrcRect xOff="0" yOff="0" xSize="3712" ySize="6726" />
      <DstRect xOff="115030.140486383" yOff="21320.7250441804" xSize="3712" ySize="6726" />
      <NODATA>0</NODATA>
    </ComplexSource>
    <ComplexSource>
      <SourceFilename relativeToVRT="1">Z3X1Y5/N56W105_3857_zeroToNull.vrt</SourceFilename>
      <SourceBand>1</SourceBand>
      <SourceProperties RasterXSize="3712" RasterYSize="6726" DataType="Float32" BlockXSize="512" BlockYSize="128" />
      <SrcRect xOff="0" yOff="0" xSize="3712" ySize="6726" />
      <DstRect xOff="111319.490793274" yOff="21320.7250441804" xSize="3712" ySize="6726" />
      <NODATA>0</NODATA>
    </ComplexSource>
    <ComplexSource>
      <SourceFilename relativeToVRT="1">Z3X1Y5/N44W121_3857_zeroToNull.vrt</SourceFilename>
      <SourceBand>1</SourceBand>
      <SourceProperties RasterXSize="3712" RasterYSize="5204" DataType="Float32" BlockXSize="512" BlockYSize="128" />
      <SrcRect xOff="0" yOff="0" xSize="3712" ySize="5204" />
      <DstRect xOff="51949.0957035276" yOff="92607.5153510827" xSize="3712" ySize="5204" />
      <NODATA>0</NODATA>
    </ComplexSource>
    <ComplexSource>
      <SourceFilename relativeToVRT="1">Z3X1Y5/N41W103_3857_zeroToNull.vrt</SourceFilename>
      <SourceBand>1</SourceBand>
      <SourceProperties RasterXSize="3712" RasterYSize="4956" DataType="Float32" BlockXSize="512" BlockYSize="128" />
      <SrcRect xOff="0" yOff="0" xSize="3712" ySize="4956" />
      <DstRect xOff="118740.790179492" yOff="107958.95210032" xSize="3712" ySize="4956" />
      <NODATA>0</NODATA>
    </ComplexSource>
    <ComplexSource>
      <SourceFilename relativeToVRT="1">Z3X1Y5/N56W108_3857_zeroToNull.vrt</SourceFilename>
      <SourceBand>1</SourceBand>
      <SourceProperties RasterXSize="3712" RasterYSize="6726" DataType="Float32" BlockXSize="512" BlockYSize="128" />
      <SrcRect xOff="0" yOff="0" xSize="3712" ySize="6726" />
      <DstRect xOff="100187.541713946" yOff="21320.7250441804" xSize="3712" ySize="6726" />
      <NODATA>0</NODATA>
    </ComplexSource>
    <ComplexSource>
      <SourceFilename relativeToVRT="1">Z3X1Y5/N41W092_3857_zeroToNull.vrt</SourceFilename>
      <SourceBand>1</SourceBand>
      <SourceProperties RasterXSize="3712" RasterYSize="4956" DataType="Float32" BlockXSize="512" BlockYSize="128" />
      <SrcRect xOff="0" yOff="0" xSize="3712" ySize="4956" />
      <DstRect xOff="159557.936803692" yOff="107958.95210032" xSize="3712" ySize="4956" />
      <NODATA>0</NODATA>
    </ComplexSource>
    <ComplexSource>
      <SourceFilename relativeToVRT="1">Z3X1Y5/N46W097_3857_zeroToNull.vrt</SourceFilename>
      <SourceBand>1</SourceBand>
      <SourceProperties RasterXSize="3711" RasterYSize="5392" DataType="Float32" BlockXSize="512" BlockYSize="128" />
      <SrcRect xOff="0" yOff="0" xSize="3711" ySize="5392" />
      <DstRect xOff="141004.688338146" yOff="81922.402310059" xSize="3711" ySize="5392" />
      <NODATA>0</NODATA>
    </ComplexSource>
    <ComplexSource>
      <SourceFilename relativeToVRT="1">Z3X1Y5/N51W101_3857_zeroToNull.vrt</SourceFilename>
      <SourceBand>1</SourceBand>
      <SourceProperties RasterXSize="3711" RasterYSize="5962" DataType="Float32" BlockXSize="512" BlockYSize="128" />
      <SrcRect xOff="0" yOff="0" xSize="3711" ySize="5962" />
      <DstRect xOff="126162.08956571" yOff="53320.6081545127" xSize="3711" ySize="5962" />
      <NODATA>0</NODATA>
    </ComplexSource>
    <ComplexSource>
      <SourceFilename relativeToVRT="1">Z3X1Y5/N58W111_3857_zeroToNull.vrt</SourceFilename>
      <SourceBand>1</SourceBand>
      <SourceProperties RasterXSize="3711" RasterYSize="7105" DataType="Float32" BlockXSize="512" BlockYSize="128" />
      <SrcRect xOff="0" yOff="0" xSize="3711" ySize="7105" />
      <DstRect xOff="89055.5926346188" yOff="7311.73022499929" xSize="3711" ySize="7105" />
      <NODATA>0</NODATA>
    </ComplexSource>
    <ComplexSource>
      <SourceFilename relativeToVRT="1">Z3X1Y5/N56W091_3857_zeroToNull.vrt</SourceFilename>
      <SourceBand>1</SourceBand>
      <SourceProperties RasterXSize="3712" RasterYSize="6726" DataType="Float32" BlockXSize="512" BlockYSize="128" />
      <SrcRect xOff="0" yOff="0" xSize="3712" ySize="6726" />
      <DstRect xOff="163268.586496801" yOff="21320.7250441804" xSize="3712" ySize="6726" />
      <NODATA>0</NODATA>
    </ComplexSource>
    <ComplexSource>
      <SourceFilename relativeToVRT="1">Z3X1Y5/N54W094_3857_zeroToNull.vrt</SourceFilename>
      <SourceBand>1</SourceBand>
      <SourceProperties RasterXSize="3711" RasterYSize="6392" DataType="Float32" BlockXSize="512" BlockYSize="128" />
