<VRTDataset rasterXSize="92768" rasterYSize="112523">
  <SRS dataAxisToSRSAxisMapping="1,2">PROJCS["WGS 84 / Pseudo-Mercator",GEOGCS["WGS 84",DATUM["WGS_1984",SPHEROID["WGS 84",6378137,298.257223563,AUTHORITY["EPSG","7030"]],AUTHORITY["EPSG","6326"]],PRIMEM["Greenwich",0,AUTHORITY["EPSG","8901"]],UNIT["degree",0.0174532925199433,AUTHORITY["EPSG","9122"]],AUTHORITY["EPSG","4326"]],PROJECTION["Mercator_1SP"],PARAMETER["central_meridian",0],PARAMETER["scale_factor",1],PARAMETER["false_easting",0],PARAMETER["false_northing",0],UNIT["metre",1,AUTHORITY["EPSG","9001"]],AXIS["Easting",EAST],AXIS["Northing",NORTH],EXTENSION["PROJ4","+proj=merc +a=6378137 +b=6378137 +lat_ts=0 +lon_0=0 +x_0=0 +y_0=0 +k=1 +units=m +nadgrids=@null +wktext +no_defs"],AUTHORITY["EPSG","3857"]]</SRS>
  <GeoTransform> -1.9926204313036360e+07,  3.0000000000000000e+01,  0.0000000000000000e+00,  3.3756637123746071e+06,  0.0000000000000000e+00, -3.0000000000000000e+01</GeoTransform>
  <VRTRasterBand dataType="Float32" band="1">
    <NoDataValue>0</NoDataValue>
    <ComplexSource>
      <SourceFilename relativeToVRT="1">Z3X0Y4/N00W177_3857_zeroToNull.vrt</SourceFilename>
      <SourceBand>1</SourceBand>
      <SourceProperties RasterXSize="3712" RasterYSize="3712" DataType="Float32" BlockXSize="512" BlockYSize="128" />
      <SrcRect xOff="0" yOff="0" xSize="3712" ySize="3712" />
      <DstRect xOff="7421.29938621831" yOff="108810.770203745" xSize="3712" ySize="3712" />
      <NODATA>0</NODATA>
    </ComplexSource>
    <ComplexSource>
      <SourceFilename relativeToVRT="1">Z3X0Y4/N25W168_3857_zeroToNull.vrt</SourceFilename>
      <SourceBand>1</SourceBand>
      <SourceProperties RasterXSize="3712" RasterYSize="4112" DataType="Float32" BlockXSize="512" BlockYSize="128" />
      <SrcRect xOff="0" yOff="0" xSize="3712" ySize="4112" />
      <DstRect xOff="40817.1466242004" yOff="12552.1855636753" xSize="3712" ySize="4112" />
      <NODATA>0</NODATA>
    </ComplexSource>
    <ComplexSource>
      <SourceFilename relativeToVRT="1">Z3X0Y4/N28W179_3857_zeroToNull.vrt</SourceFilename>
      <SourceBand>1</SourceBand>
      <SourceProperties RasterXSize="3712" RasterYSize="4223" DataType="Float32" BlockXSize="512" BlockYSize="128" />
      <SrcRect xOff="0" yOff="0" xSize="3712" ySize="4223" />
      <DstRect xOff="0" yOff="0" xSize="3712" ySize="4223" />
      <NODATA>0</NODATA>
    </ComplexSource>
    <ComplexSource>
      <SourceFilename relativeToVRT="1">Z3X0Y4/N22W160_3857_zeroToNull.vrt</SourceFilename>
      <SourceBand>1</SourceBand>
      <SourceProperties RasterXSize="3712" RasterYSize="4018" DataType="Float32" BlockXSize="512" BlockYSize="128" />
      <SrcRect xOff="0" yOff="0" xSize="3712" ySize="4018" />
      <DstRect xOff="70502.3441690733" yOff="24787.609283929" xSize="3712" ySize="4018" />
      <NODATA>0</NODATA>
    </ComplexSource>
    <ComplexSource>
      <SourceFilename relativeToVRT="1">Z3X0Y4/N23W162_3857_zeroToNull.vrt</SourceFilename>
      <SourceBand>1</SourceBand>
      <SourceProperties RasterXSize="3712" RasterYSize="4047" DataType="Float32" BlockXSize="512" BlockYSize="128" />
      <SrcRect xOff="0" yOff="0" xSize="3712" ySize="4047" />
      <DstRect xOff="63081.0447828551" yOff="20741.2892928261" xSize="3712" ySize="4047" />
      <NODATA>0</NODATA>
    </ComplexSource>
    <ComplexSource>
      <SourceFilename relativeToVRT="1">Z3X0Y4/N23W167_3857_zeroToNull.vrt</SourceFilename>
      <SourceBand>1</SourceBand>
      <SourceProperties RasterXSize="3712" RasterYSize="4047" DataType="Float32" BlockXSize="512" BlockYSize="128" />
      <SrcRect xOff="0" yOff="0" xSize="3712" ySize="4047" />
      <DstRect xOff="44527.7963173095" yOff="20741.2892928261" xSize="3712" ySize="4047" />
      <NODATA>0</NODATA>
    </ComplexSource>
    <ComplexSource>
      <SourceFilename relativeToVRT="1">Z3X0Y4/N24W168_3857_zeroToNull.vrt</SourceFilename>
      <SourceBand>1</SourceBand>
      <SourceProperties RasterXSize="3711" RasterYSize="4079" DataType="Float32" BlockXSize="512" BlockYSize="128" />
      <SrcRect xOff="0" yOff="0" xSize="3711" ySize="4079" />
      <DstRect xOff="40817.1466242004" yOff="16663.4009547385" xSize="3711" ySize="4079" />
      <NODATA>0</NODATA>
    </ComplexSource>
    <ComplexSource>
      <SourceFilename relativeToVRT="1">Z3X0Y4/N23W165_3857_zeroToNull.vrt</SourceFilename>
      <SourceBand>1</SourceBand>
      <SourceProperties RasterXSize="3712" RasterYSize="4047" DataType="Float32" BlockXSize="512" BlockYSize="128" />
      <SrcRect xOff="0" yOff="0" xSize="3712" ySize="4047" />
      <DstRect xOff="51949.0957035277" yOff="20741.2892928261" xSize="3712" ySize="4047" />
      <NODATA>0</NODATA>
    </ComplexSource>
    <ComplexSource>
      <SourceFilename relativeToVRT="1">Z3X0Y4/N27W176_3857_zeroToNull.vrt</SourceFilename>
      <SourceBand>1</SourceBand>
      <SourceProperties RasterXSize="3711" RasterYSize="4185" DataType="Float32" BlockXSize="512" BlockYSize="128" />
      <SrcRect xOff="0" yOff="0" xSize="3711" ySize="4185" />
      <DstRect xOff="11131.9490793274" yOff="4222.4137333684" xSize="3711" ySize="4185" />
      <NODATA>0</NODATA>
    </ComplexSource>
    <ComplexSource>
      <SourceFilename relativeToVRT="1">Z3X0Y4/N19W157_3857_zeroToNull.vrt</SourceFilename>
      <SourceBand>1</SourceBand>
      <SourceProperties RasterXSize="3712" RasterYSize="3938" DataType="Float32" BlockXSize="512" BlockYSize="128" />
      <SrcRect xOff="0" yOff="0" xSize="3712" ySize="3938" />
      <DstRect xOff="81634.2932484007" yOff="36753.877736138" xSize="3712" ySize="3938" />
      <NODATA>0</NODATA>
    </ComplexSource>
    <ComplexSource>
      <SourceFilename relativeToVRT="1">Z3X0Y4/N16W170_3857_zeroToNull.vrt</SourceFilename>
      <SourceBand>1</SourceBand>
      <SourceProperties RasterXSize="3711" RasterYSize="3871" DataType="Float32" BlockXSize="512" BlockYSize="128" />
      <SrcRect xOff="0" yOff="0" xSize="3711" ySize="3871" />
      <DstRect xOff="33395.8472379821" yOff="48494.0834836223" xSize="3711" ySize="3871" />
      <NODATA>0</NODATA>
    </ComplexSource>
    <ComplexSource>
      <SourceFilename relativeToVRT="1">Z3X0Y4/N25W172_3857_zeroToNull.vrt</SourceFilename>
      <SourceBand>1</SourceBand>
      <SourceProperties RasterXSize="3712" RasterYSize="4112" DataType="Float32" BlockXSize="512" BlockYSize="128" />
      <SrcRect xOff="0" yOff="0" xSize="3712" ySize="4112" />
      <DstRect xOff="25974.5478517639" yOff="12552.1855636753" xSize="3712" ySize="4112" />
      <NODATA>0</NODATA>
    </ComplexSource>
    <ComplexSource>
      <SourceFilename relativeToVRT="1">Z3X0Y4/N20W158_3857_zeroToNull.vrt</SourceFilename>
      <SourceBand>1</SourceBand>
      <SourceProperties RasterXSize="3711" RasterYSize="3963" DataType="Float32" BlockXSize="512" BlockYSize="128" />
      <SrcRect xOff="0" yOff="0" xSize="3711" ySize="3963" />
      <DstRect xOff="77923.6435552915" yOff="32792.285446886" xSize="3711" ySize="3963" />
      <NODATA>0</NODATA>
    </ComplexSource>
    <ComplexSource>
      <SourceFilename relativeToVRT="1">Z3X0Y4/N05W163_3857_zeroToNull.vrt</SourceFilename>
      <SourceBand>1</SourceBand>
      <SourceProperties RasterXSize="3712" RasterYSize="3729" DataType="Float32" BlockXSize="512" BlockYSize="128" />
      <SrcRect xOff="0" yOff="0" xSize="3712" ySize="3729" />
      <DstRect xOff="59370.3950897459" yOff="90216.9036374753" xSize="3712" ySize="3729" />
      <NODATA>0</NODATA>
    </ComplexSource>
    <ComplexSource>
      <SourceFilename relativeToVRT="1">Z3X0Y4/N02W158_3857_zeroToNull.vrt</SourceFilename>
      <SourceBand>1</SourceBand>
      <SourceProperties RasterXSize="3711" RasterYSize="3716" DataType="Float32" BlockXSize="512" BlockYSize="128" />
      <SrcRect xOff="0" yOff="0" xSize="3711" ySize="3716" />
      <DstRect xOff="77923.6435552915" yOff="101384.568623779" xSize="3711" ySize="3716" />
      <NODATA>0</NODATA>
    </ComplexSource>
    <ComplexSource>
      <SourceFilename relativeToVRT="1">Z3X0Y4/N19W156_3857_zeroToNull.vrt</SourceFilename>
      <SourceBand>1</SourceBand>
      <SourceProperties RasterXSize="3712" RasterYSize="3938" DataType="Float32" BlockXSize="512" BlockYSize="128" />
      <SrcRect xOff="0" yOff="0" xSize="3712" ySize="3938" />
      <DstRect xOff="85344.9429415098" yOff="36753.877736138" xSize="3712" ySize="3938" />
      <NODATA>0</NODATA>
    </ComplexSource>
    <ComplexSource>
      <SourceFilename relativeToVRT="1">Z3X0Y4/N21W158_3857_zeroToNull.vrt</SourceFilename>
      <SourceBand>1</SourceBand>
      <SourceProperties RasterXSize="3712" RasterYSize="3989" DataType="Float32" BlockXSize="512" BlockYSize="128" />
      <SrcRect xOff="0" yOff="0" xSize="3712" ySize="3989" />
      <DstRect xOff="77923.6435552915" yOff="28804.0600750504" xSize="3712" ySize="3989" />
      <NODATA>0</NODATA>
    </ComplexSource>
    <ComplexSource>
      <SourceFilename relativeToVRT="1">Z3X0Y4/N21W157_3857_zeroToNull.vrt</SourceFilename>
      <SourceBand>1</SourceBand>
      <SourceProperties RasterXSize="3712" RasterYSize="3989" DataType="Float32" BlockXSize="512" BlockYSize="128" />
      <SrcRect xOff="0" yOff="0" xSize="3712" ySize="3989" />
      <DstRect xOff="81634.2932484007" yOff="28804.0600750504" xSize="3712" ySize="3989" />
      <NODATA>0</NODATA>
    </ComplexSource>
    <ComplexSource>
      <SourceFilename relativeToVRT="1">Z3X0Y4/N26W174_3857_zeroToNull.vrt</SourceFilename>
      <SourceBand>1</SourceBand>
      <SourceProperties RasterXSize="3712" RasterYSize="4148" DataType="Float32" BlockXSize="512" BlockYSize="128" />
      <SrcRect xOff="0" yOff="0" xSize="3712" ySize="4148" />
      <DstRect xOff="18553.2484655456" yOff="8405.8203642675" xSize="3712" ySize="4148" />
      <NODATA>0</NODATA>
    </ComplexSource>
    <ComplexSource>
      <SourceFilename relativeToVRT="1">Z3X0Y4/N21W160_3857_zeroToNull.vrt</SourceFilename>
      <SourceBand>1</SourceBand>
      <SourceProperties RasterXSize="3712" RasterYSize="3989" DataType="Float32" BlockXSize="512" BlockYSize="128" />
      <SrcRect xOff="0" yOff="0" xSize="3712" ySize="3989" />
      <DstRect xOff="70502.3441690733" yOff="28804.0600750504" xSize="3712" ySize="3989" />
      <NODATA>0</NODATA>
    </ComplexSource>
    <ComplexSource>
      <SourceFilename relativeToVRT="1">Z3X0Y4/N18W156_3857_zeroToNull.vrt</SourceFilename>
      <SourceBand>1</SourceBand>
      <SourceProperties RasterXSize="3711" RasterYSize="3914" DataType="Float32" BlockXSize="512" BlockYSize="128" />
      <SrcRect xOff="0" yOff="0" xSize="3711" ySize="3914" />
      <DstRect xOff="85344.9429415098" yOff="40690.3815121941" xSize="3711" ySize="3914" />
      <NODATA>0</NODATA>
    </ComplexSource>
    <ComplexSource>
      <SourceFilename relativeToVRT="1">Z3X0Y4/N04W161_3857_zeroToNull.vrt</SourceFilename>
      <SourceBand>1</SourceBand>
      <SourceProperties RasterXSize="3711" RasterYSize="3724" DataType="Float32" BlockXSize="512" BlockYSize="128" />
      <SrcRect xOff="0" yOff="0" xSize="3711" ySize="3724" />
      <DstRect xOff="66791.6944759642" yOff="93944.7644999778" xSize="3711" ySize="3724" />
      <NODATA>0</NODATA>
    </ComplexSource>
    <ComplexSource>
      <SourceFilename relativeToVRT="1">Z3X0Y4/N03W160_3857_zeroToNull.vrt</SourceFilename>
      <SourceBand>1</SourceBand>
      <SourceProperties RasterXSize="3712" RasterYSize="3718" DataType="Float32" BlockXSize="512" BlockYSize="128" />
      <SrcRect xOff="0" yOff="0" xSize="3712" ySize="3718" />
      <DstRect xOff="70502.3441690733" yOff="97666.9367974198" xSize="3712" ySize="3718" />
      <NODATA>0</NODATA>
    </ComplexSource>
    <ComplexSource>
      <SourceFilename relativeToVRT="1">Z3X0Y4/N22W161_3857_zeroToNull.vrt</SourceFilename>
      <SourceBand>1</SourceBand>
      <SourceProperties RasterXSize="3712" RasterYSize="4018" DataType="Float32" BlockXSize="512" BlockYSize="128" />
      <SrcRect xOff="0" yOff="0" xSize="3712" ySize="4018" />
      <DstRect xOff="66791.6944759642" yOff="24787.609283929" xSize="3712" ySize="4018" />
      <NODATA>0</NODATA>
    </ComplexSource>
    <ComplexSource>
      <SourceFilename relativeToVRT="1">Z3X0Y4/N21W161_3857_zeroToNull.vrt</SourceFilename>
      <SourceBand>1</SourceBand>
      <SourceProperties RasterXSize="3712" RasterYSize="3989" DataType="Float32" BlockXSize="512" BlockYSize="128" />
      <SrcRect xOff="0" yOff="0" xSize="3712" ySize="3989" />
      <DstRect xOff="66791.6944759642" yOff="28804.0600750504" xSize="3712" ySize="3989" />
      <NODATA>0</NODATA>
    </ComplexSource>
    <ComplexSource>
      <SourceFilename relativeToVRT="1">Z3X0Y4/N06W163_3857_zeroToNull.vrt</SourceFilename>
      <SourceBand>1</SourceBand>
      <SourceProperties RasterXSize="3711" RasterYSize="3736" DataType="Float32" BlockXSize="512" BlockYSize="128" />
      <SrcRect xOff="0" yOff="0" xSize="3711" ySize="3736" />
      <DstRect xOff="59370.3950897459" yOff="86482.1973677979" xSize="3711" ySize="3736" />
      <NODATA>0</NODATA>
    </ComplexSource>
    <ComplexSource>
      <SourceFilename relativeToVRT="1">Z3X0Y4/N21W159_3857_zeroToNull.vrt</SourceFilename>
      <SourceBand>1</SourceBand>
      <SourceProperties RasterXSize="3712" RasterYSize="3989" DataType="Float32" BlockXSize="512" BlockYSize="128" />
      <SrcRect xOff="0" yOff="0" xSize="3712" ySize="3989" />
      <DstRect xOff="74212.9938621824" yOff="28804.0600750504" xSize="3712" ySize="3989" />
      <NODATA>0</NODATA>
    </ComplexSource>
    <ComplexSource>
      <SourceFilename relativeToVRT="1">Z3X0Y4/N01W158_3857_zeroToNull.vrt</SourceFilename>
      <SourceBand>1</SourceBand>
      <SourceProperties RasterXSize="3711" RasterYSize="3713" DataType="Float32" BlockXSize="512" BlockYSize="128" />
      <SrcRect xOff="0" yOff="0" xSize="3711" ySize="3713" />
      <DstRect xOff="77923.6435552915" yOff="105098.801113461" xSize="3711" ySize="3713" />
      <NODATA>0</NODATA>
    </ComplexSource>
    <ComplexSource>
      <SourceFilename relativeToVRT="1">Z3X0Y4/N19W155_3857_zeroToNull.vrt</SourceFilename>
      <SourceBand>1</SourceBand>
      <SourceProperties RasterXSize="3712" RasterYSize="3938" DataType="Float32" BlockXSize="512" BlockYSize="128" />
      <SrcRect xOff="0" yOff="0" xSize="3712" ySize="3938" />
      <DstRect xOff="89055.5926346189" yOff="36753.877736138" xSize="3712" ySize="3938" />
      <NODATA>0</NODATA>
    </ComplexSource>
    <ComplexSource>
      <SourceFilename relativeToVRT="1">Z3X0Y4/N20W156_3857_zeroToNull.vrt</SourceFilename>
      <SourceBand>1</SourceBand>
      <SourceProperties RasterXSize="3711" RasterYSize="3963" DataType="Float32" BlockXSize="512" BlockYSize="128" />
      <SrcRect xOff="0" yOff="0" xSize="3711" ySize="3963" />
      <DstRect xOff="85344.9429415098" yOff="32792.285446886" xSize="3711" ySize="3963" />
      <NODATA>0</NODATA>
    </ComplexSource>
    <ComplexSource>
      <SourceFilename relativeToVRT="1">Z3X0Y4/N28W178_3857_zeroToNull.vrt</SourceFilename>
      <SourceBand>1</SourceBand>
      <SourceProperties RasterXSize="3712" RasterYSize="4223" DataType="Float32" BlockXSize="512" BlockYSize="128" />
      <SrcRect xOff="0" yOff="0" xSize="3712" ySize="4223" />
      <DstRect xOff="3710.6496931091" yOff="0" xSize="3712" ySize="4223" />
      <NODATA>0</NODATA>
    </ComplexSource>
    <ComplexSource>
      <SourceFilename relativeToVRT="1">Z3X0Y4/N20W157_3857_zeroToNull.vrt</SourceFilename>
      <SourceBand>1</SourceBand>
      <SourceProperties RasterXSize="3711" RasterYSize="3963" DataType="Float32" BlockXSize="512" BlockYSize="128" />
      <SrcRect xOff="0" yOff="0" xSize="3711" ySize="3963" />
      <DstRect xOff="81634.2932484007" yOff="32792.285446886" xSize="3711" ySize="3963" />
      <NODATA>0</NODATA>
    </ComplexSource>
  </VRTRasterBand>
</VRTDataset>
