<VRTDataset rasterXSize="7423" rasterYSize="10320">
  <SRS dataAxisToSRSAxisMapping="1,2">PROJCS["WGS 84 / Pseudo-Mercator",GEOGCS["WGS 84",DATUM["WGS_1984",SPHEROID["WGS 84",6378137,298.257223563,AUTHORITY["EPSG","7030"]],AUTHORITY["EPSG","6326"]],PRIMEM["Greenwich",0,AUTHORITY["EPSG","8901"]],UNIT["degree",0.0174532925199433,AUTHORITY["EPSG","9122"]],AUTHORITY["EPSG","4326"]],PROJECTION["Mercator_1SP"],PARAMETER["central_meridian",0],PARAMETER["scale_factor",1],PARAMETER["false_easting",0],PARAMETER["false_northing",0],UNIT["metre",1,AUTHORITY["EPSG","9001"]],AXIS["Easting",EAST],AXIS["Northing",NORTH],EXTENSION["PROJ4","+proj=merc +a=6378137 +b=6378137 +lat_ts=0 +lon_0=0 +x_0=0 +y_0=0 +k=1 +units=m +nadgrids=@null +wktext +no_defs"],AUTHORITY["EPSG","3857"]]</SRS>
  <GeoTransform> -1.9703565331449810e+07,  3.0000000000000000e+01,  0.0000000000000000e+00, -5.3119507066642651e+06,  0.0000000000000000e+00, -3.0000000000000000e+01</GeoTransform>
  <VRTRasterBand dataType="Float32" band="1">
    <NoDataValue>0</NoDataValue>
    <ComplexSource>
      <SourceFilename relativeToVRT="1">Z3X0Y2/S45W177_3857_zeroToNull.vrt</SourceFilename>
      <SourceBand>1</SourceBand>
      <SourceProperties RasterXSize="3712" RasterYSize="5204" DataType="Float32" BlockXSize="512" BlockYSize="128" />
      <SrcRect xOff="0" yOff="0" xSize="3712" ySize="5204" />
      <DstRect xOff="0" yOff="5115.66611027389" xSize="3712" ySize="5204" />
      <NODATA>0</NODATA>
    </ComplexSource>
    <ComplexSource>
      <SourceFilename relativeToVRT="1">Z3X0Y2/S44W176_3857_zeroToNull.vrt</SourceFilename>
      <SourceBand>1</SourceBand>
      <SourceProperties RasterXSize="3712" RasterYSize="5117" DataType="Float32" BlockXSize="512" BlockYSize="128" />
      <SrcRect xOff="0" yOff="0" xSize="3712" ySize="5117" />
      <DstRect xOff="3710.6496931091" yOff="0" xSize="3712" ySize="5117" />
      <NODATA>0</NODATA>
    </ComplexSource>
    <ComplexSource>
      <SourceFilename relativeToVRT="1">Z3X0Y2/S44W177_3857_zeroToNull.vrt</SourceFilename>
      <SourceBand>1</SourceBand>
      <SourceProperties RasterXSize="3712" RasterYSize="5117" DataType="Float32" BlockXSize="512" BlockYSize="128" />
      <SrcRect xOff="0" yOff="0" xSize="3712" ySize="5117" />
      <DstRect xOff="0" yOff="0" xSize="3712" ySize="5117" />
      <NODATA>0</NODATA>
    </ComplexSource>
    <ComplexSource>
      <SourceFilename relativeToVRT="1">Z3X0Y2/S45W176_3857_zeroToNull.vrt</SourceFilename>
      <SourceBand>1</SourceBand>
      <SourceProperties RasterXSize="3712" RasterYSize="5204" DataType="Float32" BlockXSize="512" BlockYSize="128" />
      <SrcRect xOff="0" yOff="0" xSize="3712" ySize="5204" />
      <DstRect xOff="3710.6496931091" yOff="5115.66611027389" xSize="3712" ySize="5204" />
      <NODATA>0</NODATA>
    </ComplexSource>
  </VRTRasterBand>
</VRTDataset>
